BEGIN:VCALENDAR
VERSION:2.0
PRODID:-//The Meditation Center - ECPv6.15.20//NONSGML v1.0//EN
CALSCALE:GREGORIAN
METHOD:PUBLISH
X-ORIGINAL-URL:https://themeditationcenter.org
X-WR-CALDESC:Events for The Meditation Center
REFRESH-INTERVAL;VALUE=DURATION:PT1H
X-Robots-Tag:noindex
X-PUBLISHED-TTL:PT1H
BEGIN:VTIMEZONE
TZID:UTC
BEGIN:STANDARD
TZOFFSETFROM:+0000
TZOFFSETTO:+0000
TZNAME:UTC
DTSTART:20160101T000000
END:STANDARD
END:VTIMEZONE
BEGIN:VEVENT
DTSTART;TZID=UTC:20170708T090000
DTEND;TZID=UTC:20170708T101500
DTSTAMP:20260422T062016
CREATED:20170503T012245Z
LAST-MODIFIED:20170503T012245Z
UID:4792-1499504400-1499508900@themeditationcenter.org
SUMMARY:Saturday AM: Slow Moving Yoga with Lynn Hasel from 9:00am - 10:30am
DESCRIPTION:Saturday AM: “Slow Moving Yoga” with Lynn Hasel from 9:00am – 10:30am\nPlease join Lynn Hasel\, RYT 500\,  for Slow-Moving Yoga on July 8 from 9:00 – 10:30 a.m \nThis class is gentle and safe for most individuals to undertake. \nSlow-Moving Yoga classes include Yin Yoga and Restorative poses. \nDuring the last pose\, Savasana\, participants enjoy a guided- meditation to further turn their attention inward\, for deep relaxation and rejuvenation \nLynn Hasel\, RYT 500\, Certified Ayurveda Practitioner\, ibeginnow.com \n  \nTime: 9:00am- 10:30am \nInstructor: Lynn Hasel \nDrop-in fee: $12.00/class \nDrop-In Hatha Classes (Ongoing) \nEveryone is Welcome \nThese classes are for all levels. Instructors excel at leading the class in relaxation\, gentle asana (yoga positions) and pranayama (breath). Relieve stress\, achy joints\, improve balance at all levels and increase your sense of well being. No registration necessary\, just show up. \n*No pre-registration necessary. Just show up for drop-ins! \n 
URL:https://themeditationcenter.org/class/saturday-integrated-hatha-drop-2017-07-08/
CATEGORIES:Classes,Yoga
ATTACH;FMTTYPE=image/jpeg:https://themeditationcenter.org/wp-content/uploads/2017/05/Lynn-_Hasel_Hatha_-1-1.jpg
END:VEVENT
BEGIN:VEVENT
DTSTART;TZID=UTC:20170708T103000
DTEND;TZID=UTC:20170708T113000
DTSTAMP:20260422T062016
CREATED:20170605T230936Z
LAST-MODIFIED:20170605T230936Z
UID:5211-1499509800-1499513400@themeditationcenter.org
SUMMARY:New in July...Summer Beginning Children's Yoga Class Saturdays: July 8 - July 29\, 2017
DESCRIPTION:New in July…Summer Beginning Children’s Yoga Class\n\n\nSaturdays: July 8 – July 29\, 2017\n10:30am – 11:30am\nCost: $40.00 \nRegister here.\n\n\nThis July The Meditation Center will be offering a Saturday beginning yoga class for children. It is designed especially for children ages 4 – 7 years old. Classes will include Hatha Yoga and breathing/relaxation techniques. \n\n\n Children’s Series Teacher Schedule\nJuly 08 – Lori Beron\nJuly 15 – Mary Bowman-Cline and and Saras Means\nJuly 22 – Barbra Bloy\nJuly 29 – Mary Bowman-Cline and  and Saras Means
URL:https://themeditationcenter.org/class/new-july-summer-beginning-childrens-yoga-class-saturdays-july-8-july-29-2017/2017-07-08/
CATEGORIES:Classes,Yoga
END:VEVENT
END:VCALENDAR