BEGIN:VCALENDAR
VERSION:2.0
PRODID:-//The Meditation Center - ECPv6.15.20//NONSGML v1.0//EN
CALSCALE:GREGORIAN
METHOD:PUBLISH
X-WR-CALNAME:The Meditation Center
X-ORIGINAL-URL:https://themeditationcenter.org
X-WR-CALDESC:Events for The Meditation Center
REFRESH-INTERVAL;VALUE=DURATION:PT1H
X-Robots-Tag:noindex
X-PUBLISHED-TTL:PT1H
BEGIN:VTIMEZONE
TZID:UTC
BEGIN:STANDARD
TZOFFSETFROM:+0000
TZOFFSETTO:+0000
TZNAME:UTC
DTSTART:20160101T000000
END:STANDARD
END:VTIMEZONE
BEGIN:VEVENT
DTSTART;TZID=UTC:20170709T100000
DTEND;TZID=UTC:20170709T120000
DTSTAMP:20260422T020356
CREATED:20170428T023547Z
LAST-MODIFIED:20170428T023547Z
UID:4751-1499594400-1499601600@themeditationcenter.org
SUMMARY:No Sunday Satsang:  At the Center with Michael Smith and Jim Nelson - Join the Guru Purnima Celebration Today
DESCRIPTION:No Sunday Satsang:   at the Center with Michael Smith and Jim Nelson 10:00am – 12 Noon – Guru Purnima Celebration Today\nTime:  10:00am – 12:00 Noon \nJim and Michael will continue the study of the Bhagavad Gita. \n  \nSunday Community Gathering (Satsang)\nSunday Satsang sessions are informal gatherings of people who are interested in refining their meditative practices and their lifestyles following the teachings of the Himalayan Yoga Tradition. \nSenior Teachers Jim Nelson and Michael Smith host each session: \n\nMeet from 10:00 AM – 12 Noon\n45-minute Guided Meditation\nPresentation and a Discussion\n\nThere are some Sundays when Sunday Satsang is not held or when other events and presentations replace the Sunday Satsang sessions. When that occurs\, we try to notify all interested people in advance on The Meditation Center website. \nTo receive personal email announcements from Michael about the status of the Sunday Satsang sessions and/or the focus of the week’s offerings\, please call The Meditation Center office at 612-379-2386. \n 
URL:https://themeditationcenter.org/class/sunday-satsang-center-michael-smith-jim-nelson-1000am-12-noon-2017-07-09/
CATEGORIES:Satsangs,Sunday Satsangs
ATTACH;FMTTYPE=image/jpeg:https://themeditationcenter.org/wp-content/uploads/2016/10/SR.-Perennial-Psychology-of-the-Bhagavad-Gita_wb-1-1.jpg
END:VEVENT
BEGIN:VEVENT
DTSTART;TZID=UTC:20170709T160000
DTEND;TZID=UTC:20170709T210000
DTSTAMP:20260422T020356
CREATED:20170428T025114Z
LAST-MODIFIED:20170428T025114Z
UID:4780-1499616000-1499634000@themeditationcenter.org
SUMMARY:Guru Purnima Celebration at The Meditation Center 2017
DESCRIPTION:Guru Purnima Celebration at The Meditation Center\n“Celebrating Guru Purnima is a joy beyond words\, a deep stillness that echoes a wholeness and holiness. A wholeness that provides the answers to our pursuits\, our yearnings and reveals a purpose for life. To live and to love with a heart unconditioned by conflict\, and a mind\, unified beyond division.” – Swami Ritavan Bharati \nGuru Purnima Events’ Schedule\nSunday\, July 9\, 2017 \n4:00pm – 5:00pm: Fire Ceremony (Havan) with Pandit Dabral officiating \n5:30pm – 7:00pm: Community and Family Supper \n7:30pm  – 8:45pm: Conversations and discussion with Pandit Dabral\, Swami Radha\, Swami Gita\, Michael Smith\,  Jim Nelson\, and the Community \n9:00pm – 10:00pm: Guru Purnima Full Moon Meditation\nMore information to come later. \n(Times subject to change) \nThere is an open invitation for all initiates\, members\, and students to come meditate\nat The Meditation Center on Guru Purnima.
URL:https://themeditationcenter.org/class/guru-purnima-celebration-meditation-center/
CATEGORIES:Special Events
ATTACH;FMTTYPE=image/jpeg:https://themeditationcenter.org/wp-content/uploads/2016/11/swami-rama-1-1-1.jpg
END:VEVENT
END:VCALENDAR