BEGIN:VCALENDAR
VERSION:2.0
PRODID:-//The Meditation Center - ECPv6.15.20//NONSGML v1.0//EN
CALSCALE:GREGORIAN
METHOD:PUBLISH
X-ORIGINAL-URL:https://themeditationcenter.org
X-WR-CALDESC:Events for The Meditation Center
REFRESH-INTERVAL;VALUE=DURATION:PT1H
X-Robots-Tag:noindex
X-PUBLISHED-TTL:PT1H
BEGIN:VTIMEZONE
TZID:UTC
BEGIN:STANDARD
TZOFFSETFROM:+0000
TZOFFSETTO:+0000
TZNAME:UTC
DTSTART:20160101T000000
END:STANDARD
END:VTIMEZONE
BEGIN:VEVENT
DTSTART;TZID=UTC:20170710T190000
DTEND;TZID=UTC:20170710T210000
DTSTAMP:20260423T012410
CREATED:20170706T014817Z
LAST-MODIFIED:20170706T014817Z
UID:5305-1499713200-1499720400@themeditationcenter.org
SUMMARY:"Purifying the Chakras with Bhuta Shuddhi" with Pandit Dabral - July 10 and July 11\, 2017
DESCRIPTION:“Purifying the Chakras with Bhuta Shuddhi” with Pandit Dabral\nWhen: July 10 and July 11\, 2017\nTime: 7:00pm – 9:00pm \nCost: $40.00 for both sessions \n            $25.00 for Monday’s session only \n            $25.00 for Tuesday’s session only \nRegister for both sessions. \nRegister for Monday only. \nRegister for Tuesday only. \nJoin us on the evenings of July 10 and 11\, 2017 for Pandit Dabral’s talks regarding the practice of Bhuta Shuddhi\, purifying the chakras. Registration coming soon. \nOver the course of two evenings Panditji will teach us this chakra meditation that is a tantric inner purification practice. Its purpose is to help purify basic elements of the body—earth\, water\, air\, fire\, and ether. The practice entails visualization\, pranayama\, and mantra repetition in their corresponding chakras. It helps clarify the mind\, unblock energy channels\, and harmonize the nervous system. Bhuta Shuddhi prepares students for more advanced Sri Vidya techniques and complements the new practice Swami Ritivan shared with initiates.
URL:https://themeditationcenter.org/class/purifying-chakras-bhuta-shuddhi-pandit-dabral-july-10-july-11-2017/2017-07-10/
CATEGORIES:Workshops
ATTACH;FMTTYPE=image/jpeg:https://themeditationcenter.org/wp-content/uploads/2016/06/PanditDabralSide-1-1.jpg
END:VEVENT
END:VCALENDAR