BEGIN:VCALENDAR
VERSION:2.0
PRODID:-//The Meditation Center - ECPv6.15.20//NONSGML v1.0//EN
CALSCALE:GREGORIAN
METHOD:PUBLISH
X-ORIGINAL-URL:https://themeditationcenter.org
X-WR-CALDESC:Events for The Meditation Center
REFRESH-INTERVAL;VALUE=DURATION:PT1H
X-Robots-Tag:noindex
X-PUBLISHED-TTL:PT1H
BEGIN:VTIMEZONE
TZID:UTC
BEGIN:STANDARD
TZOFFSETFROM:+0000
TZOFFSETTO:+0000
TZNAME:UTC
DTSTART:20160101T000000
END:STANDARD
END:VTIMEZONE
BEGIN:VEVENT
DTSTART;TZID=UTC:20170720T180000
DTEND;TZID=UTC:20170720T210000
DTSTAMP:20260423T000414
CREATED:20170523T233521Z
LAST-MODIFIED:20170523T233521Z
UID:5159-1500573600-1500584400@themeditationcenter.org
SUMMARY:Thursday Satsang: Meet the Mother: Yogis and the Goddess with Linda Johnsen - July 20\, 2017
DESCRIPTION:Thursday Satsang: Meet the Mother: Yogis and the Goddess with Linda Johnsen – July 20\, 2017\nIn the West anthropologists claim the Goddess tradition is used by primitive peoples to ensure fertility and good fortune.  Yet many Himalayan masters are Shaktas\, devotees of India’s Great Goddess.  Learn what yogis say the Goddess really is\, and how the power of consciousness (her shakti) can galvanize your spiritual life. \nWeekly Format: \n6:00 – 7:00:  Hatha Yoga for Everyone! ($10) \n7:00 – 7:30: Guided Meditation (free!) \n7:30 – 8:30: Inspiring Presentation and discussion (donation appreciated) \n8:30 – 9:00: Vegetarian soup (suggested donation $3) \n9:00:    Evening Prayers and Clean-up \nThere is no need to make reservations.  Simply show up and enjoy yourself!
URL:https://themeditationcenter.org/class/thursday-satsang-meet-mother-yogis-goddess-linda-johnsen-july-20-2017/
CATEGORIES:Satsangs,Thursday Satsangs
ATTACH;FMTTYPE=image/jpeg:https://themeditationcenter.org/wp-content/uploads/2017/05/Divine-Mother-at-SRSG_wp-1-1.jpg
END:VEVENT
END:VCALENDAR