BEGIN:VCALENDAR
VERSION:2.0
PRODID:-//The Meditation Center - ECPv6.15.20//NONSGML v1.0//EN
CALSCALE:GREGORIAN
METHOD:PUBLISH
X-WR-CALNAME:The Meditation Center
X-ORIGINAL-URL:https://themeditationcenter.org
X-WR-CALDESC:Events for The Meditation Center
REFRESH-INTERVAL;VALUE=DURATION:PT1H
X-Robots-Tag:noindex
X-PUBLISHED-TTL:PT1H
BEGIN:VTIMEZONE
TZID:UTC
BEGIN:STANDARD
TZOFFSETFROM:+0000
TZOFFSETTO:+0000
TZNAME:UTC
DTSTART:20160101T000000
END:STANDARD
END:VTIMEZONE
BEGIN:VEVENT
DTSTART;TZID=UTC:20170802T183000
DTEND;TZID=UTC:20170802T203000
DTSTAMP:20260423T071717
CREATED:20170712T225238Z
LAST-MODIFIED:20170712T225238Z
UID:5323-1501698600-1501705800@themeditationcenter.org
SUMMARY:Meditation I: Learning the Basics with Lori Beron and Eric Ness from 6:30pm – 8:30pm
DESCRIPTION:Meditation I: Learning the Basics with Lori Beron and Eric Ness\n\n\n\n\nSeries: Wednesdays: July 26– August 30\, 2017 \nTime:   6:30pm – 8:30pm\nInstructors: Lori Beron and Eric Ness \n\nFee: $75 \nRegister here. \nThis class introduces the student to the basics of meditation in the Himalayan Tradition. Relaxation techniques\, pranayama (yogic breath)\, ideal sitting postures\, and the use of mantra will be taught to help the student focus the mind and relax the body.  Beginning Raja yoga philosophy is also included in this class.  Treat yourself to the many benefits of a regular meditation practice.
URL:https://themeditationcenter.org/class/meditation-learning-basics-lori-beron-eric-ness-630pm-830pm-2017-08-02/
CATEGORIES:Classes,Meditation
ATTACH;FMTTYPE=image/png:https://themeditationcenter.org/wp-content/uploads/2017/07/meditation_wp-1-1.png
END:VEVENT
END:VCALENDAR