BEGIN:VCALENDAR
VERSION:2.0
PRODID:-//The Meditation Center - ECPv6.15.20//NONSGML v1.0//EN
CALSCALE:GREGORIAN
METHOD:PUBLISH
X-WR-CALNAME:The Meditation Center
X-ORIGINAL-URL:https://themeditationcenter.org
X-WR-CALDESC:Events for The Meditation Center
REFRESH-INTERVAL;VALUE=DURATION:PT1H
X-Robots-Tag:noindex
X-PUBLISHED-TTL:PT1H
BEGIN:VTIMEZONE
TZID:UTC
BEGIN:STANDARD
TZOFFSETFROM:+0000
TZOFFSETTO:+0000
TZNAME:UTC
DTSTART:20160101T000000
END:STANDARD
END:VTIMEZONE
BEGIN:VEVENT
DTSTART;TZID=UTC:20170805T090000
DTEND;TZID=UTC:20170805T101500
DTSTAMP:20260423T000115
CREATED:20170510T011301Z
LAST-MODIFIED:20170510T011301Z
UID:4984-1501923600-1501928100@themeditationcenter.org
SUMMARY:Saturday AM: Integrated Hatha (Drop-In) with Mary Bowman-Cline
DESCRIPTION:Saturday Mornings – Integrated Saturday Morning Hatha Drop-In Class\nTime: 9:00am- 10:15am \nInstructor: Mary Bowman-Cline \nDrop-in fee: $12.00/class \nDrop-In Hatha Classes (Ongoing) \nEveryone is Welcome \nThese classes are for all levels. Instructors excel at leading the class in relaxation\, gentle asana (yoga positions) and pranayama (breath). Relieve stress\, achy joints\, improve balance at all levels and increase your sense of well being. No registration necessary\, just show up. \n*No pre-registration necessary. Just show up for drop-ins!
URL:https://themeditationcenter.org/class/saturday-integrated-hatha-drop-2017-08-05/
CATEGORIES:Classes,Yoga
ATTACH;FMTTYPE=image/jpeg:https://themeditationcenter.org/wp-content/uploads/2016/06/backbend-1-1.jpg
END:VEVENT
END:VCALENDAR