BEGIN:VCALENDAR
VERSION:2.0
PRODID:-//The Meditation Center - ECPv6.15.20//NONSGML v1.0//EN
CALSCALE:GREGORIAN
METHOD:PUBLISH
X-WR-CALNAME:The Meditation Center
X-ORIGINAL-URL:https://themeditationcenter.org
X-WR-CALDESC:Events for The Meditation Center
REFRESH-INTERVAL;VALUE=DURATION:PT1H
X-Robots-Tag:noindex
X-PUBLISHED-TTL:PT1H
BEGIN:VTIMEZONE
TZID:America/Chicago
BEGIN:DAYLIGHT
TZOFFSETFROM:-0600
TZOFFSETTO:-0500
TZNAME:CDT
DTSTART:20210314T080000
END:DAYLIGHT
BEGIN:STANDARD
TZOFFSETFROM:-0500
TZOFFSETTO:-0600
TZNAME:CST
DTSTART:20211107T070000
END:STANDARD
BEGIN:DAYLIGHT
TZOFFSETFROM:-0600
TZOFFSETTO:-0500
TZNAME:CDT
DTSTART:20220313T080000
END:DAYLIGHT
BEGIN:STANDARD
TZOFFSETFROM:-0500
TZOFFSETTO:-0600
TZNAME:CST
DTSTART:20221106T070000
END:STANDARD
BEGIN:DAYLIGHT
TZOFFSETFROM:-0600
TZOFFSETTO:-0500
TZNAME:CDT
DTSTART:20230312T080000
END:DAYLIGHT
BEGIN:STANDARD
TZOFFSETFROM:-0500
TZOFFSETTO:-0600
TZNAME:CST
DTSTART:20231105T070000
END:STANDARD
END:VTIMEZONE
BEGIN:VEVENT
DTSTART;TZID=America/Chicago:20220201T000000
DTEND;TZID=America/Chicago:20220201T233000
DTSTAMP:20260420T135658
CREATED:20220117T202454Z
LAST-MODIFIED:20220117T202657Z
UID:18772-1643673600-1643758200@themeditationcenter.org
SUMMARY:Mauni Amavasya (Silence Day) - Tuesday\, February 1\, 2022
DESCRIPTION:Mauni Amavasya (Silence Day) – Tuesday\, February 1\, 2022\nDetails of events at The Meditation Center coming soon. \nMauni Amavasya (Silence Day) is an annual observance. The observation of Silence Day is a practice that Swami Veda Bharati invited us to practice. \nIn 2022\, Mauni Amavasya is 1st February. \nIn 2023\, Mauni Amavasya is 21st January. \nSwami Veda has said\, “…there is also an annual silence day in the traditions of India. It is called Mauni Amavasya. Mauni means ‘of or for silence’\, and amavasya means ‘no-moon day.’ \nIt occurs on the no-moon day of the Maagha month in the Hindu calendar when sun and moon are both supposed to enter the sign of Capricorn (makara rashi). \nIt is held in the tradition as the day when Manu\, the Archetypal Man first appeared on earth; he wedded Shata-roopa (She of a Hundred Beautiful Forms) and generated humankind.” \nHe has further explained that the practice of silence is not limited to Indian spiritual traditions only – “On the other hand\, if you prefer to be true to some western tradition you may research if there was a day sacred to Harpokrates\, the Greek god of silence whose statues have been found as far away as the Gandhara country (present day Afghanistan). Harpokrates was derived from the Egyptian god Harpa-khruti\, the child Horus\, representing the daily new born sun\, the source of light. \nOf course\, there is an amplitude of Christian saints who have taught silence and there are numerous monasteries of various orders dedicated to silence.” \nHe further has shared that – “…I would like many of my friends to set aside at least one day to share the silence with me just as you have shared the full moon day for an hour each month for more than a decade now. \n…If you plan from now\, you can arrange your worldly affairs in such a way that they do not interfere with your one-day vow of silence. \nOn that day\, no driving (except for emergencies)\, no TV\, no conversation\, just self-observation\, contemplation\, japa and learning (1) to give love in silence while (2) learning to love silence. \nMay I ask all our swamis\, initiators\, spiritual advisers\, teachers\, centre leaders to kindly popularize this concept and take this year to prepare the people to undertake this one-day vow of silence.” \nThis sacred day is celebrated at SRSG by all ashramites and visiting sadhakas as well as globally by the AHYMSIN community. \nText Courtesy of AHYMSIN.org \n 
URL:https://themeditationcenter.org/class/mauni-amavasya-silence-day-february-1-2022/
CATEGORIES:Special Events
ATTACH;FMTTYPE=image/png:https://themeditationcenter.org/wp-content/uploads/2021/02/unnamed.png
END:VEVENT
END:VCALENDAR