BEGIN:VCALENDAR
VERSION:2.0
PRODID:-//The Meditation Center - ECPv6.15.20//NONSGML v1.0//EN
CALSCALE:GREGORIAN
METHOD:PUBLISH
X-ORIGINAL-URL:https://themeditationcenter.org
X-WR-CALDESC:Events for The Meditation Center
REFRESH-INTERVAL;VALUE=DURATION:PT1H
X-Robots-Tag:noindex
X-PUBLISHED-TTL:PT1H
BEGIN:VTIMEZONE
TZID:America/Chicago
BEGIN:DAYLIGHT
TZOFFSETFROM:-0600
TZOFFSETTO:-0500
TZNAME:CDT
DTSTART:20210314T080000
END:DAYLIGHT
BEGIN:STANDARD
TZOFFSETFROM:-0500
TZOFFSETTO:-0600
TZNAME:CST
DTSTART:20211107T070000
END:STANDARD
BEGIN:DAYLIGHT
TZOFFSETFROM:-0600
TZOFFSETTO:-0500
TZNAME:CDT
DTSTART:20220313T080000
END:DAYLIGHT
BEGIN:STANDARD
TZOFFSETFROM:-0500
TZOFFSETTO:-0600
TZNAME:CST
DTSTART:20221106T070000
END:STANDARD
BEGIN:DAYLIGHT
TZOFFSETFROM:-0600
TZOFFSETTO:-0500
TZNAME:CDT
DTSTART:20230312T080000
END:DAYLIGHT
BEGIN:STANDARD
TZOFFSETFROM:-0500
TZOFFSETTO:-0600
TZNAME:CST
DTSTART:20231105T070000
END:STANDARD
END:VTIMEZONE
BEGIN:VEVENT
DTSTART;TZID=America/Chicago:20220203T190000
DTEND;TZID=America/Chicago:20220203T210000
DTSTAMP:20260420T013124
CREATED:20220202T223059Z
LAST-MODIFIED:20220202T223238Z
UID:18788-1643914800-1643922000@themeditationcenter.org
SUMMARY:Thursday Satsang Via Zoom: "Cultivating a Sense of Beauty in Life\, in Being\, and in Our Sadhana" with Stephen Parker (Stoma) Psy.D.\, E-RYT 500 - 7:00 p.m. - 8:30 p.m.
DESCRIPTION:Thursday Satsang Via Zoom\nFebruary 3\, 2022\n\n“Cultivating a Sense of Beauty in Life\, in Being\, and in Our Sadhana”\nwith Stephen Parker (Stoma) Psy.D.\, E-RYT 500\n7:00 p.m. – 8:30 p.m.\nTo receive the zoom link for this event\, please subscribe to The Meditation Center’s e-newsletter on the home page of this website.\n7:00 p.m.: Meditation with Stephen Parker Psy.D.\, E-RYT 500\n7:30-8:30 p.m.: Talk by Stephen Parker Psy.D.\, E-RYT 500\n8:30 p.m.: Evening Prayers\n  \nJoin Stoma on Thursday as he talks about how to cultivate a sense of beauty in Life\, in Being\, in our sadhana and our practices with the  accompanying expansion of self to Self. \nDonate and register here. \nDr. Stephen Parker was initiated in the Himalayan Yoga tradition by Swami Veda Bharati and was given the initiate name Stoma in 1971. Among the first teachers certified by the Himalayan International Teachers’ Association\, H.I.T.A.\, he began teaching hatha yoga in 1974. During that time he also studied Sanskrit with Swami Veda and South Asian languages and culture for his B.A. at the University of Minnesota.\n\nStoma is an Experienced Registered Yoga Teacher at the 500-hour level of the Yoga Alliance (E-RYT 500). A member of the International Association of Y.T.\, he serves on the faculties of the Meditation Center in Minneapolis and the Sadhaka Grama ashram in Rishikesh\, India. He is also a senior faculty member of the Himalayan Yoga Tradition Teachers’ Training Program. He has lectured on yoga\, meditation\, yoga psychology\, and spiritual practice in the U.S. and Canada as well as in Caribbean countries\, Holland\, Italy\, Austria\, Hungary\, Lithuania\, South Africa\, Korea\, Hong Kong\, and India. In 2004 he helped originate and teach the first course on yoga in an American medical school at the University of Minnesota Academic Medical Center. In 2007 he received preliminary vows of renunciation from Swami Veda and the Shankaracharya of Karvirapitha.\n\nStoma has been a licensed psychologist in private practice in St. Paul\, MN since 1985. He also serves as Adjunct Assistant School Professor of Counseling and Psychological Services at Saint Mary’s University of Minnesota and Adjunct Assistant Professor in the Graduate School of Professional Psychology at the University of St. Thomas in Minneapolis\, MN. He teaches on the faculty of the Introductory Workshops of the Minnesota Society of Clinical Hypnosis. In addition to authoring journal articles and book chapters\, Dr. Parker edited volume two of Swami Veda’s definitive scholarly work on the “Yoga-Sutras of Patanjali” and he has been a peer review editor for the “Journal of Men’s Studies\,” the “American Journal of Orthopsychiatry\,” the I”nternational Journal of Yoga T. and Yoga Mimamsa.” He is also the author of “Clearing the Path\, The Yoga Way to a Clear and Pleasant Mind: Yoga\, Neuroscience and Emotion” (2017) published by AHYMSA publishers.\n\n\nTo support the work of The Meditation Center and register you can donate here (suggested donation $15.00) for Thursday Satsang or make a general donation by clicking on the “donate” button on the “Support TMC” website page.\n\nOr donate through PayPal.
URL:https://themeditationcenter.org/class/thursday-satsang-via-zoom-cultivating-a-sense-of-beauty-in-life-in-being-and-in-our-sadhana-with-stephen-parker-stoma-psy-d-e-ryt-500-700-p-m-830-p-m/
CATEGORIES:Thursday Satsangs
ATTACH;FMTTYPE=image/jpeg:https://themeditationcenter.org/wp-content/uploads/2019/04/heartbeat-mandala-1-e1739388253489.jpg
END:VEVENT
END:VCALENDAR