BEGIN:VCALENDAR
VERSION:2.0
PRODID:-//The Meditation Center - ECPv6.15.20//NONSGML v1.0//EN
CALSCALE:GREGORIAN
METHOD:PUBLISH
X-WR-CALNAME:The Meditation Center
X-ORIGINAL-URL:https://themeditationcenter.org
X-WR-CALDESC:Events for The Meditation Center
REFRESH-INTERVAL;VALUE=DURATION:PT1H
X-Robots-Tag:noindex
X-PUBLISHED-TTL:PT1H
BEGIN:VTIMEZONE
TZID:America/Chicago
BEGIN:DAYLIGHT
TZOFFSETFROM:-0600
TZOFFSETTO:-0500
TZNAME:CDT
DTSTART:20210314T080000
END:DAYLIGHT
BEGIN:STANDARD
TZOFFSETFROM:-0500
TZOFFSETTO:-0600
TZNAME:CST
DTSTART:20211107T070000
END:STANDARD
BEGIN:DAYLIGHT
TZOFFSETFROM:-0600
TZOFFSETTO:-0500
TZNAME:CDT
DTSTART:20220313T080000
END:DAYLIGHT
BEGIN:STANDARD
TZOFFSETFROM:-0500
TZOFFSETTO:-0600
TZNAME:CST
DTSTART:20221106T070000
END:STANDARD
BEGIN:DAYLIGHT
TZOFFSETFROM:-0600
TZOFFSETTO:-0500
TZNAME:CDT
DTSTART:20230312T080000
END:DAYLIGHT
BEGIN:STANDARD
TZOFFSETFROM:-0500
TZOFFSETTO:-0600
TZNAME:CST
DTSTART:20231105T070000
END:STANDARD
END:VTIMEZONE
BEGIN:VEVENT
DTSTART;TZID=America/Chicago:20220216T210000
DTEND;TZID=America/Chicago:20220216T220000
DTSTAMP:20260422T091609
CREATED:20220208T231504Z
LAST-MODIFIED:20220208T231555Z
UID:18808-1645045200-1645048800@themeditationcenter.org
SUMMARY:Full Moon Meditation on Wednesday\, February 16\, 2022 from 9:00 p.m. - 10:00 p.m.
DESCRIPTION:Full Moon Meditation\nWednesday\, February 16\, 2022\n9:00 p.m. – 10:00 p.m.\n\nSwami Ritavan invites you to join us for a group meditation starting at 9 o’clock in the evening. Meditate wherever you are at that time.\n\nSwami Ritavan Bharati has said\, “The full moon meditations are an opportunity for us to come together in connecting with the universal mind-field bringing unity\, harmony\, peace\, and love. Go into your silence; exhale-release\, inhale-accept\, forgive and fulfill\, with purified heart and mind receive the blessings of the Lineage.”
URL:https://themeditationcenter.org/class/18808/
CATEGORIES:Full Moon Meditation
ATTACH;FMTTYPE=image/jpeg:https://themeditationcenter.org/wp-content/uploads/2019/01/pexels-photo-326117_winter_full_moon_WP-1.jpg
END:VEVENT
END:VCALENDAR