BEGIN:VCALENDAR
VERSION:2.0
PRODID:-//The Meditation Center - ECPv6.15.20//NONSGML v1.0//EN
CALSCALE:GREGORIAN
METHOD:PUBLISH
X-WR-CALNAME:The Meditation Center
X-ORIGINAL-URL:https://themeditationcenter.org
X-WR-CALDESC:Events for The Meditation Center
REFRESH-INTERVAL;VALUE=DURATION:PT1H
X-Robots-Tag:noindex
X-PUBLISHED-TTL:PT1H
BEGIN:VTIMEZONE
TZID:America/Chicago
BEGIN:DAYLIGHT
TZOFFSETFROM:-0600
TZOFFSETTO:-0500
TZNAME:CDT
DTSTART:20210314T080000
END:DAYLIGHT
BEGIN:STANDARD
TZOFFSETFROM:-0500
TZOFFSETTO:-0600
TZNAME:CST
DTSTART:20211107T070000
END:STANDARD
BEGIN:DAYLIGHT
TZOFFSETFROM:-0600
TZOFFSETTO:-0500
TZNAME:CDT
DTSTART:20220313T080000
END:DAYLIGHT
BEGIN:STANDARD
TZOFFSETFROM:-0500
TZOFFSETTO:-0600
TZNAME:CST
DTSTART:20221106T070000
END:STANDARD
BEGIN:DAYLIGHT
TZOFFSETFROM:-0600
TZOFFSETTO:-0500
TZNAME:CDT
DTSTART:20230312T080000
END:DAYLIGHT
BEGIN:STANDARD
TZOFFSETFROM:-0500
TZOFFSETTO:-0600
TZNAME:CST
DTSTART:20231105T070000
END:STANDARD
END:VTIMEZONE
BEGIN:VEVENT
DTSTART;TZID=America/Chicago:20220217T190000
DTEND;TZID=America/Chicago:20220217T203000
DTSTAMP:20260419T105446
CREATED:20220208T233913Z
LAST-MODIFIED:20220208T233913Z
UID:18809-1645124400-1645129800@themeditationcenter.org
SUMMARY:Thursday Satsang via Zoom: Valentine Week Kirtan\, “A Celebration of the Ancient Traveler...Love” with Chris Young - February 17\, 2022
DESCRIPTION:Thursday Satsang via Zoom – February 17\, 2022\nValentine Week Kirtan…\n“A Celebration of the Ancient Traveler…Love”\nwith Chris Young\nTo receive the zoom link for this event\, please subscribe  to The Meditation Center’s e-newsletter on the home page of this website.\n\n\n\n\n\n\n\n\n\n7:00 p.m.: Meditation with Swami Radha Bharati\n7:30-8:30 p.m.: Kirtan with Chris Young\n8:30 p.m.: Evening Prayers\n\n\n\n\n\nJoin us for an evening of kirtan and chanting with Chris Young to celebrate Love\, the ancient traveler. \n\n\nJoin Chris in this kirtan\, it being an opportunity\, a vehicle\, to receive an experience of Beauty; a time to drop the worry and the hurry\, set aside the intellect\, and simply be… with people who are beautiful\, in a setting that is beautiful\, and with beautiful music.\n\n“Kirtan is a spiritual practice that originated in India centuries ago. The word “kirtan” means singing\, chanting\, and praising the Divine. It is a sacred practice anyone can do; no special training is required. The music does the work for you\, carrying you to a state of tremendous joy and mental clarity…\n\n\n\n…But the most important instrument in kirtan is the voice\,’There is a sacredness in everyone’s voice. It is like hearing your own soul’\, shares Milwaukee-based kirtan wallah Ragani. who leads one of the largest ongoing monthly kirtan events in North America. Your voice comes from within; it is uniquely yours. Unlike an instrument which acts on you\, emanating from the outside in\, the voice acts internally\, emanating from the inside out. When you sing kirtan\, you can literally feel the sound resonating inside you. ‘massaging’ your inner organs with sacred mantras…”\n\n(Kirtan! Chanting as a Spiritual Path. pages 7 and 9)\n\n 
URL:https://themeditationcenter.org/class/thursday-satsang-via-zoom-valentine-week-kirtan-a-celebration-of-the-ancient-traveler-love-with-chris-young-february-17-2022/
CATEGORIES:Thursday Satsangs
ATTACH;FMTTYPE=image/jpeg:https://themeditationcenter.org/wp-content/uploads/2019/04/heartbeat-mandala-1-e1739388253489.jpg
END:VEVENT
END:VCALENDAR