BEGIN:VCALENDAR
VERSION:2.0
PRODID:-//The Meditation Center - ECPv6.15.20//NONSGML v1.0//EN
CALSCALE:GREGORIAN
METHOD:PUBLISH
X-ORIGINAL-URL:https://themeditationcenter.org
X-WR-CALDESC:Events for The Meditation Center
REFRESH-INTERVAL;VALUE=DURATION:PT1H
X-Robots-Tag:noindex
X-PUBLISHED-TTL:PT1H
BEGIN:VTIMEZONE
TZID:America/Chicago
BEGIN:DAYLIGHT
TZOFFSETFROM:-0600
TZOFFSETTO:-0500
TZNAME:CDT
DTSTART:20210314T080000
END:DAYLIGHT
BEGIN:STANDARD
TZOFFSETFROM:-0500
TZOFFSETTO:-0600
TZNAME:CST
DTSTART:20211107T070000
END:STANDARD
BEGIN:DAYLIGHT
TZOFFSETFROM:-0600
TZOFFSETTO:-0500
TZNAME:CDT
DTSTART:20220313T080000
END:DAYLIGHT
BEGIN:STANDARD
TZOFFSETFROM:-0500
TZOFFSETTO:-0600
TZNAME:CST
DTSTART:20221106T070000
END:STANDARD
BEGIN:DAYLIGHT
TZOFFSETFROM:-0600
TZOFFSETTO:-0500
TZNAME:CDT
DTSTART:20230312T080000
END:DAYLIGHT
BEGIN:STANDARD
TZOFFSETFROM:-0500
TZOFFSETTO:-0600
TZNAME:CST
DTSTART:20231105T070000
END:STANDARD
END:VTIMEZONE
BEGIN:VEVENT
DTSTART;TZID=America/Chicago:20220311T190000
DTEND;TZID=America/Chicago:20220311T200000
DTSTAMP:20260422T123546
CREATED:20220310T152915Z
LAST-MODIFIED:20220310T160226Z
UID:18858-1647025200-1647028800@themeditationcenter.org
SUMMARY:New AHYMSIN Community Mantra Japa Practice via Zoom with Chris Young - March 11\, 2022 at 7:00 p.m.
DESCRIPTION:New AHYMSIN Community Mantra Japa Practice via Zoom\nwith Chris Young\n\nFriday\, March 11 \, 2022\nTime: 7:00 p.m. CST\nWe will meet every other Friday to recite the new mantra  together.\n  \nOur new AHYMSIN Sangha Mantra will be the Ganesha Gayatri Mantra.\n\nॐ तत्-पुरुषाय विद्महे\nवक्रतुण्डाय धीमहि ।\nतन्नो दन्ती प्रचोदयात्॥\n\nOm tat-puruṣāya vidmahe\nVakratuṇḍāya dhīmahi ।\nTanno dantī pracodayāt ॥\n\nFor those that would like to practice together the japa of the new mantra\, which was announced by Emilio Bettaglio during Thursday Satsang on February 24th\, we will meet every other Friday with Chris Young via Zoom. Chris will guide us in the recitation of 3 malas of the new mantra.
URL:https://themeditationcenter.org/class/new-ahymsin-community-mantra-japa-practice-via-zoom-with-chris-young-march-11-2022-at-700-p-m/
CATEGORIES:Special Events
ATTACH;FMTTYPE=image/jpeg:https://themeditationcenter.org/wp-content/uploads/2016/07/mala-stone-large-1-1.jpg
END:VEVENT
END:VCALENDAR