BEGIN:VCALENDAR
VERSION:2.0
PRODID:-//The Meditation Center - ECPv6.15.20//NONSGML v1.0//EN
CALSCALE:GREGORIAN
METHOD:PUBLISH
X-ORIGINAL-URL:https://themeditationcenter.org
X-WR-CALDESC:Events for The Meditation Center
REFRESH-INTERVAL;VALUE=DURATION:PT1H
X-Robots-Tag:noindex
X-PUBLISHED-TTL:PT1H
BEGIN:VTIMEZONE
TZID:America/Chicago
BEGIN:DAYLIGHT
TZOFFSETFROM:-0600
TZOFFSETTO:-0500
TZNAME:CDT
DTSTART:20210314T080000
END:DAYLIGHT
BEGIN:STANDARD
TZOFFSETFROM:-0500
TZOFFSETTO:-0600
TZNAME:CST
DTSTART:20211107T070000
END:STANDARD
BEGIN:DAYLIGHT
TZOFFSETFROM:-0600
TZOFFSETTO:-0500
TZNAME:CDT
DTSTART:20220313T080000
END:DAYLIGHT
BEGIN:STANDARD
TZOFFSETFROM:-0500
TZOFFSETTO:-0600
TZNAME:CST
DTSTART:20221106T070000
END:STANDARD
BEGIN:DAYLIGHT
TZOFFSETFROM:-0600
TZOFFSETTO:-0500
TZNAME:CDT
DTSTART:20230312T080000
END:DAYLIGHT
BEGIN:STANDARD
TZOFFSETFROM:-0500
TZOFFSETTO:-0600
TZNAME:CST
DTSTART:20231105T070000
END:STANDARD
END:VTIMEZONE
BEGIN:VEVENT
DTSTART;TZID=America/Chicago:20220319T093000
DTEND;TZID=America/Chicago:20220319T110000
DTSTAMP:20260419T104916
CREATED:20220315T151105Z
LAST-MODIFIED:20220322T204211Z
UID:18868-1647682200-1647687600@themeditationcenter.org
SUMMARY:Saturday Morning Hybrid Drop-In Gentle Hatha Yoga Class with Nicole Roberts - Occurs Weekly
DESCRIPTION:Saturday Morning Hybrid Drop-In\nGentle Hatha Yoga Class with Nicole Roberts\n9:30 a.m. – 11:00 a.m. CDT\nFee: $12.00\n\nSection 1: In-Person\n\nRegister Here for In-Person Option\n\nSection 2: Via Zoom\n\nRegister  here for Zoom Option\n\nThese classes are for all levels. Instructors excel at leading the class in relaxation\, gentle asana (yoga positions) and pranayama (breath). Relieve stress\, achy joints\, improve balance at all levels and increase your sense of well-being.\n\nNicole Roberts is the current resident and caretaker at The Meditation Center. Nicole has been guiding hatha yoga since 2010 and is 250-RYT certified with Yoga Alliance. She trained in the Jivamukti yoga lineage and the Himalayan Tradition yoga meditation lineage. Nicole was initiated in 2016 in the Himalayan Tradition. Nicole is part of our DEI team teaching outreach hatha classes. Nicole has guided the gentle hatha class on Thursday evenings and Saturday mornings.
URL:https://themeditationcenter.org/class/saturday-morning-hybrid-drop-in-gentle-hatha-yoga-class-with-nicole-roberts-occurs-weekly/
CATEGORIES:Classes,Hatha Yoga
ATTACH;FMTTYPE=image/jpeg:https://themeditationcenter.org/wp-content/uploads/2022/03/Nicole_Portrait.jpg
END:VEVENT
END:VCALENDAR