BEGIN:VCALENDAR
VERSION:2.0
PRODID:-//The Meditation Center - ECPv6.15.20//NONSGML v1.0//EN
CALSCALE:GREGORIAN
METHOD:PUBLISH
X-ORIGINAL-URL:https://themeditationcenter.org
X-WR-CALDESC:Events for The Meditation Center
REFRESH-INTERVAL;VALUE=DURATION:PT1H
X-Robots-Tag:noindex
X-PUBLISHED-TTL:PT1H
BEGIN:VTIMEZONE
TZID:America/Chicago
BEGIN:DAYLIGHT
TZOFFSETFROM:-0600
TZOFFSETTO:-0500
TZNAME:CDT
DTSTART:20220313T080000
END:DAYLIGHT
BEGIN:STANDARD
TZOFFSETFROM:-0500
TZOFFSETTO:-0600
TZNAME:CST
DTSTART:20221106T070000
END:STANDARD
BEGIN:DAYLIGHT
TZOFFSETFROM:-0600
TZOFFSETTO:-0500
TZNAME:CDT
DTSTART:20230312T080000
END:DAYLIGHT
BEGIN:STANDARD
TZOFFSETFROM:-0500
TZOFFSETTO:-0600
TZNAME:CST
DTSTART:20231105T070000
END:STANDARD
BEGIN:DAYLIGHT
TZOFFSETFROM:-0600
TZOFFSETTO:-0500
TZNAME:CDT
DTSTART:20240310T080000
END:DAYLIGHT
BEGIN:STANDARD
TZOFFSETFROM:-0500
TZOFFSETTO:-0600
TZNAME:CST
DTSTART:20241103T070000
END:STANDARD
END:VTIMEZONE
BEGIN:VEVENT
DTSTART;TZID=America/Chicago:20230603T080000
DTEND;TZID=America/Chicago:20230603T093000
DTSTAMP:20260422T050951
CREATED:20230511T000229Z
LAST-MODIFIED:20230511T180027Z
UID:20276-1685779200-1685784600@themeditationcenter.org
SUMMARY:Saturday Special Healing Arts Program with Nikki Strong June 3-July 1\, 2023 - 5-Week Elixir Light Qigong and Wudang Style Tai Chi Classes via Zoom
DESCRIPTION:Registration \n  \nRegister here for Elixir Light Qigong Only (5 classes): $36.00\n\nRegister here for Wudang Style Tai Chi Only (5 classes): $36.00\n\nRegister here for both Qigong and Tai Chi series (10 classes): $60.00\n\nRegister here for Special Bundle:  Saturday\, the 27th\, workshop plus both Qigong and Tai Chi 5-week series plus a remote or in-person one-on-one Qigong healing session: $108.00\n 
URL:https://themeditationcenter.org/class/saturday-special-healing-arts-program-with-nikki-strong-june-3-july-1-2023-5-week-elixir-light-qigong-and-wudang-style-tai-chi-classes-via-zoom/2023-06-03/
CATEGORIES:Workshops
ATTACH;FMTTYPE=image/png:https://themeditationcenter.org/wp-content/uploads/2023/05/Screen-Shot-2023-05-10-at-12.35.11-PM.png
END:VEVENT
BEGIN:VEVENT
DTSTART;TZID=America/Chicago:20230603T210000
DTEND;TZID=America/Chicago:20230603T220000
DTSTAMP:20260422T050951
CREATED:20230413T195451Z
LAST-MODIFIED:20230413T195451Z
UID:20207-1685826000-1685829600@themeditationcenter.org
SUMMARY:Global Full Moon Meditation - Will Begin Guided by Swami Ma Radha Bharati - June 3\, 2023\, 9:00-10:00 p.m.
DESCRIPTION:Saturday\, June 3\, 2023\nVia Zoom\nGlobal Full Moon Meditation\n9:00-10:00 p.m. CDT\n\nThis Full Moon Meditation will begin guided by Swami Ma Radha Bharati\,\nthen followed by a silent meditation until 10:00 p.m.\nSwami Ritavan Bharati has said\, “The full moon meditations are an opportunity for us to come together in connecting with the universal mind-field bringing unity\, harmony\, peace\, and love. Go into your silence; exhale-release\, inhale-accept\, forgive and fulfill\, with purified heart and mind receive the blessings of the Lineage.”\n\n“You are lovingly invited to sit in meditation for an hour wherever you are\, in your home or with friends. Total beginners and longtime practitioners\, non-initiates and initiates are welcome. If you cannot sit for the entire hour\, sit as long as you are able; as Swami Veda has said\, ‘Let the quietness of the mind continue even after you rise..'” (Courtesy of AHYMSIN.org January 2023 newsletter).\n\nEveryone is welcome!
URL:https://themeditationcenter.org/class/global-full-moon-meditation-will-begin-guided-by-swami-ma-radha-bharati-june-3-2023-900-1000-p-m/
CATEGORIES:Full Moon Meditation
END:VEVENT
END:VCALENDAR