BEGIN:VCALENDAR
VERSION:2.0
PRODID:-//The Meditation Center - ECPv6.15.20//NONSGML v1.0//EN
CALSCALE:GREGORIAN
METHOD:PUBLISH
X-ORIGINAL-URL:https://themeditationcenter.org
X-WR-CALDESC:Events for The Meditation Center
REFRESH-INTERVAL;VALUE=DURATION:PT1H
X-Robots-Tag:noindex
X-PUBLISHED-TTL:PT1H
BEGIN:VTIMEZONE
TZID:America/Chicago
BEGIN:DAYLIGHT
TZOFFSETFROM:-0600
TZOFFSETTO:-0500
TZNAME:CDT
DTSTART:20220313T080000
END:DAYLIGHT
BEGIN:STANDARD
TZOFFSETFROM:-0500
TZOFFSETTO:-0600
TZNAME:CST
DTSTART:20221106T070000
END:STANDARD
BEGIN:DAYLIGHT
TZOFFSETFROM:-0600
TZOFFSETTO:-0500
TZNAME:CDT
DTSTART:20230312T080000
END:DAYLIGHT
BEGIN:STANDARD
TZOFFSETFROM:-0500
TZOFFSETTO:-0600
TZNAME:CST
DTSTART:20231105T070000
END:STANDARD
BEGIN:DAYLIGHT
TZOFFSETFROM:-0600
TZOFFSETTO:-0500
TZNAME:CDT
DTSTART:20240310T080000
END:DAYLIGHT
BEGIN:STANDARD
TZOFFSETFROM:-0500
TZOFFSETTO:-0600
TZNAME:CST
DTSTART:20241103T070000
END:STANDARD
END:VTIMEZONE
BEGIN:VEVENT
DTSTART;TZID=America/Chicago:20230608T190000
DTEND;TZID=America/Chicago:20230608T203000
DTSTAMP:20260420T200628
CREATED:20230511T155610Z
LAST-MODIFIED:20230511T155610Z
UID:20284-1686250800-1686256200@themeditationcenter.org
SUMMARY:Thursday Satsang In-Person and Via Zoom: Sutras of The Inner Teacher: The Yoga of the Centre of Consciousness"\, A discussion with Rodney Huff (Rajni) to honor Dr. Martin Jerry - June 8\, 2023
DESCRIPTION:Thursday Satsang in-Person and Via Zoom – June 8\, 2023\nSutras of The Inner Teacher: The Yoga of the Centre of Consciousness“\,\nA discussion with Rodney Huff (Rajni) to honor Dr. Martin Jerry.\n7:00 p.m. – 8:30 p.m.\nDetails to come.
URL:https://themeditationcenter.org/class/thursday-satsang-in-person-and-via-zoom-sutras-of-the-inner-teacher-the-yoga-of-the-centre-of-consciousness-a-discussion-with-rodney-huff-rajni-to-honor-dr-martin-jerry-june-8-2023/
CATEGORIES:Thursday Satsangs
END:VEVENT
END:VCALENDAR