BEGIN:VCALENDAR
VERSION:2.0
PRODID:-//The Meditation Center - ECPv6.15.20//NONSGML v1.0//EN
CALSCALE:GREGORIAN
METHOD:PUBLISH
X-WR-CALNAME:The Meditation Center
X-ORIGINAL-URL:https://themeditationcenter.org
X-WR-CALDESC:Events for The Meditation Center
REFRESH-INTERVAL;VALUE=DURATION:PT1H
X-Robots-Tag:noindex
X-PUBLISHED-TTL:PT1H
BEGIN:VTIMEZONE
TZID:America/Chicago
BEGIN:DAYLIGHT
TZOFFSETFROM:-0600
TZOFFSETTO:-0500
TZNAME:CDT
DTSTART:20220313T080000
END:DAYLIGHT
BEGIN:STANDARD
TZOFFSETFROM:-0500
TZOFFSETTO:-0600
TZNAME:CST
DTSTART:20221106T070000
END:STANDARD
BEGIN:DAYLIGHT
TZOFFSETFROM:-0600
TZOFFSETTO:-0500
TZNAME:CDT
DTSTART:20230312T080000
END:DAYLIGHT
BEGIN:STANDARD
TZOFFSETFROM:-0500
TZOFFSETTO:-0600
TZNAME:CST
DTSTART:20231105T070000
END:STANDARD
BEGIN:DAYLIGHT
TZOFFSETFROM:-0600
TZOFFSETTO:-0500
TZNAME:CDT
DTSTART:20240310T080000
END:DAYLIGHT
BEGIN:STANDARD
TZOFFSETFROM:-0500
TZOFFSETTO:-0600
TZNAME:CST
DTSTART:20241103T070000
END:STANDARD
END:VTIMEZONE
BEGIN:VEVENT
DTSTART;TZID=America/Chicago:20230612T183000
DTEND;TZID=America/Chicago:20230612T200000
DTSTAMP:20260422T091759
CREATED:20230427T180944Z
LAST-MODIFIED:20230427T183427Z
UID:20241-1686594600-1686600000@themeditationcenter.org
SUMMARY:Meditation II Hybrid Class - Superconscious Meditation: Mondays: June 12\, 19\, 26\, July 10 and 17\, 2023
DESCRIPTION:Meditation II Hybrid Class – Superconscious Meditation\nMondays: June 12\, 19\, 26\, July 10 and 17\, 2023\nThere will be no class on July 3\, 2023\,  Guru Purnima\, the July Full Moon celebration.\nInstructors: Lori Beron and Paul Emerson\, Ph.D.\n6:30 p.m.- 8:15 p.m.\nSection 1: (live at the Meditation Center\, can zoom when you can’t make it)\nSection 2 (zoom only)\nRegister here.\n\nMeditation II focuses on powerful and practical yoga practices that quiet and focus the mind; decreasing our emotional reactivity which often creates stress and pain in our relationships. Students will also receive 8 free CD’s or MP3’s of Swami Veda’s penetrating and inspiring lectures on yoga psychology and philosophy. These audios create an interactive atmosphere for discussion of questions and insights generated by the lectures. \nLori Beron is an initiate and certified teacher through the Himalayan Yoga Tradition as well as a Certified Holistic Nurse\, she has an MA in Holistic Health Studies and is employed as an RN on a surgical oncology unit at the University of Minnesota Health.\n\nLori took a 3-year Vanaprastha Vow from Swami Veda Bharati during the 2013 Sangha Gathering. (Vanaprastha-a stage in life where one lessens worldly attachments.)\n\n\nPaul Emerson\, Ph.D. is a biomedical engineer who has worked on dialysis\, respiratory and cardiac products. At various times he has been a research scientist\, manager of clinical research with a major biomedical company\, software engineer and a university instructor. He holds 12 patents in the areas of dialysis\, sleep therapy and implantable cardiac devices. For the Meditation Center he has been the local go-to person on the physiology of breathing and is a scholar of the ancient yogic texts. He has been teaching yoga and related subjects since 1976 and was certified in 1980 by the Rockford School of Yoga.\n\n\n\nAfter you sign-up for the class on the The Meditation Center’s website\, a Zoom registration link (to join the meeting) will be sent to you the day before the first class begins.
URL:https://themeditationcenter.org/class/meditation-ii-hybrid-class-superconscious-meditation-mondays-june-12-19-26-july-10-and-17-2023/2023-06-12/
CATEGORIES:Classes,Meditation
ATTACH;FMTTYPE=image/jpeg:https://themeditationcenter.org/wp-content/uploads/2021/10/two-meditators-2.jpg
END:VEVENT
END:VCALENDAR