BEGIN:VCALENDAR
VERSION:2.0
PRODID:-//The Meditation Center - ECPv6.15.20//NONSGML v1.0//EN
CALSCALE:GREGORIAN
METHOD:PUBLISH
X-WR-CALNAME:The Meditation Center
X-ORIGINAL-URL:https://themeditationcenter.org
X-WR-CALDESC:Events for The Meditation Center
REFRESH-INTERVAL;VALUE=DURATION:PT1H
X-Robots-Tag:noindex
X-PUBLISHED-TTL:PT1H
BEGIN:VTIMEZONE
TZID:America/Chicago
BEGIN:DAYLIGHT
TZOFFSETFROM:-0600
TZOFFSETTO:-0500
TZNAME:CDT
DTSTART:20220313T080000
END:DAYLIGHT
BEGIN:STANDARD
TZOFFSETFROM:-0500
TZOFFSETTO:-0600
TZNAME:CST
DTSTART:20221106T070000
END:STANDARD
BEGIN:DAYLIGHT
TZOFFSETFROM:-0600
TZOFFSETTO:-0500
TZNAME:CDT
DTSTART:20230312T080000
END:DAYLIGHT
BEGIN:STANDARD
TZOFFSETFROM:-0500
TZOFFSETTO:-0600
TZNAME:CST
DTSTART:20231105T070000
END:STANDARD
BEGIN:DAYLIGHT
TZOFFSETFROM:-0600
TZOFFSETTO:-0500
TZNAME:CDT
DTSTART:20240310T080000
END:DAYLIGHT
BEGIN:STANDARD
TZOFFSETFROM:-0500
TZOFFSETTO:-0600
TZNAME:CST
DTSTART:20241103T070000
END:STANDARD
END:VTIMEZONE
BEGIN:VEVENT
DTSTART;TZID=America/Chicago:20230629T190000
DTEND;TZID=America/Chicago:20230629T203000
DTSTAMP:20260423T043241
CREATED:20230629T165358Z
LAST-MODIFIED:20230629T170203Z
UID:20351-1688065200-1688070600@themeditationcenter.org
SUMMARY:Thursday Satsang Via Zoom and In-Person Viewing at TMC: Audiobook Reading of Stories from H.H.S. Swami Rama's Living with the Himalayan Masters Chapter 12: "Grace of the Master"  - June 29\, 2023
DESCRIPTION:Thursday Satsang Via Zoom and In-Person Viewing at TMC – June 29\, 2023\n\nAudiobook Reading of Stories\nfrom H.H.S. Swami Rama’s\n“Living with the Himalayan Masters”\nChapter 12: ‘Grace of the Master’\n\n7:00 p.m. – 8:30 p.m. CDT\n  \n6:00-7:00 p.m.: Gentle Hatha Yoga with Eric Ness\n\n	\n\n\n7:00-7:30 p.m.: Guided Meditation by Swami Ma Radha Bharati\n\n	\n\n\n7:30-8:30 p.m.: Audiobook Reading of Stories\nfrom H.H.S. Swami Rama’s\,\n“Living with the Himalayan Masters”\nChapter 12: ‘Grace of the Master’\n\n	\n\n\n8:30 p.m.: Evening Prayers\n\n	\n\n\n8:40 p.m.: Snacks\n\n	\n\n\n\n\n“Grace of the Master”\n\n	\n\n\n“Perfection is the goal of human life\, but human efforts are very limited. Happiness does not come merely through human endeavor\, but comes through grace. Blessed are those who have the grace of both God and master.” page 389.\n\n	\n\n\nTonight we will listen to some stories from a reading of H.H. Sri Swami Rama’s classic book\, Living with the Himalayan Masters. The stories are from Chapter 12\, “Grace of the Master.”\n\n	\n\n\nThe titles of the chosen stories are “Guru is a Stream and a Channel of Knowledge\,” “A Weeping Statue\,” “My Master’s Photograph\,” “Who Can Kill the Eternal?\,” “Half Here\, Half There\,” “How a Young Widow was Rescued\,” “My Master Saves a Drowning Man\,” “Shaktipata – Bestowed Bliss\,” and “Preparing to Tear the Veil.”\n\n\n	\n\n\n\nTo support the work of The Meditation Center and register you can donate here (suggested donation $15.00) for Thursday Satsang or make a general donation by clicking on the “donate” button on the “Support TMC” website page.\n\n	\n\n\n\nOr donate through PayPal.\n\n	\n\n\nNote: There is parking available for TMC visitors\nin the St. Boniface lot across the street from the Center.
URL:https://themeditationcenter.org/class/thursday-satsang-via-zoom-and-in-person-viewing-at-tmc-audiobook-reading-of-stories-from-h-h-s-swami-ramas-living-with-the-himalayan-masters-chapter-12-grace-of-the-master-june-29-2023/
CATEGORIES:Thursday Satsangs
ATTACH;FMTTYPE=image/jpeg:https://themeditationcenter.org/wp-content/uploads/2016/11/swami-rama-1-1-1.jpg
END:VEVENT
END:VCALENDAR