BEGIN:VCALENDAR
VERSION:2.0
PRODID:-//The Meditation Center - ECPv6.15.20//NONSGML v1.0//EN
CALSCALE:GREGORIAN
METHOD:PUBLISH
X-ORIGINAL-URL:https://themeditationcenter.org
X-WR-CALDESC:Events for The Meditation Center
REFRESH-INTERVAL;VALUE=DURATION:PT1H
X-Robots-Tag:noindex
X-PUBLISHED-TTL:PT1H
BEGIN:VTIMEZONE
TZID:America/Chicago
BEGIN:DAYLIGHT
TZOFFSETFROM:-0600
TZOFFSETTO:-0500
TZNAME:CDT
DTSTART:20220313T080000
END:DAYLIGHT
BEGIN:STANDARD
TZOFFSETFROM:-0500
TZOFFSETTO:-0600
TZNAME:CST
DTSTART:20221106T070000
END:STANDARD
BEGIN:DAYLIGHT
TZOFFSETFROM:-0600
TZOFFSETTO:-0500
TZNAME:CDT
DTSTART:20230312T080000
END:DAYLIGHT
BEGIN:STANDARD
TZOFFSETFROM:-0500
TZOFFSETTO:-0600
TZNAME:CST
DTSTART:20231105T070000
END:STANDARD
BEGIN:DAYLIGHT
TZOFFSETFROM:-0600
TZOFFSETTO:-0500
TZNAME:CDT
DTSTART:20240310T080000
END:DAYLIGHT
BEGIN:STANDARD
TZOFFSETFROM:-0500
TZOFFSETTO:-0600
TZNAME:CST
DTSTART:20241103T070000
END:STANDARD
END:VTIMEZONE
BEGIN:VEVENT
DTSTART;TZID=America/Chicago:20230702T100000
DTEND;TZID=America/Chicago:20230702T114500
DTSTAMP:20260421T231230
CREATED:20230629T180656Z
LAST-MODIFIED:20230629T180904Z
UID:20366-1688292000-1688298300@themeditationcenter.org
SUMMARY:On Summer Break...will return in September 2023 - SUNDAY BOOK STUDY GROUP /SATSANG VIA ZOOM  WITH SWAMI RADHA BHARATI\, MICHAEL SMITH\, AND JIM NELSON
DESCRIPTION:On Summer Break…will return in September 2023\nSUNDAY BOOK STUDY GROUP /SATSANG VIA ZOOM\nWITH SWAMI RADHA BHARATI\, MICHAEL SMITH\, AND JIM NELSON\n10:00 A.M. – 11:30 A.M.\nTime:  10:00 a.m. – 11:30 a.m. \nSwami Radha\,  Jim\, and Michael will continue the study of spiritual topics in fall of 2023.   Start date of the autumn Book Study Group will be announced in September 2023.
URL:https://themeditationcenter.org/class/on-summer-break-will-return-in-september-2023-unday-book-study-group-satsang-via-zoom-with-swami-radha-bharati-michael-smith-and-jim-nelson/2023-07-02/
CATEGORIES:Sunday Satsangs
ATTACH;FMTTYPE=image/jpeg:https://themeditationcenter.org/wp-content/uploads/2019/06/beach-blur-boardwalk-132037_pexels_wp-1.jpg
END:VEVENT
END:VCALENDAR