BEGIN:VCALENDAR
VERSION:2.0
PRODID:-//The Meditation Center - ECPv6.15.20//NONSGML v1.0//EN
CALSCALE:GREGORIAN
METHOD:PUBLISH
X-WR-CALNAME:The Meditation Center
X-ORIGINAL-URL:https://themeditationcenter.org
X-WR-CALDESC:Events for The Meditation Center
REFRESH-INTERVAL;VALUE=DURATION:PT1H
X-Robots-Tag:noindex
X-PUBLISHED-TTL:PT1H
BEGIN:VTIMEZONE
TZID:America/Chicago
BEGIN:DAYLIGHT
TZOFFSETFROM:-0600
TZOFFSETTO:-0500
TZNAME:CDT
DTSTART:20220313T080000
END:DAYLIGHT
BEGIN:STANDARD
TZOFFSETFROM:-0500
TZOFFSETTO:-0600
TZNAME:CST
DTSTART:20221106T070000
END:STANDARD
BEGIN:DAYLIGHT
TZOFFSETFROM:-0600
TZOFFSETTO:-0500
TZNAME:CDT
DTSTART:20230312T080000
END:DAYLIGHT
BEGIN:STANDARD
TZOFFSETFROM:-0500
TZOFFSETTO:-0600
TZNAME:CST
DTSTART:20231105T070000
END:STANDARD
BEGIN:DAYLIGHT
TZOFFSETFROM:-0600
TZOFFSETTO:-0500
TZNAME:CDT
DTSTART:20240310T080000
END:DAYLIGHT
BEGIN:STANDARD
TZOFFSETFROM:-0500
TZOFFSETTO:-0600
TZNAME:CST
DTSTART:20241103T070000
END:STANDARD
END:VTIMEZONE
BEGIN:VEVENT
DTSTART;TZID=America/Chicago:20230703T180000
DTEND;TZID=America/Chicago:20230703T220000
DTSTAMP:20260422T081442
CREATED:20230427T182213Z
LAST-MODIFIED:20230704T000042Z
UID:20252-1688407200-1688421600@themeditationcenter.org
SUMMARY:Guru Purnima  and Full Moon Celebration In-Person and Via Zoom - July 3\, 2023
DESCRIPTION:“Guru Purnima Celebration” In-Person and Via Zoom\nMonday: July 3\, 2023\nTonight we will be meeting in The Hall of Tradition performing the water/flower puja\, due to the weather forecast for today.\nGuru Purnima Program on July 3\, 2023\n5:45 p.m. – 9:00 p.m. CDT\n\nGlobal Full Moon Meditation\n9:00 p.m. – 10:00 p.m. CDT\n\nGuru Purnima 2023 Celebration Schedule\n\n5:45-6:45 p.m. – A water/ flower puja/havan will be indoors\, with Chris Young and Emilio Bettaglio. The fire ceremony has been cancelled because of the extreme heat forecast for Monday. (Bring your bundle of twigs to be saved at TMC for a future fire ceremony\, possibly the the next full moon in August)\n\n6:45-8:15 p.m. – Vegetarian main meal prepared by Amrit Kaurz\nand socializing with the TMC community.\n\nBring an appetizer or dessert to share if you would like\,\nthe vegetarian main meal will be provided.\n\n8:15-9:00 p.m. – Guru Purnima Program with Master of Ceremonies\, Rodney Huff (Rajni.) There will be readings\, stories\, and sharing about the Guru.\n\n9:00-10:00 p.m. – Full Moon Meditation via Zoom\nwith initial guidance by Swami Ritavan Bharati from SRSG\, Rishikesh\, India\nThe Global Full Moon Meditation is hosted by the Himalayan Yoga & Meditation Center\, HYMC\, \nPalatine Il. The Zoom link is available here at HYMC’s website.\n\n\nFor more information regarding the global full moon meditation schedule visit HYMC’s website here.\n\n\n\nRead here…H.H.S. Swami Rama’s 1988 Guru Purnima Message.\n\nRead here…Swami Veda Bharati’s 2011 Guru Purnima Blessing\n\n\n\nMantras for the Havan / Puja\n21 recitations of Gam Ganapataye Namaha\n21 recitations of Maha Mrityunjaya.\n1-2 malas of Akhanda Mandalakaram\n1 recitation of Purna Ahuti\n\nMantras available for print here.\n\nThose participating via Zoom may join the process by performing their own puja in their homes. All that is needed is a large bowl\, such as a clean salad or mixing bowl\, some water to fill the bowl about two-thirds full\, a candle\, and some flower petals. For those who are interested in participating with their own flower/ water havan at home\, flower petals can be obtained at most flower shops or can be harvested from their own gardens. Approximately 200 offerings will be made into the havan\, each with a petal offering.\n\n\n\n\n“Celebrating Guru Purnima is a joy beyond words\, a deep stillness that echoes a wholeness and holiness. A wholeness that guru provides the answers to our pursuits\, our yearnings and reveals a purpose for life. To live and to love with a heart unconditioned by conflict\, and a mind\, unified beyond division.”\n– Swami Ritavan Bharati-\n\n\n\nHere is the Zoom link for  the Guru Purnima program.  The Global Meditation is another link through the Chicago Center.\n\nHope that you attend…if so\, I will see you on Zoom.\n\n\nYou are invited to a Zoom meeting.\nWhen: Jul 3\, 05:30 PM Central Time (US and Canada)\n\nRegister in advance for this meeting:\n\nClick here to register for Zoom access for the Guru Purnima\ncelebration.\n\nAfter registering\, you will receive a confirmation email from Zoom containing information about joining the meeting.\n\n\nHere is the Chicago link…\n \n\n*Following is the Zoom link for July 3\, 2023 session;\nit will remain the same for each month’s full moon meditation session.\n\nYou are invited to a Zoom meeting.\nWhen: July 3\, 2023 09:00 PM Central Time (US and Canada)\n\nRegister in advance for this meeting:\n\nClick here to register for Zoom access to the Global Full Moon Meditation on June 3\, 2023\n\nThe meeting ID is 898 2109 4166\n\nPasscode is ahyms!n\n\nAfter registering\, you will receive a Zoom confirmation email containing information about joining the session.\n\nThis event is courtesy of the Chicago Himalayan Yoga & Meditation Center – HYMC.\n\nFor more information regarding the global full moon meditation schedule visit\nHYMC’s website here.
URL:https://themeditationcenter.org/class/guru-purnima-and-full-moon-celebration-in-person-and-via-zoom-july-3-2023/
CATEGORIES:Full Moon Havan,Full Moon Meditation,Special Events
ATTACH;FMTTYPE=image/jpeg:https://themeditationcenter.org/wp-content/uploads/2019/07/39227296_10156423769982508_4613032877221740544_n_Three-Swamis_WP.jpg
END:VEVENT
BEGIN:VEVENT
DTSTART;TZID=America/Chicago:20230703T210000
DTEND;TZID=America/Chicago:20230703T220000
DTSTAMP:20260422T081442
CREATED:20230703T175425Z
LAST-MODIFIED:20230703T175444Z
UID:20388-1688418000-1688421600@themeditationcenter.org
SUMMARY:Global Full Moon Meditation - Will Begin Guided by Swami Ritavan Bharati - July 3\, 2023\, 9:00-10:00 p.m.
DESCRIPTION:Guru Purnima\nMonday\, July 3\, 2023\nVia Zoom and In-Person Viewing at TMC\nGlobal Full Moon Meditation\n9:00-10:00 p.m. CDT\n\nThis Full Moon Meditation will begin guided by Swami Ritavan Bharati from SRSG in Rishikesh\, India.\nthen followed by a silent meditation until 10:00 p.m.\nSwami Ritavan Bharati has said\, “The full moon meditations are an opportunity for us to come together in connecting with the universal mind-field bringing unity\, harmony\, peace\, and love. Go into your silence; exhale-release\, inhale-accept\, forgive and fulfill\, with purified heart and mind receive the blessings of the Lineage.”\n\n“You are lovingly invited to sit in meditation for an hour wherever you are\, in your home or with friends. Total beginners and longtime practitioners\, non-initiates and initiates are welcome. If you cannot sit for the entire hour\, sit as long as you are able; as Swami Veda has said\, ‘Let the quietness of the mind continue even after you rise..'” (Courtesy of AHYMSIN.org January 2023 newsletter).\n\n\nThis event is courtesy of the Chicago Himalayan Yoga & Meditation Center – HYMC.\n\nFor more information regarding the global full moon meditation schedule and to receive the Zoom link  visit\nHYMC’s website here.\n\n\nEveryone is welcome!
URL:https://themeditationcenter.org/class/global-full-moon-meditation-will-begin-guided-by-swami-ritavan-bharati-july-3-2023-900-1000-p-m/
CATEGORIES:Full Moon Meditation
END:VEVENT
END:VCALENDAR