BEGIN:VCALENDAR
VERSION:2.0
PRODID:-//The Meditation Center - ECPv6.15.20//NONSGML v1.0//EN
CALSCALE:GREGORIAN
METHOD:PUBLISH
X-WR-CALNAME:The Meditation Center
X-ORIGINAL-URL:https://themeditationcenter.org
X-WR-CALDESC:Events for The Meditation Center
REFRESH-INTERVAL;VALUE=DURATION:PT1H
X-Robots-Tag:noindex
X-PUBLISHED-TTL:PT1H
BEGIN:VTIMEZONE
TZID:America/Chicago
BEGIN:DAYLIGHT
TZOFFSETFROM:-0600
TZOFFSETTO:-0500
TZNAME:CDT
DTSTART:20220313T080000
END:DAYLIGHT
BEGIN:STANDARD
TZOFFSETFROM:-0500
TZOFFSETTO:-0600
TZNAME:CST
DTSTART:20221106T070000
END:STANDARD
BEGIN:DAYLIGHT
TZOFFSETFROM:-0600
TZOFFSETTO:-0500
TZNAME:CDT
DTSTART:20230312T080000
END:DAYLIGHT
BEGIN:STANDARD
TZOFFSETFROM:-0500
TZOFFSETTO:-0600
TZNAME:CST
DTSTART:20231105T070000
END:STANDARD
BEGIN:DAYLIGHT
TZOFFSETFROM:-0600
TZOFFSETTO:-0500
TZNAME:CDT
DTSTART:20240310T080000
END:DAYLIGHT
BEGIN:STANDARD
TZOFFSETFROM:-0500
TZOFFSETTO:-0600
TZNAME:CST
DTSTART:20241103T070000
END:STANDARD
END:VTIMEZONE
BEGIN:VEVENT
DTSTART;TZID=America/Chicago:20230708T090000
DTEND;TZID=America/Chicago:20230708T161500
DTSTAMP:20260423T224255
CREATED:20230618T231146Z
LAST-MODIFIED:20230619T014529Z
UID:20316-1688806800-1688832900@themeditationcenter.org
SUMMARY:Two Saturday Hybrid Workshops\, In-Person and via Zoom: Morning\, “Ayurvedic Theory and Practice: An Introduction to Ayurveda for Yoga Students” and Afternoon\, “Ritam: The Rhythm of Nature” with Cynthia and Gary Gran - July 8\, 2023
DESCRIPTION:“A WAVE OF WELLNESS IS HITTING THE MEDITATION CENTER THIS SUMMER.”\n Two Saturday Hybrid Workshops\, In-Person and via Zoom\nwith Cynthia and Gary Gran\nJuly 8\, 2023\nat The Meditation Center\nClick Here to Register \nRegister for the morning session\, the morning session with lunch\, the afternoon session\, both sessions without lunch\, or both sessions with lunch \nMorning: 9:00am-Noon “Ayurvedic Theory and Practice: An Introduction to Ayurveda for Yoga Students” \nMorning: 9:00am-Noon “Ayurvedic Theory and Practice: An Introduction to Ayurveda for Yoga Students” with lunch following the morning class and cooking demonstration \nAfternoon: 1:15-4:15pm “Ritam: The Rhythm of Nature” with Cynthia and Gary Gran. \nGary and Cynthia Gran have been treading the Himalayan path since the late 1970s. They met at the old Glenview Center in Illinois and have served the tradition in various capacities over the years. They are both certified yoga teachers and Ayurvedic educators. They have published more than eighty articles on yoga\, meditation and Ayurveda. They are currently enjoying desert gardening\, cooking and hiking at their home in Tucson\, Arizona. \n\n\n\n\n\n\n\n\n\n\n\n\nGary Gran\, DAy. CYT \nCynthia Gran\, DAy. E-RYT 500\, YACEP
URL:https://themeditationcenter.org/class/two-saturday-hybrid-workshops-in-person-and-via-zoom-morning-ayurvedic-theory-and-practice-an-introduction-to-ayurveda-for-yoga-students-and-afternoon-ritam-the-rhythm/
CATEGORIES:Workshops
ATTACH;FMTTYPE=image/jpeg:https://themeditationcenter.org/wp-content/uploads/2019/06/Spring-Flowers_FB.jpg
END:VEVENT
END:VCALENDAR