BEGIN:VCALENDAR
VERSION:2.0
PRODID:-//The Meditation Center - ECPv6.15.20//NONSGML v1.0//EN
CALSCALE:GREGORIAN
METHOD:PUBLISH
X-ORIGINAL-URL:https://themeditationcenter.org
X-WR-CALDESC:Events for The Meditation Center
REFRESH-INTERVAL;VALUE=DURATION:PT1H
X-Robots-Tag:noindex
X-PUBLISHED-TTL:PT1H
BEGIN:VTIMEZONE
TZID:America/Chicago
BEGIN:DAYLIGHT
TZOFFSETFROM:-0600
TZOFFSETTO:-0500
TZNAME:CDT
DTSTART:20220313T080000
END:DAYLIGHT
BEGIN:STANDARD
TZOFFSETFROM:-0500
TZOFFSETTO:-0600
TZNAME:CST
DTSTART:20221106T070000
END:STANDARD
BEGIN:DAYLIGHT
TZOFFSETFROM:-0600
TZOFFSETTO:-0500
TZNAME:CDT
DTSTART:20230312T080000
END:DAYLIGHT
BEGIN:STANDARD
TZOFFSETFROM:-0500
TZOFFSETTO:-0600
TZNAME:CST
DTSTART:20231105T070000
END:STANDARD
BEGIN:DAYLIGHT
TZOFFSETFROM:-0600
TZOFFSETTO:-0500
TZNAME:CDT
DTSTART:20240310T080000
END:DAYLIGHT
BEGIN:STANDARD
TZOFFSETFROM:-0500
TZOFFSETTO:-0600
TZNAME:CST
DTSTART:20241103T070000
END:STANDARD
END:VTIMEZONE
BEGIN:VEVENT
DTSTART;TZID=America/Chicago:20230715T083000
DTEND;TZID=America/Chicago:20230715T093000
DTSTAMP:20260420T061012
CREATED:20230712T215026Z
LAST-MODIFIED:20230713T182801Z
UID:20395-1689409800-1689413400@themeditationcenter.org
SUMMARY:“Awakening the Senses: Outdoor Meditation” with Cynthia Gran\, DAy. E-RYT 500\, YACEP - Saturday\, July 15\, 2023\, 8:30 a.m. - 9:30 a.m.
DESCRIPTION:Mark your calendars…join us on Saturday morning!!!\n“Awakening the Senses: Outdoor Meditation”\nwith Cynthia Gran\, DAy. E-RYT 500\, YACEP\nSaturday\, July 15\, 2023\n8:30 a.m. – 9:30 a.m.\n\nRSVP here.\nFree Event!!!\nAfter a short introduction about awakening our senses and enhancing our appreciation of Nature\, we will walk silently through the park among the tall green trees. We will be outside the whole time\, so wear a hat and good shoes\, and bring a water bottle and sunscreen if you need.\n\nClass will begin and end at The Meditation Center.\n\nDonations are welcome!\n\nCynthia Gran\, DAy\, E-RYT 500\, YACEP\,  has been treading the Himalayan path since the late 1970s. Cynthia and her husband\, Gary\, DAy. CYT\, first attended the old Glenview Center in Illinois where they met and have served the tradition in various capacities over the years. They are both certified yoga teachers and Ayurvedic educators. They have published more than eighty articles on yoga\, meditation and Ayurveda.  They are currently in Minnesota for the summer  teaching at The Meditation Center. They enjoy desert gardening\, cooking and hiking at their home in Tucson\, Arizona.
URL:https://themeditationcenter.org/class/awakening-the-senses-outdoor-meditation-with-cynthia-gran-saturday-july-15-2023-830-a-m-930-a-m/
CATEGORIES:Special Events
ATTACH;FMTTYPE=image/jpeg:https://themeditationcenter.org/wp-content/uploads/2020/02/Dunrovin_Path-2018-rotated.jpg
END:VEVENT
END:VCALENDAR