BEGIN:VCALENDAR
VERSION:2.0
PRODID:-//The Meditation Center - ECPv6.15.20//NONSGML v1.0//EN
CALSCALE:GREGORIAN
METHOD:PUBLISH
X-ORIGINAL-URL:https://themeditationcenter.org
X-WR-CALDESC:Events for The Meditation Center
REFRESH-INTERVAL;VALUE=DURATION:PT1H
X-Robots-Tag:noindex
X-PUBLISHED-TTL:PT1H
BEGIN:VTIMEZONE
TZID:America/Chicago
BEGIN:DAYLIGHT
TZOFFSETFROM:-0600
TZOFFSETTO:-0500
TZNAME:CDT
DTSTART:20220313T080000
END:DAYLIGHT
BEGIN:STANDARD
TZOFFSETFROM:-0500
TZOFFSETTO:-0600
TZNAME:CST
DTSTART:20221106T070000
END:STANDARD
BEGIN:DAYLIGHT
TZOFFSETFROM:-0600
TZOFFSETTO:-0500
TZNAME:CDT
DTSTART:20230312T080000
END:DAYLIGHT
BEGIN:STANDARD
TZOFFSETFROM:-0500
TZOFFSETTO:-0600
TZNAME:CST
DTSTART:20231105T070000
END:STANDARD
BEGIN:DAYLIGHT
TZOFFSETFROM:-0600
TZOFFSETTO:-0500
TZNAME:CDT
DTSTART:20240310T080000
END:DAYLIGHT
BEGIN:STANDARD
TZOFFSETFROM:-0500
TZOFFSETTO:-0600
TZNAME:CST
DTSTART:20241103T070000
END:STANDARD
END:VTIMEZONE
BEGIN:VEVENT
DTSTART;TZID=America/Chicago:20230720T190000
DTEND;TZID=America/Chicago:20230720T203000
DTSTAMP:20260420T005037
CREATED:20230629T181312Z
LAST-MODIFIED:20230719T210957Z
UID:20385-1689879600-1689885000@themeditationcenter.org
SUMMARY:Thursday Satsang Via Zoom Only: "Ayurveda Study Group\, Core Principles of Ayurveda"with Gary Gran CYT\, DAy. and Cynthia Gran on July 20\, 2023 \,  7:00 p.m. – 8:30 p.m. CDT
DESCRIPTION:Thursday Satsang Via Zoom and In-Person Viewing at TMC – July 20\, 2023\n“Ayurvedic Study Group: Core Principles of Ayurveda”\nwith Gary Gran\, CYT\, DAy. and Cynthia Gran\, DAy. E-RYT 500\, YACEP\n7:00 p.m. – 8:30 p.m. CDT\n6:00-7:00 p.m.: Gentle Hatha Yoga\n\n7:00-7:30 p.m.: Guided Meditation with Swami Radha Bharati\n\n7:30-8:30 p.m.: Ayurveda Study Group\n” with Gary Gran\, CYT\, DAy. and Cynthia Gran DAy. E-RYT 500\, YACEP\n\n8:30 p.m.: Evening Prayers\n\n8:40 p.m. – Snacks\n\n	\n\n\n\n\nPlease join us for the next meeting of our Ayurvedic study group. Attendance at prior meetings is not required. All are welcome. We’ll continue with Chapter One of the Charaka Samhita with more sutras\, commentary\, and discussion. Please bring your ‘beginner’s mind’ and join us as we listen deeply and reflect on the words of the sages. \n“The objective of this compendium is achievement of dhatu samya\, the equilibrium of the bodily elements.”  – Charak Samhita\, Sutrasthana\, 1.54 \nGary & Cynthia Gran have been treading the Himalayan path since the late 1970s. They met at the old Glenview Center in Illinois and have served the tradition in various capacities over the years. They are both certified yoga teachers and Ayurvedic educators. They have published more than eighty articles on yoga\, meditation and Ayurveda. They are currently spending the summer in Minneapolis\, offering classes and consultations at The Meditation Center. Their home is in Tucson\, Arizona where they enjoy desert gardening\, cooking and hiking. \nGary Gran\, DAy. CYT \nCynthia Gran\, DAy. E-RYT 500\, YACEP \n\n\n\n\nGary’s  blog is ayurvedalessons.com.
URL:https://themeditationcenter.org/class/thursday-satsang-via-zoom-only-ayurveda-study-group-core-principles-of-ayurvedawith-gary-gran-cyt-day-and-cynthia-gran-on-july-20-2023-700-p-m-830-p-m-cdt/
CATEGORIES:Thursday Satsangs
ATTACH;FMTTYPE=image/jpeg:https://themeditationcenter.org/wp-content/uploads/2021/05/image.jpeg
END:VEVENT
END:VCALENDAR