BEGIN:VCALENDAR
VERSION:2.0
PRODID:-//The Meditation Center - ECPv6.15.20//NONSGML v1.0//EN
CALSCALE:GREGORIAN
METHOD:PUBLISH
X-WR-CALNAME:The Meditation Center
X-ORIGINAL-URL:https://themeditationcenter.org
X-WR-CALDESC:Events for The Meditation Center
REFRESH-INTERVAL;VALUE=DURATION:PT1H
X-Robots-Tag:noindex
X-PUBLISHED-TTL:PT1H
BEGIN:VTIMEZONE
TZID:America/Chicago
BEGIN:DAYLIGHT
TZOFFSETFROM:-0600
TZOFFSETTO:-0500
TZNAME:CDT
DTSTART:20220313T080000
END:DAYLIGHT
BEGIN:STANDARD
TZOFFSETFROM:-0500
TZOFFSETTO:-0600
TZNAME:CST
DTSTART:20221106T070000
END:STANDARD
BEGIN:DAYLIGHT
TZOFFSETFROM:-0600
TZOFFSETTO:-0500
TZNAME:CDT
DTSTART:20230312T080000
END:DAYLIGHT
BEGIN:STANDARD
TZOFFSETFROM:-0500
TZOFFSETTO:-0600
TZNAME:CST
DTSTART:20231105T070000
END:STANDARD
BEGIN:DAYLIGHT
TZOFFSETFROM:-0600
TZOFFSETTO:-0500
TZNAME:CDT
DTSTART:20240310T080000
END:DAYLIGHT
BEGIN:STANDARD
TZOFFSETFROM:-0500
TZOFFSETTO:-0600
TZNAME:CST
DTSTART:20241103T070000
END:STANDARD
END:VTIMEZONE
BEGIN:VEVENT
DTSTART;TZID=America/Chicago:20230727T190000
DTEND;TZID=America/Chicago:20230727T203000
DTSTAMP:20260421T193356
CREATED:20230712T225330Z
LAST-MODIFIED:20230726T163827Z
UID:20399-1690484400-1690489800@themeditationcenter.org
SUMMARY:Thursday Satsang In-Person and Via Zoom:  An Evening of Spiritual Music with Chris Young - July 27\, 2023 - Note ongoing time change for gentle drop-in hatha - 5:30-6:45 p.m.
DESCRIPTION:Thursday Satsang In-Person and Via Zoom – July 27\, 2023\n“An Evening of Spiritual Music” with Chris Young\n7:00 p.m. – 8:30 p.m.\n  \n5:30-6:45 p.m.: Gentle Hatha Yoga with Sunita Gangopadhyay\n7:00-7:30 p.m.: Guided Meditation by Swami Ma Radha Bharati\n7:30-8:30 p.m.: “An Evening of Spiritual Music” with Chris Young\n8:30 p.m.: Evening Prayers\n8:40 p.m.: Snacks\nDetails to come\,
URL:https://themeditationcenter.org/class/thursday-satsang-in-person-and-via-zoom-an-evening-of-spiritual-music-with-chris-young-july-27-2023/
CATEGORIES:Thursday Satsangs
ATTACH;FMTTYPE=image/jpeg:https://themeditationcenter.org/wp-content/uploads/2022/04/Chris_Young_photo.jpg
END:VEVENT
END:VCALENDAR