BEGIN:VCALENDAR
VERSION:2.0
PRODID:-//The Meditation Center - ECPv6.15.20//NONSGML v1.0//EN
CALSCALE:GREGORIAN
METHOD:PUBLISH
X-ORIGINAL-URL:https://themeditationcenter.org
X-WR-CALDESC:Events for The Meditation Center
REFRESH-INTERVAL;VALUE=DURATION:PT1H
X-Robots-Tag:noindex
X-PUBLISHED-TTL:PT1H
BEGIN:VTIMEZONE
TZID:America/Chicago
BEGIN:DAYLIGHT
TZOFFSETFROM:-0600
TZOFFSETTO:-0500
TZNAME:CDT
DTSTART:20220313T080000
END:DAYLIGHT
BEGIN:STANDARD
TZOFFSETFROM:-0500
TZOFFSETTO:-0600
TZNAME:CST
DTSTART:20221106T070000
END:STANDARD
BEGIN:DAYLIGHT
TZOFFSETFROM:-0600
TZOFFSETTO:-0500
TZNAME:CDT
DTSTART:20230312T080000
END:DAYLIGHT
BEGIN:STANDARD
TZOFFSETFROM:-0500
TZOFFSETTO:-0600
TZNAME:CST
DTSTART:20231105T070000
END:STANDARD
BEGIN:DAYLIGHT
TZOFFSETFROM:-0600
TZOFFSETTO:-0500
TZNAME:CDT
DTSTART:20240310T080000
END:DAYLIGHT
BEGIN:STANDARD
TZOFFSETFROM:-0500
TZOFFSETTO:-0600
TZNAME:CST
DTSTART:20241103T070000
END:STANDARD
END:VTIMEZONE
BEGIN:VEVENT
DTSTART;TZID=America/Chicago:20230929T210000
DTEND;TZID=America/Chicago:20230929T220000
DTSTAMP:20260421T100940
CREATED:20230829T225412Z
LAST-MODIFIED:20230925T220628Z
UID:20472-1696021200-1696024800@themeditationcenter.org
SUMMARY:Full Moon Havan with Pandit Emilio Bettaglio at 7:30 p.m. and Global Full Moon Meditation - September 29\, 2023\, 9:00-10:00 p.m.
DESCRIPTION:September Super Full Moon Havan and\nGlobal Full Moon Meditation\nFriday\, September 29\, 2023\n9:00-10:00 p.m. CDT\nMeditation In Person at TMC and Via Zoom through Chicago Zoom Link\n\n	\n\n\nAttend a Full Moon Havan at TMC with Pandit Emilio Bettaglio at 7:30 p.m.\n\nIn Person at TMC and via Zoom sponsored by HYMC Chicago Center  from 9:00-10:00 p.m.\nAttendance in the Full Moon (Global) meditation is FREE.\nPlease do register in advance to join the meditation by clicking on the link below:\nhttps://us02web.zoom.us/meeting/register/tZ0ldeiopz8rHNI38xm9GgPRx3pFhiKGRwos\nThe meeting ID: 898 2109 4166 \nPasscode: ahyms!n \n\n\n\n\nSwami Ritavan Bharati has said\, “The full moon meditations are an opportunity for us to come together in connecting with the universal mind-field bringing unity\, harmony\, peace\, and love. Go into your silence; exhale-release\, inhale-accept\, forgive and fulfill\, with purified heart and mind receive the blessings of the Lineage.”\n\n“You are lovingly invited to sit in meditation for an hour wherever you are\, in your home or with friends. Total beginners and longtime practitioners\, non-initiates and initiates are welcome. If you cannot sit for the entire hour\, sit as long as you are able; as Swami Veda has said\, ‘Let the quietness of the mind continue even after you rise..'” (Courtesy of AHYMSIN.org  January 2023 newsletter).\n\nEveryone is welcome!
URL:https://themeditationcenter.org/class/global-full-moon-meditation-will-begin-guided-by-swami-ritavan-bharati-september-29-2023-900-1000-p-m/
CATEGORIES:Full Moon Meditation
END:VEVENT
END:VCALENDAR