BEGIN:VCALENDAR
VERSION:2.0
PRODID:-//The Meditation Center - ECPv6.15.20//NONSGML v1.0//EN
CALSCALE:GREGORIAN
METHOD:PUBLISH
X-WR-CALNAME:The Meditation Center
X-ORIGINAL-URL:https://themeditationcenter.org
X-WR-CALDESC:Events for The Meditation Center
REFRESH-INTERVAL;VALUE=DURATION:PT1H
X-Robots-Tag:noindex
X-PUBLISHED-TTL:PT1H
BEGIN:VTIMEZONE
TZID:America/Chicago
BEGIN:DAYLIGHT
TZOFFSETFROM:-0600
TZOFFSETTO:-0500
TZNAME:CDT
DTSTART:20220313T080000
END:DAYLIGHT
BEGIN:STANDARD
TZOFFSETFROM:-0500
TZOFFSETTO:-0600
TZNAME:CST
DTSTART:20221106T070000
END:STANDARD
BEGIN:DAYLIGHT
TZOFFSETFROM:-0600
TZOFFSETTO:-0500
TZNAME:CDT
DTSTART:20230312T080000
END:DAYLIGHT
BEGIN:STANDARD
TZOFFSETFROM:-0500
TZOFFSETTO:-0600
TZNAME:CST
DTSTART:20231105T070000
END:STANDARD
BEGIN:DAYLIGHT
TZOFFSETFROM:-0600
TZOFFSETTO:-0500
TZNAME:CDT
DTSTART:20240310T080000
END:DAYLIGHT
BEGIN:STANDARD
TZOFFSETFROM:-0500
TZOFFSETTO:-0600
TZNAME:CST
DTSTART:20241103T070000
END:STANDARD
END:VTIMEZONE
BEGIN:VEVENT
DTSTART;TZID=America/Chicago:20231207T190000
DTEND;TZID=America/Chicago:20231207T203000
DTSTAMP:20260422T060857
CREATED:20231120T223332Z
LAST-MODIFIED:20231207T132917Z
UID:20649-1701975600-1701981000@themeditationcenter.org
SUMMARY:Hybrid Thursday Satsang In Person Viewing at TMC and via Zoom - Path of Fire & Light: 'From the Beginning' Last Four Lectures continued with Gary Gran\, CYT\, DAy - December 7\, 2023
DESCRIPTION:Hybrid Thursday Satsang In Person Viewing at TMC and via Zoom – November 9\, 2023\n“Path of Fire & Light: ‘From the Beginning’ ” Last Four Lectures\nwith Gary Gran CYT\, DAy\n7:00 p.m. – 8:30 p.m.\n\n	\n\n\n5:30-6:45 p.m.: Gentle Hatha Yoga with Michael Snodgrass\n7:00-7:30 p.m.: Guided Meditation by Swami Ma Radha Bharati\n7:30-8:30 p.m.: Path of Fire & Light: ‘From the Beginning’ ” Last Four Lectures\nwith Gary Gran CYT\, DAy\n8:30 p.m.: Evening Prayers\n8:40 p.m.: Snacks\n\n\n	\n\n\nSwami Rama taught the first of several “Path of Fire & Light” seminars from July 24-31\, 1986\, in Honesdale\, PA. There were eight full days of lectures and workshops given in support of the book “Path of Fire & Light: Advanced Practices of Yoga”\, the first of two volumes on the subject. Swami Rama called the first volume ‘an encyclopedia of yoga.’ In his series of lectures\, he gave a systematic account of all the teachings known as the path of fire & light. Please join us as we share the contents of his first four lectures. On December 7th\, we will detail the last four lectures. There will be plenty of quotes from Swamiji to inspire us. All are welcome. \nGary Gran\, CYT\, DAy. was in attendance at the seminar and will be sharing the teachings from his personal notes. He and his wife Cynthia have been treading the Himalayan path since the late 1970s. They met at the old Glenview Center in Illinois and have served the tradition in various capacities over the years. They are both certified yoga teachers and Ayurvedic educators. They have published more than eighty articles on yoga\, meditation and Ayurveda. They are currently residing in Tucson\, Arizona where they enjoy desert gardening\, cooking and hiking.
URL:https://themeditationcenter.org/class/hybrid-thursday-satsang-in-person-viewing-at-tmc-and-via-zoom-path-of-fire-light-from-the-beginning-last-four-lectures-continued-with-gary-gran-cyt-day-december-7-2023/
CATEGORIES:Thursday Satsangs,Thursday Satsangs
ATTACH;FMTTYPE=image/jpeg:https://themeditationcenter.org/wp-content/uploads/2023/03/unnamed-95.jpg
END:VEVENT
END:VCALENDAR