BEGIN:VCALENDAR
VERSION:2.0
PRODID:-//The Meditation Center - ECPv6.15.20//NONSGML v1.0//EN
CALSCALE:GREGORIAN
METHOD:PUBLISH
X-WR-CALNAME:The Meditation Center
X-ORIGINAL-URL:https://themeditationcenter.org
X-WR-CALDESC:Events for The Meditation Center
REFRESH-INTERVAL;VALUE=DURATION:PT1H
X-Robots-Tag:noindex
X-PUBLISHED-TTL:PT1H
BEGIN:VTIMEZONE
TZID:America/Chicago
BEGIN:DAYLIGHT
TZOFFSETFROM:-0600
TZOFFSETTO:-0500
TZNAME:CDT
DTSTART:20230312T080000
END:DAYLIGHT
BEGIN:STANDARD
TZOFFSETFROM:-0500
TZOFFSETTO:-0600
TZNAME:CST
DTSTART:20231105T070000
END:STANDARD
BEGIN:DAYLIGHT
TZOFFSETFROM:-0600
TZOFFSETTO:-0500
TZNAME:CDT
DTSTART:20240310T080000
END:DAYLIGHT
BEGIN:STANDARD
TZOFFSETFROM:-0500
TZOFFSETTO:-0600
TZNAME:CST
DTSTART:20241103T070000
END:STANDARD
BEGIN:DAYLIGHT
TZOFFSETFROM:-0600
TZOFFSETTO:-0500
TZNAME:CDT
DTSTART:20250309T080000
END:DAYLIGHT
BEGIN:STANDARD
TZOFFSETFROM:-0500
TZOFFSETTO:-0600
TZNAME:CST
DTSTART:20251102T070000
END:STANDARD
END:VTIMEZONE
BEGIN:VEVENT
DTSTART;TZID=America/Chicago:20240125T190000
DTEND;TZID=America/Chicago:20240125T203000
DTSTAMP:20260421T214242
CREATED:20240110T174526Z
LAST-MODIFIED:20240110T174848Z
UID:20873-1706209200-1706214600@themeditationcenter.org
SUMMARY:Thursday Satsang In Person and Via Zoom: "Continued Panel Discussion and Q&A with Members of the TMC Spiritual Committee and Senior Teachers  January 18\, 2024
DESCRIPTION:Thursday Satsang In Person and Via Zoom  – January 25\, 2024\n“Continued Panel Discussion and Q&A with\nMembers of the Spiritual Committee and Senior Teachers\nfollowed by a Full Moon Flower/Water Puja Emilio Bettglio\n7:00 p.m. – 8:30 p.m. CST\n\n\n5:30-6:45 p.m.: Gentle Hatha Yoga with Eric Ness\n7:00-7:30 p.m.: Guided Meditation with Swami Ma Radha Bharati\n7:30-8:30 p.m.: “Continued Panel Discussion and Q&A with Members of the Spiritual Committee and Senior Teachers\nfollowed by a Full Moon Flower / Water Puja with Emilio Bettaglio\n8:30 p.m.: Evening Prayers\n8:40 p.m.: Snacks\n\n\n\nDetails to come.  A continuation of the January 18th Q&A and a Full Moon Flower/Water Puja.
URL:https://themeditationcenter.org/class/thursday-satsang-in-person-and-via-zoom-continued-panel-discussion-and-qa-with-members-of-the-tmc-spiritual-committee-and-senior-teachers-january-18-2024/
CATEGORIES:Satsangs,Thursday Satsangs
ATTACH;FMTTYPE=image/jpeg:https://themeditationcenter.org/wp-content/uploads/2024/01/IMG_4087.jpeg
END:VEVENT
BEGIN:VEVENT
DTSTART;TZID=America/Chicago:20240125T210000
DTEND;TZID=America/Chicago:20240125T220000
DTSTAMP:20260421T214242
CREATED:20240110T172835Z
LAST-MODIFIED:20240110T172835Z
UID:20870-1706216400-1706220000@themeditationcenter.org
SUMMARY:Global Full  Moon Meditation  In Person  and via Zoom from Chicago\, January 25\, 2024\,  9:00-10:00p.m. CST
DESCRIPTION:Thursday\, January 25\, 2024\nGlobal Full  Moon Meditation\nIn Person  and via Zoom\n9:00-10:00 P.M. CST\n\nThis Full Moon Meditation via Zoom will begin guided by Stephen Parker (Stoma\,) followed by a silent meditation until 10:00 p.m.  In Minneapolis you can sit at The Meditation Center on Thursday\, January 18th.\nThis event is courtesy of the Chicago Himalayan Yoga & Meditation Center – HYMC. \nTo get the Zoom link and for more information aregarding the global full moon meditation schedule \nvisit HYMC’s website here. \n“You are lovingly invited to sit in meditation for an hour wherever you are\, in your home or with friends. Total beginners and longtime practitioners\, non-initiates and initiates are welcome. If you cannot sit for the entire hour\, sit as long as you are able; as Swami Veda has said\, ‘Let the quietness of the mind continue even after you rise..’” (Courtesy of AHYMSIN.org January 2023 newsletter). \nEveryone is welcome! \n“Yoga Philosophy views the mind as Universal field; its waves passing through us and becoming our individual minds. This Universal mind is a radiant force and is also known as a Universal Guru within.” \n“When all sit together at the same time even in different parts of the world\, they connect to the Universal Guru mind and generate a strong field\, like so many magnets being joined together and forming a much stronger magnet; the strength of each then equals the combined strength of all.” \n– Swami Veda Bharati –
URL:https://themeditationcenter.org/class/global-full-moon-meditation-in-person-and-via-zoom-from-chicago-january-25-2024-900-1000p-m-cst/
CATEGORIES:Full Moon Meditation
ATTACH;FMTTYPE=image/jpeg:https://themeditationcenter.org/wp-content/uploads/2024/01/Pixabay.jpg
END:VEVENT
END:VCALENDAR