BEGIN:VCALENDAR
VERSION:2.0
PRODID:-//The Meditation Center - ECPv6.15.20//NONSGML v1.0//EN
CALSCALE:GREGORIAN
METHOD:PUBLISH
X-WR-CALNAME:The Meditation Center
X-ORIGINAL-URL:https://themeditationcenter.org
X-WR-CALDESC:Events for The Meditation Center
REFRESH-INTERVAL;VALUE=DURATION:PT1H
X-Robots-Tag:noindex
X-PUBLISHED-TTL:PT1H
BEGIN:VTIMEZONE
TZID:America/Chicago
BEGIN:DAYLIGHT
TZOFFSETFROM:-0600
TZOFFSETTO:-0500
TZNAME:CDT
DTSTART:20230312T080000
END:DAYLIGHT
BEGIN:STANDARD
TZOFFSETFROM:-0500
TZOFFSETTO:-0600
TZNAME:CST
DTSTART:20231105T070000
END:STANDARD
BEGIN:DAYLIGHT
TZOFFSETFROM:-0600
TZOFFSETTO:-0500
TZNAME:CDT
DTSTART:20240310T080000
END:DAYLIGHT
BEGIN:STANDARD
TZOFFSETFROM:-0500
TZOFFSETTO:-0600
TZNAME:CST
DTSTART:20241103T070000
END:STANDARD
BEGIN:DAYLIGHT
TZOFFSETFROM:-0600
TZOFFSETTO:-0500
TZNAME:CDT
DTSTART:20250309T080000
END:DAYLIGHT
BEGIN:STANDARD
TZOFFSETFROM:-0500
TZOFFSETTO:-0600
TZNAME:CST
DTSTART:20251102T070000
END:STANDARD
END:VTIMEZONE
BEGIN:VEVENT
DTSTART;TZID=America/Chicago:20240209T060000
DTEND;TZID=America/Chicago:20240209T210000
DTSTAMP:20260420T205747
CREATED:20240129T223951Z
LAST-MODIFIED:20240129T224135Z
UID:20933-1707458400-1707512400@themeditationcenter.org
SUMMARY:"Mauna Amavasya Day" a Silence Day on Friday\, February 9\, 2024
DESCRIPTION:Mark your calendars…\nFriday\, February 9\, 2024\n“Mauna Amavasya Day”\nJoin Swami Radha and Emilio Bettaglio for a day of immersion into the vastness of blissful silence during the auspicious day of “Mauna Amavasya\,” on Friday\, February 9th. “Mauna Amavasya” is observed during this special day of No Moon which offers transformative opportunities through silence practice. \n‘You may join for the entire day or at any point during the program for however much time you are able to stay. The schedule will start at 6:00 a.m. with Morning Prayers in the Himalayan Tradition\, and will include practices such as silent Joints and Glands\, Pranayama\, unguided meditation\, silent flower havan\, guided subtle body practices. The program will conclude after evening meditation and evening prayers at 8:00 p.m. \nRSVP here if you intend to come for any part of the day. \nTentative schedule: \n6:00 -6:15 a.m.:Morning Prayers in the Himalayan Tradition \n6:15- 7:00 a.m.: Silent Pranayama and Joints and Glands Practice \n7:00-8:00 a.m.: Meditation (Not Guided) \n8:00-9:15 a.m.z: Breakfast \n11:00-11:30 a.m.z; Silent Community Flower/Water Puja \n12:00-1:00 p.m.: Lunch with Vegan Soup\, Bread\, Fruit \n1:00-6:00 p.m.: Individual Participation in the Flower/Water Puja\, Open Sitting in Meditation\, Ganapati Mantra Practice\, Subtle \nBody Practices \n6:00- 6:30 p.m.: Light Supper \n8:00 p.m.: Meditation and Evening Prayers. \nThe focus throughout the day will be on Ganapati Mantra for enhancing and stabilizing our practice as we travel through this “Decade of Loving Transformation.” \nThis will be an in-person only event.
URL:https://themeditationcenter.org/class/mauna-amavasya-day-a-silence-day-on-friday-february-9-2024/
CATEGORIES:Silence Retreat,Special Events
ATTACH;FMTTYPE=image/jpeg:https://themeditationcenter.org/wp-content/uploads/2024/01/SilverWinterNewMoon.jpg
END:VEVENT
END:VCALENDAR