BEGIN:VCALENDAR
VERSION:2.0
PRODID:-//The Meditation Center - ECPv6.15.20//NONSGML v1.0//EN
CALSCALE:GREGORIAN
METHOD:PUBLISH
X-WR-CALNAME:The Meditation Center
X-ORIGINAL-URL:https://themeditationcenter.org
X-WR-CALDESC:Events for The Meditation Center
REFRESH-INTERVAL;VALUE=DURATION:PT1H
X-Robots-Tag:noindex
X-PUBLISHED-TTL:PT1H
BEGIN:VTIMEZONE
TZID:America/Chicago
BEGIN:DAYLIGHT
TZOFFSETFROM:-0600
TZOFFSETTO:-0500
TZNAME:CDT
DTSTART:20230312T080000
END:DAYLIGHT
BEGIN:STANDARD
TZOFFSETFROM:-0500
TZOFFSETTO:-0600
TZNAME:CST
DTSTART:20231105T070000
END:STANDARD
BEGIN:DAYLIGHT
TZOFFSETFROM:-0600
TZOFFSETTO:-0500
TZNAME:CDT
DTSTART:20240310T080000
END:DAYLIGHT
BEGIN:STANDARD
TZOFFSETFROM:-0500
TZOFFSETTO:-0600
TZNAME:CST
DTSTART:20241103T070000
END:STANDARD
BEGIN:DAYLIGHT
TZOFFSETFROM:-0600
TZOFFSETTO:-0500
TZNAME:CDT
DTSTART:20250309T080000
END:DAYLIGHT
BEGIN:STANDARD
TZOFFSETFROM:-0500
TZOFFSETTO:-0600
TZNAME:CST
DTSTART:20251102T070000
END:STANDARD
END:VTIMEZONE
BEGIN:VEVENT
DTSTART;TZID=America/Chicago:20240215T190000
DTEND;TZID=America/Chicago:20240215T203000
DTSTAMP:20260419T121933
CREATED:20240129T233241Z
LAST-MODIFIED:20240129T233241Z
UID:20934-1708023600-1708029000@themeditationcenter.org
SUMMARY:Thursday Satsang In Person at TMC and Via Zoom:  "An Evening of Spiritual Music with Chris Young\, "Songs Dancing into Silence" - February 15\, 2024\,  7:00- 8:30 p.m. CST
DESCRIPTION:Thursday Satsang In Person at TMC and Via Zoom – February 15\, 2024\nAn Evening of Spiritual Music with Chris Young\n“Songs Dancing into Silence”\n7:00 p.m. – 8:30 p.m. CST\n\n5:30-6:45 p.m.: Gentle Hatha Yoga with Susan Guthrie\n7:00-7:30 p.m.: Meditation Guided by Swami Radha Bharati\n7:30-8:30 p.m.: Special Spiritual Music with Chris Young “Songs Dancing into Silence”\n8:30 p.m.: Evening Prayers\n8:40 p.m.: Snacks\nThe music is not in the notes\, but in the silence between. \n~ Mozart~ \nHushhhhh…Listen!  Did you hear the music in the last space? \n~Swami Veda Bharati~ \nJoin Chris in this evening of spiritual music\, it being an opportunity\, a vehicle\, to receive an experience of Beauty; a time to drop the worry and the hurry\, set aside the intellect\, and simply be… with people who are beautiful\, in a setting that is beautiful\, and with beautiful music.\n\n“Kirtan is a spiritual practice that originated in India centuries ago. The word “kirtan” means singing\, chanting\, and praising the Divine. It is a sacred practice anyone can do; no special training is required. The music does the work for you\, carrying you to a state of tremendous joy and mental clarity…\n\n…But the most important instrument in kirtan is the voice\,’There is a sacredness in everyone’s voice. It is like hearing your own soul’\, shares Milwaukee-based kirtan wallah Ragani. who leads one of the largest ongoing monthly kirtan events in North America. Your voice comes from within; it is uniquely yours. Unlike an instrument which acts on you\, emanating from the outside in\, the voice acts internally\, emanating from the inside out. When you sing kirtan\, you can literally feel the sound resonating inside you. ‘massaging’ your inner organs with sacred mantras…”\n(Kirtan! Chanting as a Spiritual Path\, pages 7 and 9)
URL:https://themeditationcenter.org/class/thursday-satsang-in-person-at-tmc-and-via-zoom-an-evening-of-spiritual-music-with-chris-young-songs-dancing-into-silence-february-15-2024-700-830-p-m-cst/
CATEGORIES:Thursday Satsangs,Thursday Satsangs
ATTACH;FMTTYPE=image/jpeg:https://themeditationcenter.org/wp-content/uploads/2022/03/Chris_Young_Mar_2022-scaled.jpeg
END:VEVENT
END:VCALENDAR