BEGIN:VCALENDAR
VERSION:2.0
PRODID:-//The Meditation Center - ECPv6.15.20//NONSGML v1.0//EN
CALSCALE:GREGORIAN
METHOD:PUBLISH
X-WR-CALNAME:The Meditation Center
X-ORIGINAL-URL:https://themeditationcenter.org
X-WR-CALDESC:Events for The Meditation Center
REFRESH-INTERVAL;VALUE=DURATION:PT1H
X-Robots-Tag:noindex
X-PUBLISHED-TTL:PT1H
BEGIN:VTIMEZONE
TZID:America/Chicago
BEGIN:DAYLIGHT
TZOFFSETFROM:-0600
TZOFFSETTO:-0500
TZNAME:CDT
DTSTART:20230312T080000
END:DAYLIGHT
BEGIN:STANDARD
TZOFFSETFROM:-0500
TZOFFSETTO:-0600
TZNAME:CST
DTSTART:20231105T070000
END:STANDARD
BEGIN:DAYLIGHT
TZOFFSETFROM:-0600
TZOFFSETTO:-0500
TZNAME:CDT
DTSTART:20240310T080000
END:DAYLIGHT
BEGIN:STANDARD
TZOFFSETFROM:-0500
TZOFFSETTO:-0600
TZNAME:CST
DTSTART:20241103T070000
END:STANDARD
BEGIN:DAYLIGHT
TZOFFSETFROM:-0600
TZOFFSETTO:-0500
TZNAME:CDT
DTSTART:20250309T080000
END:DAYLIGHT
BEGIN:STANDARD
TZOFFSETFROM:-0500
TZOFFSETTO:-0600
TZNAME:CST
DTSTART:20251102T070000
END:STANDARD
END:VTIMEZONE
BEGIN:VEVENT
DTSTART;TZID=America/Chicago:20240222T190000
DTEND;TZID=America/Chicago:20240222T203000
DTSTAMP:20260423T044316
CREATED:20240129T233852Z
LAST-MODIFIED:20240129T234101Z
UID:20935-1708628400-1708633800@themeditationcenter.org
SUMMARY:Thursday Satsang Via Zoom and In-Person Viewing Only: "Ayurvedic Study Group: On the Preservation of Health" with Gary Gran DAy. CYT and Cynthia Gran DAy. E-RYT 500\, YACEP on February 22\, 2024 at 7:00-8:30 p.m. CST
DESCRIPTION:Thursday Satsang Via Zoom and In-Person Viewing at TMC –  February 22\, 2024\n“Ayurvedic Study Group: On the Preservation of Health”\nwith Gary Gran DAy. CYT and Cynthia Gran DAy. E-RYT 500\, YACEP\n7:00 p.m. – 8:30 p.m. CST\n6:00-7:00 p.m.: Gentle Hatha Yoga with Eric Ness\n\n7:00-7:30 p.m.: Guided Meditation with Swami Radha Bharati\n\n7:30-8:30 p.m.: “Ayurvedic Study Group: On the Preservation of Health”\nwith Gary Gran\, CYT\, DAy. and Cynthia Gran DAy. E-RYT 500\, YACEP\n\n8:30 p.m.: Evening Prayers\n\n8:40 p.m. – Snacks\n\n	\n\n\n\n\nPlease join us for the next meeting of our Ayurvedic study group. Attendance at prior meetings is not required. All are welcome. \nWe’ll begin a new section of the “Charaka Samhita” this evening called “On the Preservation of Health.” \nPlease bring your ‘beginner’s mind’ and join us as we listen deeply and reflect on the words of the sages. \n  \n“May we live happily and healthily for 100 autumns\, \nand see each other with love and respect for 100 years.” \n-Atharva Veda \n\n\nGary and Cynthia Gran have been treading the Himalayan path since the late 1970s. They met at the old Glenview Center in Illinois and have served the tradition in various capacities over the years. They are both certified yoga teachers and Ayurvedic educators. They have published more than eighty articles on yoga\, meditation and Ayurveda. They are once again enjoying desert gardening\, cooking and hiking at their home in Tucson\, Arizona. \nGary Gran\, DAy. CYT \nCynthia Gran\, DAy. E-RYT 500\, YACEP \n\n\n\nGary’s  blog is ayurvedalessons.com.
URL:https://themeditationcenter.org/class/thursday-satsang-via-zoom-and-in-person-viewing-only-ayurvedic-study-group-on-the-preservation-of-health-with-gary-gran-day-cyt-and-cynthia-gran-day-e-ryt-500-yacep-on-february-22-2024-at-7/
CATEGORIES:Thursday Satsangs,Thursday Satsangs
ATTACH;FMTTYPE=image/jpeg:https://themeditationcenter.org/wp-content/uploads/2021/05/image.jpeg
END:VEVENT
END:VCALENDAR