BEGIN:VCALENDAR
VERSION:2.0
PRODID:-//The Meditation Center - ECPv6.15.20//NONSGML v1.0//EN
CALSCALE:GREGORIAN
METHOD:PUBLISH
X-WR-CALNAME:The Meditation Center
X-ORIGINAL-URL:https://themeditationcenter.org
X-WR-CALDESC:Events for The Meditation Center
REFRESH-INTERVAL;VALUE=DURATION:PT1H
X-Robots-Tag:noindex
X-PUBLISHED-TTL:PT1H
BEGIN:VTIMEZONE
TZID:America/Chicago
BEGIN:DAYLIGHT
TZOFFSETFROM:-0600
TZOFFSETTO:-0500
TZNAME:CDT
DTSTART:20230312T080000
END:DAYLIGHT
BEGIN:STANDARD
TZOFFSETFROM:-0500
TZOFFSETTO:-0600
TZNAME:CST
DTSTART:20231105T070000
END:STANDARD
BEGIN:DAYLIGHT
TZOFFSETFROM:-0600
TZOFFSETTO:-0500
TZNAME:CDT
DTSTART:20240310T080000
END:DAYLIGHT
BEGIN:STANDARD
TZOFFSETFROM:-0500
TZOFFSETTO:-0600
TZNAME:CST
DTSTART:20241103T070000
END:STANDARD
BEGIN:DAYLIGHT
TZOFFSETFROM:-0600
TZOFFSETTO:-0500
TZNAME:CDT
DTSTART:20250309T080000
END:DAYLIGHT
BEGIN:STANDARD
TZOFFSETFROM:-0500
TZOFFSETTO:-0600
TZNAME:CST
DTSTART:20251102T070000
END:STANDARD
END:VTIMEZONE
BEGIN:VEVENT
DTSTART;TZID=America/Chicago:20240401T183000
DTEND;TZID=America/Chicago:20240401T200000
DTSTAMP:20260422T180846
CREATED:20240110T145346Z
LAST-MODIFIED:20240306T134406Z
UID:21012-1711996200-1712001600@themeditationcenter.org
SUMMARY:In-Person Meditation II : Superconscious Meditation with Rodney Huff (Rajni)\, Mondays: March 11 – April 15\, 2024
DESCRIPTION:In-Person Meditation II\nSuperconscious Meditation with Rodney Huff (Rajni)\nMondays: March 11 – April 15\, 2024\n6:30 p.m.- 8:00 p.m.\nCost: $85.00 for the 6-week series\nRegister here.\nMeditation II focuses on powerful and practical yoga practices that quiet and focus the mind; decreasing our emotional reactivity which often creates stress and pain in our relationships. Students will also receive 8 free CD’s or MP3’s of Swami Veda’s penetrating and inspiring lectures on yoga psychology and philosophy. These audios create an interactive atmosphere for discussion of questions and insights generated by the lectures. \nRodney Huff  (Rajni) first came to the Center in January of 2000 and quickly took as many classes as he could. Since then he has traveled to India to study at Sadhana Mandir and Sadhaka Grama in Rishikesh. He began teaching Hatha yoga in 2003 and has been a regular teacher of Hatha Yoga (I & II) as well as Meditation I. Rodney is grateful for the opportunity to teach at a place as special as the Meditation Center. The teachings he received transformed his life\, and he hopes that each of his students can have an equally rewarding experience.
URL:https://themeditationcenter.org/class/in-person-meditation-i-learning-the-basics-with-rodney-huff-rajni-mondays-january-15-february-19-2024/2024-04-01/
CATEGORIES:Classes,Meditation
ATTACH;FMTTYPE=image/jpeg:https://themeditationcenter.org/wp-content/uploads/2019/05/rodney300x200.jpg
END:VEVENT
END:VCALENDAR