BEGIN:VCALENDAR
VERSION:2.0
PRODID:-//The Meditation Center - ECPv6.15.20//NONSGML v1.0//EN
CALSCALE:GREGORIAN
METHOD:PUBLISH
X-WR-CALNAME:The Meditation Center
X-ORIGINAL-URL:https://themeditationcenter.org
X-WR-CALDESC:Events for The Meditation Center
REFRESH-INTERVAL;VALUE=DURATION:PT1H
X-Robots-Tag:noindex
X-PUBLISHED-TTL:PT1H
BEGIN:VTIMEZONE
TZID:America/Chicago
BEGIN:DAYLIGHT
TZOFFSETFROM:-0600
TZOFFSETTO:-0500
TZNAME:CDT
DTSTART:20230312T080000
END:DAYLIGHT
BEGIN:STANDARD
TZOFFSETFROM:-0500
TZOFFSETTO:-0600
TZNAME:CST
DTSTART:20231105T070000
END:STANDARD
BEGIN:DAYLIGHT
TZOFFSETFROM:-0600
TZOFFSETTO:-0500
TZNAME:CDT
DTSTART:20240310T080000
END:DAYLIGHT
BEGIN:STANDARD
TZOFFSETFROM:-0500
TZOFFSETTO:-0600
TZNAME:CST
DTSTART:20241103T070000
END:STANDARD
BEGIN:DAYLIGHT
TZOFFSETFROM:-0600
TZOFFSETTO:-0500
TZNAME:CDT
DTSTART:20250309T080000
END:DAYLIGHT
BEGIN:STANDARD
TZOFFSETFROM:-0500
TZOFFSETTO:-0600
TZNAME:CST
DTSTART:20251102T070000
END:STANDARD
END:VTIMEZONE
BEGIN:VEVENT
DTSTART;TZID=America/Chicago:20240418T190000
DTEND;TZID=America/Chicago:20240418T203000
DTSTAMP:20260421T142227
CREATED:20240417T233913Z
LAST-MODIFIED:20240417T233913Z
UID:21046-1713466800-1713472200@themeditationcenter.org
SUMMARY:Thursday Satsang Via Zoom and In-Person Viewing at TMC: "Tending to Our Sacred Gardens in a Time of Drought" Water Conservation Landscape Techniques for Our Gardens\, Our Planet with Fred Rozumalski - April 18\, 2024
DESCRIPTION:Thursday Satsang Via Zoom and In-Person Viewing at TMC – April 18\, 2024\n\n“Tending to Our Sacred Gardens in a Time of Drought”\nWater Conservation Landscape Techniques  for Our Gardens\, Our Planet\nwith Fred Rozumalski\n7:00 – 8:30 p.m. CT\n\n	\n\n\n5:30-6:45 p.m.: In Person Only – Gentle Hatha Yoga with Chris Young\n7:00-7:30 p.m.: Guided Meditation with with Swami Ma Radha Bharati\n7:30-8:30 p.m.: “Tending to Our Sacred Gardens in a Time of Drought” Water Conservation Landscape Techniques  for Our Gardens\, Our Planet with Fred Rozumalski\n8:30 p.m.: Evening Prayers\n8:40 p.m.: Snacks\n\n	\n\n\nWe\, in Minnesota\, have been experiencing 3 years of drought. Gardeners will increasingly be required to address these extremes as the climate continues to change. In this talk Fred will present landscape techniques to address drought tolerance and water conservation along with his favorite drought tolerant plants. It is time to prepare for whatever nature will throw at us this summer. \nFred’s garden was showcased in the May/June 2020 issue of “Northern Gardener.” \nRead here  the article “Sustainably Scenic “about Fred’s gardening techniques. \nFred is a well-known Twin Cities landscape architect\, ecologist\, and horticulturist. And Fred is a member of the TMC community. \nTo support the work of The Meditation Center and register you can donate here (suggested donation $15.00) for Thursday Satsang or make a general donation by clicking on the “donate” button on the “Support TMC” website page. \nOr donate through PayPal. \nNote: There is parking available for TMC visitors  in the St. Boniface lot across the street from the Center. \n 
URL:https://themeditationcenter.org/class/thursday-satsang-via-zoom-and-in-person-viewing-at-tmc-tending-to-our-sacred-gardens-in-a-time-of-drought-water-conservation-landscape-techniques-for-our-gardens-our-planet-with-fred-rozumalski/
CATEGORIES:Thursday Satsangs
ATTACH;FMTTYPE=image/jpeg:https://themeditationcenter.org/wp-content/uploads/2018/03/Fred-Rozumalski-wp-1-1.jpg
END:VEVENT
END:VCALENDAR