BEGIN:VCALENDAR
VERSION:2.0
PRODID:-//The Meditation Center - ECPv6.15.20//NONSGML v1.0//EN
CALSCALE:GREGORIAN
METHOD:PUBLISH
X-ORIGINAL-URL:https://themeditationcenter.org
X-WR-CALDESC:Events for The Meditation Center
REFRESH-INTERVAL;VALUE=DURATION:PT1H
X-Robots-Tag:noindex
X-PUBLISHED-TTL:PT1H
BEGIN:VTIMEZONE
TZID:America/Chicago
BEGIN:DAYLIGHT
TZOFFSETFROM:-0600
TZOFFSETTO:-0500
TZNAME:CDT
DTSTART:20230312T080000
END:DAYLIGHT
BEGIN:STANDARD
TZOFFSETFROM:-0500
TZOFFSETTO:-0600
TZNAME:CST
DTSTART:20231105T070000
END:STANDARD
BEGIN:DAYLIGHT
TZOFFSETFROM:-0600
TZOFFSETTO:-0500
TZNAME:CDT
DTSTART:20240310T080000
END:DAYLIGHT
BEGIN:STANDARD
TZOFFSETFROM:-0500
TZOFFSETTO:-0600
TZNAME:CST
DTSTART:20241103T070000
END:STANDARD
BEGIN:DAYLIGHT
TZOFFSETFROM:-0600
TZOFFSETTO:-0500
TZNAME:CDT
DTSTART:20250309T080000
END:DAYLIGHT
BEGIN:STANDARD
TZOFFSETFROM:-0500
TZOFFSETTO:-0600
TZNAME:CST
DTSTART:20251102T070000
END:STANDARD
END:VTIMEZONE
BEGIN:VEVENT
DTSTART;TZID=America/Chicago:20240523T190000
DTEND;TZID=America/Chicago:20240523T203000
DTSTAMP:20260421T214739
CREATED:20240507T221427Z
LAST-MODIFIED:20240521T195103Z
UID:21095-1716490800-1716496200@themeditationcenter.org
SUMMARY:Thursday Satsang Via Zoom and In-Person Viewing Only: Ayurvedic Study Group with  Gary Gran DAy. CYT and Cynthia Gran DAy. E-RYT 500\, YACEP on April 25\, 2024 at 7:00-8:30 p.m. CDT
DESCRIPTION:Thursday Satsang Via Zoom and In-Person Viewing at TMC –  May 23\, 2024\nAyurvedic Study Group: Time\, Space & Causation:\nHarmonizing Ourselves with Nature & the Cycles of Time”\nwith Gary Gran DAy. CYT and Cynthia Gran DAy. E-RYT 500\, YACEP\n7:00 p.m. – 8:30 p.m. CDT\n\n	\n\n\n5:30-6:45 p.m.: In-Person Gentle Hatha Yoga with Sunita Gangopadhyay\n6:15-7:00 p.m. Vegan Soup Light Supper \n7:00-8:00 p.m.: Ayurvedic Study Group:mTime\, Space & Causation:\nHarmonizing Ourselves with Nature & the Cycles of Time”\nwith Gary Gran\, DAy. CYT and Cynthia Gran\, DAy. E-RYT 500\, YACEP\n8:00-8:30 p.m.: Guided Meditation with Swami Radha Bharati\n8:30 p.m.: Evening Prayers\n8:40 p.m. Clean-Up and Departure after Prayers \n\n	\n\n\n\nTradition tells us we are all subject to time\, space\, and causation. In this session\, we’ll contemplate some verses on the nature of Time from the Atharva Veda. Then we’ll share Swami Rama’s explanation of how our minds are conditioned by time. We’ll conclude with more verses from Chapter 6 of the Charaka Samhita on how the fluctuations of time affect our health\, with tips on how to stay balanced this summer! \nPlease bring your ‘beginner’s mind’ and join us as we listen deeply and reflect on the words of the sages. Attendance at prior meetings is not required. All are welcome. \n“Time is a filter. Anything that happens goes through the filter of time.” \n– Swami Rama \n\n\nGary and Cynthia Gran have been treading the Himalayan path since the late 1970s. They met at the old Glenview Center in Illinois and have served the tradition in various capacities over the years. They are both certified yoga teachers and Ayurvedic educators. They have published more than eighty articles on yoga\, meditation and Ayurveda. They are once again enjoying desert gardening\, cooking and hiking at their home in Tucson\, Arizona. \nGary Gran\, DAy. CYT \nCynthia Gran\, DAy. E-RYT 500\, YACEP \n\n\n\nGary’s  blog is ayurvedalessons.com.
URL:https://themeditationcenter.org/class/thursday-satsang-via-zoom-and-in-person-viewing-only-ayurvedic-study-group-with-gary-gran-day-cyt-and-cynthia-gran-day-e-ryt-500-yacep-on-april-25-2024-at-700-830-p-m-cdt-2/
CATEGORIES:Thursday Satsangs,Thursday Satsangs
ATTACH;FMTTYPE=image/jpeg:https://themeditationcenter.org/wp-content/uploads/2021/05/image.jpeg
END:VEVENT
BEGIN:VEVENT
DTSTART;TZID=America/Chicago:20240523T210000
DTEND;TZID=America/Chicago:20240523T220000
DTSTAMP:20260421T214739
CREATED:20240507T220023Z
LAST-MODIFIED:20240507T220023Z
UID:21094-1716498000-1716501600@themeditationcenter.org
SUMMARY:Global Full Moon Meditation via Zoom from Chicago\, May 23\, 2024\,  9:00-10:00p.m. CT
DESCRIPTION:Thursday\, May 23\, 2024\nGlobal Full Moon Meditation Via Zoom\n9:00-10:00 P.M. CT\nThis Full Moon Meditation via Zoom will begin guided by Dr. Stephen Parker (Stoma)  followed by a silent meditation until 10:00 p.m.\nThis event is courtesy of the Chicago Himalayan Yoga & Meditation Center – HYMC. \nTo get the Zoom link and for more information aregarding the global full moon meditation schedule \nvisit HYMC’s website here. \n“You are lovingly invited to sit in meditation for an hour wherever you are\, in your home or with friends. Total beginners and longtime practitioners\, non-initiates and initiates are welcome. If you cannot sit for the entire hour\, sit as long as you are able; as Swami Veda has said\, ‘Let the quietness of the mind continue even after you rise..’” (Courtesy of AHYMSIN.org January 2023 newsletter). \nEveryone is welcome! \n“Yoga Philosophy views the mind as Universal field; its waves passing through us and becoming our individual minds. This Universal mind is a radiant force and is also known as a Universal Guru within.” \n“When all sit together at the same time even in different parts of the world\, they connect to the Universal Guru mind and generate a strong field\, like so many magnets being joined together and forming a much stronger magnet; the strength of each then equals the combined strength of all.” \n– Swami Veda Bharati –
URL:https://themeditationcenter.org/class/global-full-moon-meditation-via-zoom-from-chicago-may-23-2024-900-1000p-m-ct/
CATEGORIES:Full Moon Meditation
ATTACH;FMTTYPE=image/jpeg:https://themeditationcenter.org/wp-content/uploads/2019/02/pexels-photo-884788full_moon_with-_tree_WP-1.jpg
END:VEVENT
END:VCALENDAR