BEGIN:VCALENDAR
VERSION:2.0
PRODID:-//The Meditation Center - ECPv6.15.20//NONSGML v1.0//EN
CALSCALE:GREGORIAN
METHOD:PUBLISH
X-WR-CALNAME:The Meditation Center
X-ORIGINAL-URL:https://themeditationcenter.org
X-WR-CALDESC:Events for The Meditation Center
REFRESH-INTERVAL;VALUE=DURATION:PT1H
X-Robots-Tag:noindex
X-PUBLISHED-TTL:PT1H
BEGIN:VTIMEZONE
TZID:America/Chicago
BEGIN:DAYLIGHT
TZOFFSETFROM:-0600
TZOFFSETTO:-0500
TZNAME:CDT
DTSTART:20230312T080000
END:DAYLIGHT
BEGIN:STANDARD
TZOFFSETFROM:-0500
TZOFFSETTO:-0600
TZNAME:CST
DTSTART:20231105T070000
END:STANDARD
BEGIN:DAYLIGHT
TZOFFSETFROM:-0600
TZOFFSETTO:-0500
TZNAME:CDT
DTSTART:20240310T080000
END:DAYLIGHT
BEGIN:STANDARD
TZOFFSETFROM:-0500
TZOFFSETTO:-0600
TZNAME:CST
DTSTART:20241103T070000
END:STANDARD
BEGIN:DAYLIGHT
TZOFFSETFROM:-0600
TZOFFSETTO:-0500
TZNAME:CDT
DTSTART:20250309T080000
END:DAYLIGHT
BEGIN:STANDARD
TZOFFSETFROM:-0500
TZOFFSETTO:-0600
TZNAME:CST
DTSTART:20251102T070000
END:STANDARD
END:VTIMEZONE
BEGIN:VEVENT
DTSTART;TZID=America/Chicago:20240525T090000
DTEND;TZID=America/Chicago:20240525T100000
DTSTAMP:20260421T193608
CREATED:20240423T225235Z
LAST-MODIFIED:20240423T225236Z
UID:21059-1716627600-1716631200@themeditationcenter.org
SUMMARY:“Lessons Swamiji Veda Taught Me” with Randall Krause - Saturday: May 25\, 2024 - 10:00-11:00 a.m.
DESCRIPTION:New Monthly Saturday Zoom Series with Randall Krause\n“Lessons Swamiji Veda Taught Me”\nClass will meet on the second Saturday of each month.\nMay 25\, 2024\n9:00 – 10:00 a.m. CT\nCost: $15.00/session\nNext class will meet on June 8th.\nRegistration coming\, \nJoin Randall Krause for a Saturday morning series of one-hour programs during which Randall will talk about a lesson Swami Veda gave him. Then as a group we will discuss how to integrate that lesson into our lives. \nThe series will be interactive\, with group discussion\, exercises\, and stories. \nRandall is a senior teacher and senior mentor on the tradition\, served Dr. Arya and Swami Veda many times\, has taught for the Tradition in Europe\, Asia\, and North America. He considers his meeting and subsequent initiation by Dr Arya to be one of the most fortunate events in his life. Outside of yoga\, Randall practiced law for many years and served as a personal coach. He is also a disciple of Master Bosco Baek of the Chen Village Tai Chi tradition. He continues to teach both yoga-meditation and tai chi.
URL:https://themeditationcenter.org/class/lessons-swamiji-veda-taught-me-with-randall-krause-saturday-may-25-2024-1000-1100-a-m/
CATEGORIES:Workshops
ATTACH;FMTTYPE=image/jpeg:https://themeditationcenter.org/wp-content/uploads/2017/02/Randall_Karuse_wp_2016-1-1.jpg
END:VEVENT
END:VCALENDAR