BEGIN:VCALENDAR
VERSION:2.0
PRODID:-//The Meditation Center - ECPv6.15.20//NONSGML v1.0//EN
CALSCALE:GREGORIAN
METHOD:PUBLISH
X-ORIGINAL-URL:https://themeditationcenter.org
X-WR-CALDESC:Events for The Meditation Center
REFRESH-INTERVAL;VALUE=DURATION:PT1H
X-Robots-Tag:noindex
X-PUBLISHED-TTL:PT1H
BEGIN:VTIMEZONE
TZID:America/Chicago
BEGIN:DAYLIGHT
TZOFFSETFROM:-0600
TZOFFSETTO:-0500
TZNAME:CDT
DTSTART:20230312T080000
END:DAYLIGHT
BEGIN:STANDARD
TZOFFSETFROM:-0500
TZOFFSETTO:-0600
TZNAME:CST
DTSTART:20231105T070000
END:STANDARD
BEGIN:DAYLIGHT
TZOFFSETFROM:-0600
TZOFFSETTO:-0500
TZNAME:CDT
DTSTART:20240310T080000
END:DAYLIGHT
BEGIN:STANDARD
TZOFFSETFROM:-0500
TZOFFSETTO:-0600
TZNAME:CST
DTSTART:20241103T070000
END:STANDARD
BEGIN:DAYLIGHT
TZOFFSETFROM:-0600
TZOFFSETTO:-0500
TZNAME:CDT
DTSTART:20250309T080000
END:DAYLIGHT
BEGIN:STANDARD
TZOFFSETFROM:-0500
TZOFFSETTO:-0600
TZNAME:CST
DTSTART:20251102T070000
END:STANDARD
END:VTIMEZONE
BEGIN:VEVENT
DTSTART;TZID=America/Chicago:20240530T190000
DTEND;TZID=America/Chicago:20240530T203000
DTSTAMP:20260420T232603
CREATED:20240521T203411Z
LAST-MODIFIED:20240529T225844Z
UID:21103-1717095600-1717101000@themeditationcenter.org
SUMMARY:Thursday Satsang In Person and Via Zoom: "Listening Circle" with Maja Radovanlija\, Matt Rahaim\, and Molly Sturges - May 30\, 2024
DESCRIPTION:Thursday Satsang In Person and via Zoom  – May 23\, 2024\n“Listening Circle” with Maja Radovanlija\, Matt Rahaim\, and Molly Sturges\n7:00 – 8:30 p.m. CDT\n\n	\n\n\n5:30-6:45 p.m.: In-Person Gentle Hatha Yoga with Michael Snodgrass\n7:00-8:00 p.m.: An Evening of Music with Maja Radovanlija\, Matt Rahaim\, and Molly Sturges\n8:00-8:30 p.m.: Meditation Guided by Swami Ma Radha Bharati\n8:30 p.m.: Evening Prayers\n8:40 p.m.: Snacks\n\n	\n\n\nJoin Maja Radovanlija\, (Professor of  guitar and improvisation at the University of Minnesota;  Matt Rahaim (hindustani vocal music/ethnomusicologist); and Molly Sturges\, ( healing centered composer/artistic director\, music/sound and health researcher) for an evening of beautiful music.  Come and enjoy the evening with uplifting harmony and vibrations. Come and gather…listen…listen…listen…with an open heart. \n \nMaja Radovanlija was born in Belgrade\, Yugoslavia (now Serbia)\, in 1975. She studied classical guitar for almost 20 years in Eastern Europe\, Vienna and Bloomington\, IN. Along the way\, Maja collaborated with musicians in a variety of genres and became interested in improvised music through Balkan traditional music\, jazz\, intuitive free improv\, and experimental music. Some of the projects and ensembles Maja works with on regular bases are Szilard Mezéi ensemble\, Minneapolis Guitar Quartet\, Ensemble Studio6\, MM Guitar duo\, Linda Chatterton-MRadovanlija guitar/flute duo\, and Satu Jiwa improvised music collective. Maja’s recent projects are Jeleche trio (traditional Balkan music)\, and collaborations with improvisers such as Milana Zarić\, Molly Sturges\, and Matt Rahaim. \nMatt Rahaim is a teacher\, performer and student of Hindustani vocal music. He has trained in the Gwalior tradition for twenty years\, first in Pune under Vikas Kashalkar\, and lately under the guidance of his guru\, L.K. Pandit\, in Delhi. He also is Associate Professor of Music at the University of Minnesota\, with affiliations in Religious Studies\, Asian Languages / Literatures / Media\, and Cultural Studies & Comparative Literature. \nMolly Jane Sturges is a healing centered composer/artistic director\, music/sound and health researcher\, facilitator\, educator\, activist\, whole health coach\, and meditation teacher who has worked with individuals\, organizations\, and communities around the globe for over 30 years at the intersection of personal and collective healing\, participatory music and arts\, spirituality\, healthcare\, creative research\, community organizing\, and education.  She is currently a senior researcher/faculty/artist at the University of Minnesota\, a senior fellow and coaching faculty with The Center for Excellence in Public Leadership at George Washington University and artist-faculty with Minnesota’s College of Art and Design’s Creative Leadership Program where she specializes in teaching interdisciplinary creative collaboration and contemplative and creative wellbeing relational practices. Molly collaborates with individuals\, communities\, and organizations across the globe to co-create a care-centric\, equitable\, compassionate and earth-centered world. Molly is a United States Artist Fellow in Music and a founder of many creative healing activation projects including Littleglobe\, Firerock: Pass The Spark\, Lifesongs and Waking The Oracle. Courtesy of www.mollysturges.com \nTo support the work of The Meditation Center and register you can donate here (suggested donation $15.00) for Thursday Satsang or make a general donation by clicking on the “donate” button on the “Support TMC” website page. \nOr donate through PayPal. \nNote: There is parking available for TMC visitors in the St. Boniface lot across the street from the Center. \n 
URL:https://themeditationcenter.org/class/thursday-satsang-in-person-and-via-zoom-an-evening-of-music-with-maja-radovanlija-matt-rahaim-and-molly-sturges-may-30-2024/
CATEGORIES:Thursday Satsangs
ATTACH;FMTTYPE=image/jpeg:https://themeditationcenter.org/wp-content/uploads/2024/05/Saraswati-3-e1717025513963.jpg
END:VEVENT
END:VCALENDAR