BEGIN:VCALENDAR
VERSION:2.0
PRODID:-//The Meditation Center - ECPv6.15.20//NONSGML v1.0//EN
CALSCALE:GREGORIAN
METHOD:PUBLISH
X-WR-CALNAME:The Meditation Center
X-ORIGINAL-URL:https://themeditationcenter.org
X-WR-CALDESC:Events for The Meditation Center
REFRESH-INTERVAL;VALUE=DURATION:PT1H
X-Robots-Tag:noindex
X-PUBLISHED-TTL:PT1H
BEGIN:VTIMEZONE
TZID:America/Chicago
BEGIN:DAYLIGHT
TZOFFSETFROM:-0600
TZOFFSETTO:-0500
TZNAME:CDT
DTSTART:20230312T080000
END:DAYLIGHT
BEGIN:STANDARD
TZOFFSETFROM:-0500
TZOFFSETTO:-0600
TZNAME:CST
DTSTART:20231105T070000
END:STANDARD
BEGIN:DAYLIGHT
TZOFFSETFROM:-0600
TZOFFSETTO:-0500
TZNAME:CDT
DTSTART:20240310T080000
END:DAYLIGHT
BEGIN:STANDARD
TZOFFSETFROM:-0500
TZOFFSETTO:-0600
TZNAME:CST
DTSTART:20241103T070000
END:STANDARD
BEGIN:DAYLIGHT
TZOFFSETFROM:-0600
TZOFFSETTO:-0500
TZNAME:CDT
DTSTART:20250309T080000
END:DAYLIGHT
BEGIN:STANDARD
TZOFFSETFROM:-0500
TZOFFSETTO:-0600
TZNAME:CST
DTSTART:20251102T070000
END:STANDARD
END:VTIMEZONE
BEGIN:VEVENT
DTSTART;TZID=America/Chicago:20240620T080000
DTEND;TZID=America/Chicago:20240620T233000
DTSTAMP:20260420T111249
CREATED:20240611T194647Z
LAST-MODIFIED:20240611T194647Z
UID:21185-1718870400-1718926200@themeditationcenter.org
SUMMARY:40-Day Spiritual Festival 2024 from June 12- July 21 (Guru Purnima)\, 2024
DESCRIPTION:40-Day Spiritual Festival 2024 from June 12- July 21 (Guru Purnima)\, 2024\nRead here “41st Annual 40-Days Spiritual Festival June 12-July 21\, 2024″courtesy of AHYMSIN.org.\nThe festival is 40-days of purification of all aspects of our being through chosen practices. \nSome options for practices are :\nBegin or increase the Sangha Ganesha mantra japa…practice embodying Ganesha in stillness\, in his stillness. \nDecrease screen time\, especially in the evening; put down the phone\, turn off the computer. \nFind ways to honor Earth Mother: walk in silence in the woods\, feed the wild animals\, nourish the ants\, pick up trash in nature\, contemplate one of the five elements in nature. \nFast one day a week\, could be partial fasting or simply eliminating one preferred food item. \nContemplate that which helps you be still. \nDo self-study and journal your experiences. \nStudy “Sutra 1.33\,” the Brahma Viharas\, especially Upeksha (equanimity in the face of evil.
URL:https://themeditationcenter.org/class/40-day-spiritual-festival-2024-from-june-12-july-21-guru-purnima-2024/2024-06-20/
CATEGORIES:Special Events
ATTACH;FMTTYPE=image/jpeg:https://themeditationcenter.org/wp-content/uploads/2015/04/monk-feet-rosepetals-1-1.jpg
END:VEVENT
BEGIN:VEVENT
DTSTART;TZID=America/Chicago:20240620T190000
DTEND;TZID=America/Chicago:20240620T203000
DTSTAMP:20260420T111249
CREATED:20240530T225810Z
LAST-MODIFIED:20240611T183241Z
UID:21133-1718910000-1718915400@themeditationcenter.org
SUMMARY:Happy Summer Solstice! Thursday Satsang In Person and via Zoom: "Path of Fire & Light: Swami Rama in Illinois\, 1989" with Gary Gran CYT\, DAy.
DESCRIPTION:Thursday Satsang In Person and via Zoom: – June 20\, 2024\n“Path of Fire & Light: Swami Rama in Illinois\, 1989” with Gary Gran MBA\,CYT\, DAy.\n7:00 – 8:30 p.m. CDT\nHappy Summer Solstice!\n\n	\n\n\n5:30-6:45 p.m.: In-Person Gentle Hatha Yoga \n7:00-8:00 p.m.:”Path of Fire & Light: Swami Rama in Illinois\, 1989 with Gary Gran MBA\,CYT\, DAy.\n8:00-8:30 p.m.: Meditation Guided by Swami Ma Radha Bharati\n8:30 p.m.: Evening Prayers\n8:40 p.m.: Snacks\nEvery year from 1986 to 1989\, Swami Rama presented a series of lectures on the Path of Fire & Light. His stated purpose in offering these seminars was to ensure that his students were well-informed on the practices of the tradition. Proceeds from these seminars helped fund the opening of the Himalayan Institute Hospital in Dehradun\, India. According to the HIHT website: \n“Swamiji started this project in 1989 with an outpatient clinic of only two rooms. The hospital at HIHT currently has 750 beds and is serving approximately 10 million people of Garhwal\, Kumaon and adjoining areas.” \nThe 1989 lectures were given at the Sheraton Hotel in Northbrook\, Illinois over the course of three days\, August 18-20. He offered many intriguing tips to refine our standard practices. But the primary focus was to present what he called ‘the monastery system’ of meditation\, with an emphasis on third chakra practice and solar science. \n“You don’t need to be still like a log – you are a living being!” – Swami Rama \nGary Gran has been treading the Himalayan path since the late 1970s. He was in attendance for the 1986\,1987 & 1989 Path of Fire & Light seminars\, and will be presenting a recollection of the 1989 teachings from his personal notes.  He has served the tradition in various capacities over the years beginning at the old Glenview center in Illinois. He is a certified yoga teacher and an Ayurvedic educator\, having published more than eighty articles on yoga\, meditation and Ayurveda. He and herself Cynthia enjoy desert gardening\, cooking and hiking at their home in Tucson\, Arizona\, and are currently in summer residence in Minneapolis. \nGary Gran\, MBA\, DAy. CYT \n 
URL:https://themeditationcenter.org/class/thursday-satsang-in-person-and-via-zoom-path-of-fire-light-swami-rama-in-illinois-1989-with-gary-gran/
CATEGORIES:Thursday Satsangs
ATTACH;FMTTYPE=image/jpeg:https://themeditationcenter.org/wp-content/uploads/2023/03/unnamed-95.jpg
END:VEVENT
END:VCALENDAR