BEGIN:VCALENDAR
VERSION:2.0
PRODID:-//The Meditation Center - ECPv6.15.20//NONSGML v1.0//EN
CALSCALE:GREGORIAN
METHOD:PUBLISH
X-ORIGINAL-URL:https://themeditationcenter.org
X-WR-CALDESC:Events for The Meditation Center
REFRESH-INTERVAL;VALUE=DURATION:PT1H
X-Robots-Tag:noindex
X-PUBLISHED-TTL:PT1H
BEGIN:VTIMEZONE
TZID:America/Chicago
BEGIN:DAYLIGHT
TZOFFSETFROM:-0600
TZOFFSETTO:-0500
TZNAME:CDT
DTSTART:20230312T080000
END:DAYLIGHT
BEGIN:STANDARD
TZOFFSETFROM:-0500
TZOFFSETTO:-0600
TZNAME:CST
DTSTART:20231105T070000
END:STANDARD
BEGIN:DAYLIGHT
TZOFFSETFROM:-0600
TZOFFSETTO:-0500
TZNAME:CDT
DTSTART:20240310T080000
END:DAYLIGHT
BEGIN:STANDARD
TZOFFSETFROM:-0500
TZOFFSETTO:-0600
TZNAME:CST
DTSTART:20241103T070000
END:STANDARD
BEGIN:DAYLIGHT
TZOFFSETFROM:-0600
TZOFFSETTO:-0500
TZNAME:CDT
DTSTART:20250309T080000
END:DAYLIGHT
BEGIN:STANDARD
TZOFFSETFROM:-0500
TZOFFSETTO:-0600
TZNAME:CST
DTSTART:20251102T070000
END:STANDARD
END:VTIMEZONE
BEGIN:VEVENT
DTSTART;TZID=America/Chicago:20240625T080000
DTEND;TZID=America/Chicago:20240625T233000
DTSTAMP:20260420T144608
CREATED:20240611T194647Z
LAST-MODIFIED:20240611T194647Z
UID:21190-1719302400-1719358200@themeditationcenter.org
SUMMARY:40-Day Spiritual Festival 2024 from June 12- July 21 (Guru Purnima)\, 2024
DESCRIPTION:40-Day Spiritual Festival 2024 from June 12- July 21 (Guru Purnima)\, 2024\nRead here “41st Annual 40-Days Spiritual Festival June 12-July 21\, 2024″courtesy of AHYMSIN.org.\nThe festival is 40-days of purification of all aspects of our being through chosen practices. \nSome options for practices are :\nBegin or increase the Sangha Ganesha mantra japa…practice embodying Ganesha in stillness\, in his stillness. \nDecrease screen time\, especially in the evening; put down the phone\, turn off the computer. \nFind ways to honor Earth Mother: walk in silence in the woods\, feed the wild animals\, nourish the ants\, pick up trash in nature\, contemplate one of the five elements in nature. \nFast one day a week\, could be partial fasting or simply eliminating one preferred food item. \nContemplate that which helps you be still. \nDo self-study and journal your experiences. \nStudy “Sutra 1.33\,” the Brahma Viharas\, especially Upeksha (equanimity in the face of evil.
URL:https://themeditationcenter.org/class/40-day-spiritual-festival-2024-from-june-12-july-21-guru-purnima-2024/2024-06-25/
CATEGORIES:Special Events
ATTACH;FMTTYPE=image/jpeg:https://themeditationcenter.org/wp-content/uploads/2015/04/monk-feet-rosepetals-1-1.jpg
END:VEVENT
END:VCALENDAR