BEGIN:VCALENDAR
VERSION:2.0
PRODID:-//The Meditation Center - ECPv6.15.20//NONSGML v1.0//EN
CALSCALE:GREGORIAN
METHOD:PUBLISH
X-ORIGINAL-URL:https://themeditationcenter.org
X-WR-CALDESC:Events for The Meditation Center
REFRESH-INTERVAL;VALUE=DURATION:PT1H
X-Robots-Tag:noindex
X-PUBLISHED-TTL:PT1H
BEGIN:VTIMEZONE
TZID:America/Chicago
BEGIN:DAYLIGHT
TZOFFSETFROM:-0600
TZOFFSETTO:-0500
TZNAME:CDT
DTSTART:20230312T080000
END:DAYLIGHT
BEGIN:STANDARD
TZOFFSETFROM:-0500
TZOFFSETTO:-0600
TZNAME:CST
DTSTART:20231105T070000
END:STANDARD
BEGIN:DAYLIGHT
TZOFFSETFROM:-0600
TZOFFSETTO:-0500
TZNAME:CDT
DTSTART:20240310T080000
END:DAYLIGHT
BEGIN:STANDARD
TZOFFSETFROM:-0500
TZOFFSETTO:-0600
TZNAME:CST
DTSTART:20241103T070000
END:STANDARD
BEGIN:DAYLIGHT
TZOFFSETFROM:-0600
TZOFFSETTO:-0500
TZNAME:CDT
DTSTART:20250309T080000
END:DAYLIGHT
BEGIN:STANDARD
TZOFFSETFROM:-0500
TZOFFSETTO:-0600
TZNAME:CST
DTSTART:20251102T070000
END:STANDARD
END:VTIMEZONE
BEGIN:VEVENT
DTSTART;TZID=America/Chicago:20240627T080000
DTEND;TZID=America/Chicago:20240627T233000
DTSTAMP:20260423T213621
CREATED:20240611T194647Z
LAST-MODIFIED:20240611T194647Z
UID:21192-1719475200-1719531000@themeditationcenter.org
SUMMARY:40-Day Spiritual Festival 2024 from June 12- July 21 (Guru Purnima)\, 2024
DESCRIPTION:40-Day Spiritual Festival 2024 from June 12- July 21 (Guru Purnima)\, 2024\nRead here “41st Annual 40-Days Spiritual Festival June 12-July 21\, 2024″courtesy of AHYMSIN.org.\nThe festival is 40-days of purification of all aspects of our being through chosen practices. \nSome options for practices are :\nBegin or increase the Sangha Ganesha mantra japa…practice embodying Ganesha in stillness\, in his stillness. \nDecrease screen time\, especially in the evening; put down the phone\, turn off the computer. \nFind ways to honor Earth Mother: walk in silence in the woods\, feed the wild animals\, nourish the ants\, pick up trash in nature\, contemplate one of the five elements in nature. \nFast one day a week\, could be partial fasting or simply eliminating one preferred food item. \nContemplate that which helps you be still. \nDo self-study and journal your experiences. \nStudy “Sutra 1.33\,” the Brahma Viharas\, especially Upeksha (equanimity in the face of evil.
URL:https://themeditationcenter.org/class/40-day-spiritual-festival-2024-from-june-12-july-21-guru-purnima-2024/2024-06-27/
CATEGORIES:Special Events
ATTACH;FMTTYPE=image/jpeg:https://themeditationcenter.org/wp-content/uploads/2015/04/monk-feet-rosepetals-1-1.jpg
END:VEVENT
BEGIN:VEVENT
DTSTART;TZID=America/Chicago:20240627T190000
DTEND;TZID=America/Chicago:20240627T203000
DTSTAMP:20260423T213621
CREATED:20240611T183625Z
LAST-MODIFIED:20240624T144738Z
UID:21175-1719514800-1719520200@themeditationcenter.org
SUMMARY:Thursday Satsang In Person at TMC and via Zoom:  "The Guru and Vyasa's Guru Gita" with Dr. Stephen Parker (Stoma\,) PsyD- June 27\, 2024\,
DESCRIPTION:Thursday Satsang In Person at TMC and via Zoom  – June 27\, 2024\n “The Guru and Vyasa’s Guru Gita”with Dr. Stephen Parker (Stoma\,) PsyD\n7:00 – 8:30 p.m. CDT\n\n	\n\n\nNote New Schedule\n 5:30-6:45 p.m.: In-Person Gentle Hatha Yoga\n6:15-7:00 p.m. Vegan Soup\n7:00-8:00 p.m.: “The Guru and Vyasa’s Guru Gita” with Dr. Stephen Parker (Stoma\,) PsyD\n8:00-8:30 p.m.: Meditation Guided by Swami Ma Radha Bharati\n8:30 p.m.: Evening Prayers\n8:40 p.m.: Snacks\nJoin Stoma in a discussion the text\, Vyasa’s Guru Gita. Details to come \nTo support the work of The Meditation Center and register you can donate here (suggested donation $15.00) for Thursday Satsang or make a general donation by clicking on the “donate” button on the “Support TMC” website page. \nOr donate through PayPal. \nNote: There is parking available for TMC visitors \nin the St. Boniface lot across the street from the Center.
URL:https://themeditationcenter.org/class/thursday-satsang-in-person-at-tmc-and-via-zoom-tbd-june-27-2024/
CATEGORIES:Thursday Satsangs
ATTACH;FMTTYPE=image/jpeg:https://themeditationcenter.org/wp-content/uploads/2016/07/marigold-lotus-med-1-1.jpg
END:VEVENT
END:VCALENDAR