BEGIN:VCALENDAR
VERSION:2.0
PRODID:-//The Meditation Center - ECPv6.15.20//NONSGML v1.0//EN
CALSCALE:GREGORIAN
METHOD:PUBLISH
X-WR-CALNAME:The Meditation Center
X-ORIGINAL-URL:https://themeditationcenter.org
X-WR-CALDESC:Events for The Meditation Center
REFRESH-INTERVAL;VALUE=DURATION:PT1H
X-Robots-Tag:noindex
X-PUBLISHED-TTL:PT1H
BEGIN:VTIMEZONE
TZID:America/Chicago
BEGIN:DAYLIGHT
TZOFFSETFROM:-0600
TZOFFSETTO:-0500
TZNAME:CDT
DTSTART:20230312T080000
END:DAYLIGHT
BEGIN:STANDARD
TZOFFSETFROM:-0500
TZOFFSETTO:-0600
TZNAME:CST
DTSTART:20231105T070000
END:STANDARD
BEGIN:DAYLIGHT
TZOFFSETFROM:-0600
TZOFFSETTO:-0500
TZNAME:CDT
DTSTART:20240310T080000
END:DAYLIGHT
BEGIN:STANDARD
TZOFFSETFROM:-0500
TZOFFSETTO:-0600
TZNAME:CST
DTSTART:20241103T070000
END:STANDARD
BEGIN:DAYLIGHT
TZOFFSETFROM:-0600
TZOFFSETTO:-0500
TZNAME:CDT
DTSTART:20250309T080000
END:DAYLIGHT
BEGIN:STANDARD
TZOFFSETFROM:-0500
TZOFFSETTO:-0600
TZNAME:CST
DTSTART:20251102T070000
END:STANDARD
END:VTIMEZONE
BEGIN:VEVENT
DTSTART;TZID=America/Chicago:20240629T080000
DTEND;TZID=America/Chicago:20240629T233000
DTSTAMP:20260422T042741
CREATED:20240611T194647Z
LAST-MODIFIED:20240611T194647Z
UID:21194-1719648000-1719703800@themeditationcenter.org
SUMMARY:40-Day Spiritual Festival 2024 from June 12- July 21 (Guru Purnima)\, 2024
DESCRIPTION:40-Day Spiritual Festival 2024 from June 12- July 21 (Guru Purnima)\, 2024\nRead here “41st Annual 40-Days Spiritual Festival June 12-July 21\, 2024″courtesy of AHYMSIN.org.\nThe festival is 40-days of purification of all aspects of our being through chosen practices. \nSome options for practices are :\nBegin or increase the Sangha Ganesha mantra japa…practice embodying Ganesha in stillness\, in his stillness. \nDecrease screen time\, especially in the evening; put down the phone\, turn off the computer. \nFind ways to honor Earth Mother: walk in silence in the woods\, feed the wild animals\, nourish the ants\, pick up trash in nature\, contemplate one of the five elements in nature. \nFast one day a week\, could be partial fasting or simply eliminating one preferred food item. \nContemplate that which helps you be still. \nDo self-study and journal your experiences. \nStudy “Sutra 1.33\,” the Brahma Viharas\, especially Upeksha (equanimity in the face of evil.
URL:https://themeditationcenter.org/class/40-day-spiritual-festival-2024-from-june-12-july-21-guru-purnima-2024/2024-06-29/
CATEGORIES:Special Events
ATTACH;FMTTYPE=image/jpeg:https://themeditationcenter.org/wp-content/uploads/2015/04/monk-feet-rosepetals-1-1.jpg
END:VEVENT
BEGIN:VEVENT
DTSTART;TZID=America/Chicago:20240629T100000
DTEND;TZID=America/Chicago:20240629T120000
DTSTAMP:20260422T042741
CREATED:20240611T172547Z
LAST-MODIFIED:20240611T173016Z
UID:21161-1719655200-1719662400@themeditationcenter.org
SUMMARY:The Sun\, the Moon & the Wind: Ayurveda & the Natural World - A Workshop with Gary and Cynthia Gran
DESCRIPTION:The Sun\, the Moon & the Wind: Ayurveda & the Natural World\n  with Gary & Cynthia Gran\nSaturday\, June 29\, 2024\n10:00 a.m. – Noon CDT\nCost $25.00\nRegistration Coming Soon\nPlease join us for a deep dive into Ayurveda’s concept of our mutual relationship with the natural world. The sun\, moon and wind represent powerful external forces that have a definite effect on our health and well-being. Yet they are also powerful internal forces that can be enhanced and harmonized. \nyad brahmande tat pinde\, yat pinde tad brahmande: \n“Whatever is in the universe is in the body; \nwhatever is in the body is in the universe.” \nIn this session\, we will explore the practical aspects of: \n\nSurya Vidya\, the solar science\, from both the modern scientific and the traditional yogic points of view.\nChandra Vidya\, the lunar science including the importance of soma and ojas as refined qualities of the water element.\nPrana Vidya\, the science of the life-force\, and its role as yogavahi\, the enhancer.\nThe connection between Ayurveda and Yoga practice.\n\nAnd we will reflect on the profound connection between our inner world and the outer world. Our goal will be to move towards greater balance and harmony with Life. May all be well. May all know peace. \n“Just like the clouds move from one place to another being carried by the winds\, the other elements of the body too move from one place to the other only when carried by vayu\, the wind.” – Sarngadhara Samhita \n  \nAll are welcome for this fun and informative session\, as we share and ponder nature and the teachings of the sages together. \nGary & Cynthia Gran have been treading the Himalayan path since the late 1970s. They met at the old Glenview Center in Illinois and have served the tradition in various capacities over the years. They are both certified yoga teachers and Ayurvedic educators. They have published more than eighty articles on yoga\, meditation and Ayurveda. They enjoy desert gardening\, cooking and hiking at their home in Tucson\, Arizona\, and are currently in summer residence in Minneapolis. \nGary Gran\, MBA\, CYT\, DAy. \nCynthia Gran\, MA\, DAy. E-RYT 500\, YACEP
URL:https://themeditationcenter.org/class/the-sun-the-moon-the-wind-ayurveda-the-natural-world-a-workshop-with-gary-and-cynthia-gran/
CATEGORIES:Workshops
ATTACH;FMTTYPE=image/jpeg:https://themeditationcenter.org/wp-content/uploads/2021/03/1B0AA86C-1D9C-49FC-8F67-88872B5A0953-e1728915520957.jpeg
END:VEVENT
END:VCALENDAR