BEGIN:VCALENDAR
VERSION:2.0
PRODID:-//The Meditation Center - ECPv6.15.20//NONSGML v1.0//EN
CALSCALE:GREGORIAN
METHOD:PUBLISH
X-WR-CALNAME:The Meditation Center
X-ORIGINAL-URL:https://themeditationcenter.org
X-WR-CALDESC:Events for The Meditation Center
REFRESH-INTERVAL;VALUE=DURATION:PT1H
X-Robots-Tag:noindex
X-PUBLISHED-TTL:PT1H
BEGIN:VTIMEZONE
TZID:America/Chicago
BEGIN:DAYLIGHT
TZOFFSETFROM:-0600
TZOFFSETTO:-0500
TZNAME:CDT
DTSTART:20230312T080000
END:DAYLIGHT
BEGIN:STANDARD
TZOFFSETFROM:-0500
TZOFFSETTO:-0600
TZNAME:CST
DTSTART:20231105T070000
END:STANDARD
BEGIN:DAYLIGHT
TZOFFSETFROM:-0600
TZOFFSETTO:-0500
TZNAME:CDT
DTSTART:20240310T080000
END:DAYLIGHT
BEGIN:STANDARD
TZOFFSETFROM:-0500
TZOFFSETTO:-0600
TZNAME:CST
DTSTART:20241103T070000
END:STANDARD
BEGIN:DAYLIGHT
TZOFFSETFROM:-0600
TZOFFSETTO:-0500
TZNAME:CDT
DTSTART:20250309T080000
END:DAYLIGHT
BEGIN:STANDARD
TZOFFSETFROM:-0500
TZOFFSETTO:-0600
TZNAME:CST
DTSTART:20251102T070000
END:STANDARD
END:VTIMEZONE
BEGIN:VEVENT
DTSTART;TZID=America/Chicago:20240718T080000
DTEND;TZID=America/Chicago:20240718T233000
DTSTAMP:20260422T042729
CREATED:20240611T194647Z
LAST-MODIFIED:20240611T194647Z
UID:21213-1721289600-1721345400@themeditationcenter.org
SUMMARY:40-Day Spiritual Festival 2024 from June 12- July 21 (Guru Purnima)\, 2024
DESCRIPTION:40-Day Spiritual Festival 2024 from June 12- July 21 (Guru Purnima)\, 2024\nRead here “41st Annual 40-Days Spiritual Festival June 12-July 21\, 2024″courtesy of AHYMSIN.org.\nThe festival is 40-days of purification of all aspects of our being through chosen practices. \nSome options for practices are :\nBegin or increase the Sangha Ganesha mantra japa…practice embodying Ganesha in stillness\, in his stillness. \nDecrease screen time\, especially in the evening; put down the phone\, turn off the computer. \nFind ways to honor Earth Mother: walk in silence in the woods\, feed the wild animals\, nourish the ants\, pick up trash in nature\, contemplate one of the five elements in nature. \nFast one day a week\, could be partial fasting or simply eliminating one preferred food item. \nContemplate that which helps you be still. \nDo self-study and journal your experiences. \nStudy “Sutra 1.33\,” the Brahma Viharas\, especially Upeksha (equanimity in the face of evil.
URL:https://themeditationcenter.org/class/40-day-spiritual-festival-2024-from-june-12-july-21-guru-purnima-2024/2024-07-18/
CATEGORIES:Special Events
ATTACH;FMTTYPE=image/jpeg:https://themeditationcenter.org/wp-content/uploads/2015/04/monk-feet-rosepetals-1-1.jpg
END:VEVENT
BEGIN:VEVENT
DTSTART;TZID=America/Chicago:20240718T200000
DTEND;TZID=America/Chicago:20240718T210000
DTSTAMP:20260422T042729
CREATED:20230619T215856Z
LAST-MODIFIED:20230619T215856Z
UID:21288-1721332800-1721336400@themeditationcenter.org
SUMMARY:10-Day "Guru Gita" Recitation via Zoom from Thursday\, July 11 - Saturday\, July 20\, 2024
DESCRIPTION:New opportunity to prepare for Guru Purnima during the 40-Day Spiritual Festival….\n\n10-Day “Guru Gita” Recitation via Zoom\nThursday\, July 11 – Saturday\, July 20\, 2024\nBegins at 8:00 p.m. CDT from the July 12th – July 20th\nExceptions are on Thursdays\, the 11th and 18th…the recitation will begin at 8:45 p.m. \n\nAs a tradition in our Sangha\, the Guru Gita’s recording by Pundits at SRSG is shared via Zoom during the 11 days leading to Guru Purnima. Tonight is the 2nd day that the Guru Gita recording will be shared via Zoom. The session will begin at 8:00 p.m. CDT. \n“Three chapters in the latter part of the Skanda Purana\, one of the most widely read of the 18 Puranas composed by Sage Vyasa\, comprise the verses referred to as the Guru Gita\, the “Song in Praise of the Guru”. The verses are the dialogue between Shiva and Parvati that serve as a fount of knowledge and wisdom about the Guru\, the Guru’s power and greatness\, and specific ways of paying adoration.” ~Stoma on 6/27/24~ \n\nRead here the text of the “Guru Gita” in English…new version. \nRead here the text of the “Guru Gita” in Sanskrit. \nThe audio starts with: Mama catur vidha puruartha siddhyarthe jape viniyoga… \nand continues with Verse One: (these audio verses match all succeeding written verses until 182 ending) \nSūta uvāca: verse one begins on bottom of page 3 of the English translation \nVerse 1\, Sūta said: \n Kailāsa-śikhare ramye \nbhakti-sandhāna-nāyakam\, \nPranamya pārvatī bhaktyā \nśankaram paryaprcchata. \nTo listen to the audio recording of the “Guru Gita” click here. \n\n 
URL:https://themeditationcenter.org/class/10-day-guru-gita-recitation-via-zoom-from-friday-june-23-sunday-july-2-2023/2024-07-18/
CATEGORIES:Special Events
ATTACH;FMTTYPE=image/jpeg:https://themeditationcenter.org/wp-content/uploads/2018/07/Guru-tribute-1-1.jpg
END:VEVENT
END:VCALENDAR