BEGIN:VCALENDAR
VERSION:2.0
PRODID:-//The Meditation Center - ECPv6.15.20//NONSGML v1.0//EN
CALSCALE:GREGORIAN
METHOD:PUBLISH
X-WR-CALNAME:The Meditation Center
X-ORIGINAL-URL:https://themeditationcenter.org
X-WR-CALDESC:Events for The Meditation Center
REFRESH-INTERVAL;VALUE=DURATION:PT1H
X-Robots-Tag:noindex
X-PUBLISHED-TTL:PT1H
BEGIN:VTIMEZONE
TZID:America/Chicago
BEGIN:DAYLIGHT
TZOFFSETFROM:-0600
TZOFFSETTO:-0500
TZNAME:CDT
DTSTART:20230312T080000
END:DAYLIGHT
BEGIN:STANDARD
TZOFFSETFROM:-0500
TZOFFSETTO:-0600
TZNAME:CST
DTSTART:20231105T070000
END:STANDARD
BEGIN:DAYLIGHT
TZOFFSETFROM:-0600
TZOFFSETTO:-0500
TZNAME:CDT
DTSTART:20240310T080000
END:DAYLIGHT
BEGIN:STANDARD
TZOFFSETFROM:-0500
TZOFFSETTO:-0600
TZNAME:CST
DTSTART:20241103T070000
END:STANDARD
BEGIN:DAYLIGHT
TZOFFSETFROM:-0600
TZOFFSETTO:-0500
TZNAME:CDT
DTSTART:20250309T080000
END:DAYLIGHT
BEGIN:STANDARD
TZOFFSETFROM:-0500
TZOFFSETTO:-0600
TZNAME:CST
DTSTART:20251102T070000
END:STANDARD
END:VTIMEZONE
BEGIN:VEVENT
DTSTART;TZID=America/Chicago:20240725T080000
DTEND;TZID=America/Chicago:20240803T170000
DTSTAMP:20260420T005259
CREATED:20240418T182826Z
LAST-MODIFIED:20240418T182826Z
UID:21054-1721894400-1722704400@themeditationcenter.org
SUMMARY:AHYMSIN Sangha of the Americas: July 25 - August 3\, 2024 - Mark Your Calendars
DESCRIPTION:Mark your calendars…\nAHYMSIN Sangha of the Americas\nJuly 25 – August 3\, 2024\nDear Friends\, \nWe are excited about the upcoming 2024 Himalayan Tradition\, AHYMSIN Sangha of the Americas\, coming in July! \nThis gathering of the Himalayan Tradition Family is the perfect way to deepen your practices during this unique gathering of like-minded seekers through daily yoga and meditation sessions\, teachings and inspirations\, which will include a 5-day Silence period. The event will take place at the beautiful St. Olaf College in Northfield\, MN\, USA. \nFrom Swami Ritavan Bharati: \n” It is my profound wish that we will be able to have the joy of your presence among us\, and of your participation for the first four days\, or the full ten days of the event\, so that we can all reconnect\, continue to allow the teaching to grow\, and continue to serve the legacy we share. Please do make time to attend this important gathering as a member of the Tradition.” \nThe 10-day program will be comprised of: \n\nArrival and check-in for the 10-day program will be on July 25.\nAHYMSIN gathering with center presentations\, inspirations and family connections\, as well as daily prayers\, yoga\, and meditation\, from July 26 to 29.\n5 day period of Silence from July 29 to August 2\, with guests departing August 3.\nDaily presentations by senior members of the Tradition will also be available via Zoom.\nA Family Gathering Kirtan Event to be held July 26.\n\n*Prices represent Early Bird Pricing\, and will expire 4/30/2024 \nCLICK HERE TO READ MORE AND TO REGISTER  \nIn Loving Service\, \nAHYMSIN Administration \nIf you have any questions\, please email: info@himalayanyoga
URL:https://themeditationcenter.org/class/ahymsin-sangha-of-the-americas-july-25-august-3-2024-mark-your-calendars/
CATEGORIES:Special Events
ATTACH;FMTTYPE=image/png:https://themeditationcenter.org/wp-content/uploads/2016/06/AhymsinLogoRegisteredTradeMarksmall-1-1.png
END:VEVENT
END:VCALENDAR