BEGIN:VCALENDAR
VERSION:2.0
PRODID:-//The Meditation Center - ECPv6.15.20//NONSGML v1.0//EN
CALSCALE:GREGORIAN
METHOD:PUBLISH
X-WR-CALNAME:The Meditation Center
X-ORIGINAL-URL:https://themeditationcenter.org
X-WR-CALDESC:Events for The Meditation Center
REFRESH-INTERVAL;VALUE=DURATION:PT1H
X-Robots-Tag:noindex
X-PUBLISHED-TTL:PT1H
BEGIN:VTIMEZONE
TZID:America/Chicago
BEGIN:DAYLIGHT
TZOFFSETFROM:-0600
TZOFFSETTO:-0500
TZNAME:CDT
DTSTART:20230312T080000
END:DAYLIGHT
BEGIN:STANDARD
TZOFFSETFROM:-0500
TZOFFSETTO:-0600
TZNAME:CST
DTSTART:20231105T070000
END:STANDARD
BEGIN:DAYLIGHT
TZOFFSETFROM:-0600
TZOFFSETTO:-0500
TZNAME:CDT
DTSTART:20240310T080000
END:DAYLIGHT
BEGIN:STANDARD
TZOFFSETFROM:-0500
TZOFFSETTO:-0600
TZNAME:CST
DTSTART:20241103T070000
END:STANDARD
BEGIN:DAYLIGHT
TZOFFSETFROM:-0600
TZOFFSETTO:-0500
TZNAME:CDT
DTSTART:20250309T080000
END:DAYLIGHT
BEGIN:STANDARD
TZOFFSETFROM:-0500
TZOFFSETTO:-0600
TZNAME:CST
DTSTART:20251102T070000
END:STANDARD
END:VTIMEZONE
BEGIN:VEVENT
DTSTART;TZID=America/Chicago:20240821T103000
DTEND;TZID=America/Chicago:20240821T120000
DTSTAMP:20260421T215329
CREATED:20230104T204513Z
LAST-MODIFIED:20230104T204513Z
UID:21785-1724236200-1724241600@themeditationcenter.org
SUMMARY:Wednesday Mornings In Person and via Zoom – Gentle Hatha Yoga (Drop-In) with Sig Martell and Rosann Chamberlain
DESCRIPTION: WEDNESDAY MORNINGS In Person and Via Zoom – GENTLE HATHA YOGA (DROP IN)\n\n\n\n\n\n\n\nTime:  10:30am to Noon \nInstructors: Sig Martell\, Rosann Chamberlain\, and Susan Guthrie \nFees: $12.00/class ($10.00 for seniors and students) \nDROP-IN HATHA CLASSES (ONGOING)\nEveryone is Welcome! These classes are for all levels. Instructors excel at leading the class in relaxation\, gentle asana (yoga positions) and pranayama (breath). Relieve stress\, achy joints\, improve balance at all levels and increase your sense of well being. No registration necessary\, just show up.
URL:https://themeditationcenter.org/class/wednesday-mornings-via-zoom-gentle-hatha-yoga-drop-in-with-sig-martell-and-rosann-chamberlain/2024-08-21/
CATEGORIES:Classes,Hatha Yoga
ATTACH;FMTTYPE=image/jpeg:https://themeditationcenter.org/wp-content/uploads/2017/01/Parivrita_Trikonasana-wpj.pg_-1-1.jpg
END:VEVENT
BEGIN:VEVENT
DTSTART;TZID=America/Chicago:20240821T190000
DTEND;TZID=America/Chicago:20240821T210000
DTSTAMP:20260421T215329
CREATED:20240430T191151Z
LAST-MODIFIED:20240430T211325Z
UID:21084-1724266800-1724274000@themeditationcenter.org
SUMMARY:Register Now!!! - 4-Seminar Series - "Practical Psychology of a Successful Sadhana" via Zoom with Phil Nuernberger\, PhD - Sponsored jointly by Milwaukee HYMC and TMC in Minneapolis
DESCRIPTION:Sponsored jointly by\nthe Milwaukee Himalayan Yoga and Meditation Center &\nThe Meditation Center in Minneapolis\n\n	\n\n\n“Practical Psychology of a\nSuccessful Sadhana”\nvia Zoom\nwith Phil Nuernberger\, PhD\n4 Seminars – 2-2.5 hours each\nWednesdays: May 22\, June 19\, July 17\, and August 21\, 2024\n7:00-9:00 p.m. CDT\n\n	\n\n\nAll Four Sessions: $108.00\nA Single Session: $30.00\nRegister here\nfor all 4 sessions or any single session\n\n	\n\n\nI: Body\, Mind\, Jiva: Where is Your Identity – May 22nd\nLet’s talk about what we actually become caught in the veil of samskaras\, attachments\, and beliefs. \nII. The Powerful Mind: Your Finest Instrument – June 19th\nA practical look at the mind’s resources and how to dance with them. \nIII. Creating and Sustaining Balance – July 17th\nA successful spiritual life is the first and essential step to a successful transition to the next adventure. We explore ways to establish real harmony in life. \nIV. Joyful Freedom – August 21st\nThe ways and means of actually gaining enlightenment. “It takes great effort to be something. It takes no effort to Be.” \n  \nPhil Nuernberger\, Ph.D. is a direct disciple of H.H. Sri Swami Rama and was personally trained by Swamiji since 1970. Dr. Phil is one of the few Americans to receive initiation by Swami Rama into the highest levels of the tantric tradition of the Himalayan Sages. With his Master’s instruction and blessing\, Dr. Phil has been teaching and initiating others in this tradition since 1972. He was instrumental in helping Swamiji build the Himalayan Institute\, and served on its Board of Directors until 1992. \nDr. Nuernberger is author of six books. The most recent are Eternal Self \, Freedom’s Path: The Dancing Soul\, The Warrior Sage: Life as Spirit\, as well as\, Strong and Fearless: The Quest for Personal Power and From Loneliness to Love: A Journey of Spiritual Awakening. \n 
URL:https://themeditationcenter.org/class/register-now-4-seminar-series-practical-psychology-of-a-successful-sadhana-via-zoom-with-phil-nuernberger-phd-sponsored-jointly-by-milwaukee-hymc-and-tmc-in-minneapolis/2024-08-21/
CATEGORIES:Workshops
ATTACH;FMTTYPE=image/jpeg:https://themeditationcenter.org/wp-content/uploads/2016/11/Phil-Nuernberger_wb-2-1-1.jpg
END:VEVENT
END:VCALENDAR