BEGIN:VCALENDAR
VERSION:2.0
PRODID:-//The Meditation Center - ECPv6.15.20//NONSGML v1.0//EN
CALSCALE:GREGORIAN
METHOD:PUBLISH
X-WR-CALNAME:The Meditation Center
X-ORIGINAL-URL:https://themeditationcenter.org
X-WR-CALDESC:Events for The Meditation Center
REFRESH-INTERVAL;VALUE=DURATION:PT1H
X-Robots-Tag:noindex
X-PUBLISHED-TTL:PT1H
BEGIN:VTIMEZONE
TZID:America/Chicago
BEGIN:DAYLIGHT
TZOFFSETFROM:-0600
TZOFFSETTO:-0500
TZNAME:CDT
DTSTART:20230312T080000
END:DAYLIGHT
BEGIN:STANDARD
TZOFFSETFROM:-0500
TZOFFSETTO:-0600
TZNAME:CST
DTSTART:20231105T070000
END:STANDARD
BEGIN:DAYLIGHT
TZOFFSETFROM:-0600
TZOFFSETTO:-0500
TZNAME:CDT
DTSTART:20240310T080000
END:DAYLIGHT
BEGIN:STANDARD
TZOFFSETFROM:-0500
TZOFFSETTO:-0600
TZNAME:CST
DTSTART:20241103T070000
END:STANDARD
BEGIN:DAYLIGHT
TZOFFSETFROM:-0600
TZOFFSETTO:-0500
TZNAME:CDT
DTSTART:20250309T080000
END:DAYLIGHT
BEGIN:STANDARD
TZOFFSETFROM:-0500
TZOFFSETTO:-0600
TZNAME:CST
DTSTART:20251102T070000
END:STANDARD
END:VTIMEZONE
BEGIN:VEVENT
DTSTART;TZID=America/Chicago:20240829T190000
DTEND;TZID=America/Chicago:20240829T203000
DTSTAMP:20260420T232736
CREATED:20240814T181743Z
LAST-MODIFIED:20240814T181743Z
UID:21413-1724958000-1724963400@themeditationcenter.org
SUMMARY:Thursday Satsang In Person and Via Zoom: "At Home\, Inside and Out\,  Feng Shui for Heart and Space" with Michelle Skally Doilney - August 29\, 2024
DESCRIPTION:  \nThursday Satsang In Person and Via Zoom – August 29\, 2024\n“At Home\, Inside and Out Feng Shui for Heart and Space”\nwith Michelle Skally Doilney\n  \n5:30-6:45 p.m.: In-Person Gentle Hatha Yoga\n7:00-8:00 p.m.: “”At Home\, Inside and Out\, Feng Shui for Heart and Space” with Michelle Skally Doilney\n8:00-8:30 p.m.: Meditation Guided by Swami Radha Bharati\n8:30 p.m.: Evening Prayers\n\nHow do we see ourselves reflected in our living and working spaces? How do our conscious and unconscious thoughts affect our physical spaces? What do we love about where we live\, and what are the challenges? Everything is energy – the stories and emotions behind our objects\, spaces\, selves and our actual objects\, spaces\, selves. \n Join Michelle to explore the connection between space and self. Interactive time to learn about your own space and what you can do to make it more comfortable and useable for you\, in practical\, everyday use and also to further your deeper work. \nBio: \nMichelle Skally Doilney is a student and initiate in the Himalayan Tradition since 1997. She is a Certified Feng Shui Consultant\, working with private and corporate clients\, and teaching practical do-it-on-your-own Feng Shui since 2003. Michelle is currently consulting and teaching using feng shui and writing practice and is working on several writing projects drawing from her love of travel and photography\, and from her yoga and Feng Shui experiences.  \nwww.practicalenvironments.com   \nTo support the work of The Meditation Center and register you can donate here (suggested donation $15.00) for Thursday Satsang or make a general donation by clicking on the “donate” button on the “Support TMC” website page. \nOr donate through PayPal. \nNote: There is parking available for TMC visitors min the St. Boniface lot across the street from the Center.
URL:https://themeditationcenter.org/class/thursday-satsang-in-person-and-via-zoom-at-home-inside-and-out-feng-shui-for-heart-and-space-with-michelle-skally-doilney-august-29-2024/
CATEGORIES:Thursday Satsangs
ATTACH;FMTTYPE=image/jpeg:https://themeditationcenter.org/wp-content/uploads/2016/09/Michelle-Skally-Doilney-244x300-1-1-1.jpg
END:VEVENT
END:VCALENDAR