BEGIN:VCALENDAR
VERSION:2.0
PRODID:-//The Meditation Center - ECPv6.15.20//NONSGML v1.0//EN
CALSCALE:GREGORIAN
METHOD:PUBLISH
X-ORIGINAL-URL:https://themeditationcenter.org
X-WR-CALDESC:Events for The Meditation Center
REFRESH-INTERVAL;VALUE=DURATION:PT1H
X-Robots-Tag:noindex
X-PUBLISHED-TTL:PT1H
BEGIN:VTIMEZONE
TZID:America/Chicago
BEGIN:DAYLIGHT
TZOFFSETFROM:-0600
TZOFFSETTO:-0500
TZNAME:CDT
DTSTART:20230312T080000
END:DAYLIGHT
BEGIN:STANDARD
TZOFFSETFROM:-0500
TZOFFSETTO:-0600
TZNAME:CST
DTSTART:20231105T070000
END:STANDARD
BEGIN:DAYLIGHT
TZOFFSETFROM:-0600
TZOFFSETTO:-0500
TZNAME:CDT
DTSTART:20240310T080000
END:DAYLIGHT
BEGIN:STANDARD
TZOFFSETFROM:-0500
TZOFFSETTO:-0600
TZNAME:CST
DTSTART:20241103T070000
END:STANDARD
BEGIN:DAYLIGHT
TZOFFSETFROM:-0600
TZOFFSETTO:-0500
TZNAME:CDT
DTSTART:20250309T080000
END:DAYLIGHT
BEGIN:STANDARD
TZOFFSETFROM:-0500
TZOFFSETTO:-0600
TZNAME:CST
DTSTART:20251102T070000
END:STANDARD
END:VTIMEZONE
BEGIN:VEVENT
DTSTART;TZID=America/Chicago:20240917T183000
DTEND;TZID=America/Chicago:20240917T200000
DTSTAMP:20260420T163655
CREATED:20240110T153523Z
LAST-MODIFIED:20240904T222656Z
UID:20849-1726597800-1726603200@themeditationcenter.org
SUMMARY:Meditation I Hybrid Class: "Learning the Basics" with Paul Emerson\, Ph.D. Tuesdays: September 17 – October 22\, 2024
DESCRIPTION:Meditation I Hybrid Class : “Learning the Basics”\nTuesdays: September 17 – October 22\, 2024\n6:30 p.m. – 8:00 p.m.\nInstructor: Paul Emerson\, Ph.D.\nCost $75.00 for the six-week series.\nRegister here.\nSection 1: (live at the Meditation Center\, can zoom in when you can’t make it) \nSection 2 (zoom only – zoomed from the Meditation Center) \nIf you have already taken Meditation I and would like to attend this class\, the cost is $37.50. Email us at info@themeditationcenter.org stating your intention to retake Meditation I and we will register you at half the cost. \nThis class introduces the student to the basics of meditation in the Himalayan Tradition. Relaxation techniques\, pranayama (yogic breath)\, ideal sitting postures\, and the use of mantra will be taught to help the student focus the mind and relax the body. Beginning Raja yoga philosophy is also included in this class. Treat yourself to the many benefits of a regular meditation practice. \nPaul Emerson is a biomedical engineer with a Ph.D. He is the authority on the physiology of breathing for The Meditation Center and has been teaching yoga for over 30 years. Paul has worked as a research scientist\, has been a manager of clinical research with a major biomedical company and a university instructor. In addition\, he holds eight patents in the areas of dialysis and sleep therapy. he is a scholar of ancient yoga texts. Paul was certified by the Rockford School of Yoga and began teaching in 1975.
URL:https://themeditationcenter.org/class/meditation-ii-hybrid-class-superconscious-meditation-with-lori-beron-r-n-m-a-and-paul-emerson-ph-d-tuesdays-january-16-february-20-2024/2024-09-17/
CATEGORIES:Classes,Meditation
END:VEVENT
BEGIN:VEVENT
DTSTART;TZID=America/Chicago:20240917T210000
DTEND;TZID=America/Chicago:20240917T220000
DTSTAMP:20260420T163655
CREATED:20240904T223016Z
LAST-MODIFIED:20240904T223432Z
UID:21446-1726606800-1726610400@themeditationcenter.org
SUMMARY:Global Full Moon Meditation via Zoom from Palatine\, September 17\, 2024\, 9:00-10:00p.m. CTGuided by Dr. Stephen Parker (Stoma)
DESCRIPTION:Tuesday\, September 17\, 2024\nGlobal Full Moon Meditation Via Zoom\n9:00-10:00 p.m. CDT\nThis Full Moon Meditation via Zoom will begin guided by Dr. Stephen Parker (Stoma) followed by a silent meditation until 10:00 p.m.\nThis event is courtesy of the Palatine Himalayan Yoga & Meditation Center – HYMC. \nTo get the Zoom link and for more information aregarding the global full moon meditation schedule \nvisit HYMC’s website here. \n“You are lovingly invited to sit in meditation for an hour wherever you are\, in your home or with friends. Total beginners and longtime practitioners\, non-initiates and initiates are welcome. If you cannot sit for the entire hour\, sit as long as you are able; as Swami Veda has said\, ‘Let the quietness of the mind continue even after you rise..’” (Courtesy of AHYMSIN.org January 2023 newsletter). \nEveryone is welcome! \n“Yoga Philosophy views the mind as Universal field; its waves passing through us and becoming our individual minds. This Universal mind is a radiant force and is also known as a Universal Guru within.” \n“When all sit together at the same time even in different parts of the world\, they connect to the Universal Guru mind and generate a strong field\, like so many magnets being joined together and forming a much stronger magnet; the strength of each then equals the combined strength of all.” \n– Swami Veda Bharati –
URL:https://themeditationcenter.org/class/global-full-moon-meditation-via-zoom-from-palatine-september-17-2024-900-1000p-m-ct/
CATEGORIES:Full Moon Meditation
ATTACH;FMTTYPE=image/jpeg:https://themeditationcenter.org/wp-content/uploads/2018/05/moon-28-1-1.jpg
END:VEVENT
END:VCALENDAR