BEGIN:VCALENDAR
VERSION:2.0
PRODID:-//The Meditation Center - ECPv6.15.20//NONSGML v1.0//EN
CALSCALE:GREGORIAN
METHOD:PUBLISH
X-ORIGINAL-URL:https://themeditationcenter.org
X-WR-CALDESC:Events for The Meditation Center
REFRESH-INTERVAL;VALUE=DURATION:PT1H
X-Robots-Tag:noindex
X-PUBLISHED-TTL:PT1H
BEGIN:VTIMEZONE
TZID:America/Chicago
BEGIN:DAYLIGHT
TZOFFSETFROM:-0600
TZOFFSETTO:-0500
TZNAME:CDT
DTSTART:20230312T080000
END:DAYLIGHT
BEGIN:STANDARD
TZOFFSETFROM:-0500
TZOFFSETTO:-0600
TZNAME:CST
DTSTART:20231105T070000
END:STANDARD
BEGIN:DAYLIGHT
TZOFFSETFROM:-0600
TZOFFSETTO:-0500
TZNAME:CDT
DTSTART:20240310T080000
END:DAYLIGHT
BEGIN:STANDARD
TZOFFSETFROM:-0500
TZOFFSETTO:-0600
TZNAME:CST
DTSTART:20241103T070000
END:STANDARD
BEGIN:DAYLIGHT
TZOFFSETFROM:-0600
TZOFFSETTO:-0500
TZNAME:CDT
DTSTART:20250309T080000
END:DAYLIGHT
BEGIN:STANDARD
TZOFFSETFROM:-0500
TZOFFSETTO:-0600
TZNAME:CST
DTSTART:20251102T070000
END:STANDARD
END:VTIMEZONE
BEGIN:VEVENT
DTSTART;TZID=America/Chicago:20241019T100000
DTEND;TZID=America/Chicago:20241019T120000
DTSTAMP:20260421T201721
CREATED:20241004T000254Z
LAST-MODIFIED:20241013T144144Z
UID:21577-1729332000-1729339200@themeditationcenter.org
SUMMARY:Nature of Existence and Role of Yoga Practices in Healing: THE ROLE OF NĀDIS AND PANCHA-PRĀṆAS  with C. Rajan Narayanan\, PhD - In Person and Via Zoom
DESCRIPTION:In Person at TMC and Via Zoom\nNature of Existence and Role of Yoga Practices in Healing\nTHE ROLE OF NĀDIS AND–PANCHA-PRĀṆAS\nwith C. Rajan Narayanan\, PhD\n\nSaturday\, October 19\, 2024\n10:00 a.m. – Noon\nCost $30.00\nRegister here.\n\nProgram focused on presentation\, discussion\, Q/A\, to demonstrate healing \npotential within the structure of cosmic existence of the psychosomatic being. \n  \nC. Rajan Narayanan PhD\, AYTh\, former C-IAYT \nDr. Narayanan is the Executive Director of Life in Yoga Institute (https://lifeinyoga.org/) and Secretary of the Board of CYAI. He has been a spiritual guide and trainer for yoga teachers andtherapists. He has conducted many training events since 1998.
URL:https://themeditationcenter.org/class/nature-of-existence-and-role-of-yoga-practices-in-healing-the-role-of-nadis-and-pancha-pra%e1%b9%87as-with-c-rajan-narayanan-phd/
CATEGORIES:Workshops
ATTACH;FMTTYPE=image/jpeg:https://themeditationcenter.org/wp-content/uploads/2024/10/Cosmic_Man_Newar_Yogic_Six_Chakra_Transformation_LACMA_M.91.118.jpg
END:VEVENT
BEGIN:VEVENT
DTSTART;TZID=America/Chicago:20241019T130000
DTEND;TZID=America/Chicago:20241019T160000
DTSTAMP:20260421T201721
CREATED:20240912T170245Z
LAST-MODIFIED:20240912T174034Z
UID:21481-1729342800-1729353600@themeditationcenter.org
SUMMARY:"Exploring the Four Flames Part II" with Dr. Dale Buegel on Saturday\, October 19\, 2024
DESCRIPTION:“Exploring the Four Flames Part II” with Dr. Dale Buegel\nOctober 19\, 2024\n1:00 p.m. – 4:00 p.m. CDT\nCost: $40.00\nRegister here\nIn this second workshop of the series\, we will focus on practices related to the flames at Manas chakra and Bindu Visarga.
URL:https://themeditationcenter.org/class/exploring-the-four-flames-part-ii-with-dr-dale-buegel-on-saturday-october-19-2024/
CATEGORIES:Workshops
ATTACH;FMTTYPE=image/jpeg:https://themeditationcenter.org/wp-content/uploads/2019/12/chakra_18th_century_painting_WB.jpg
END:VEVENT
END:VCALENDAR