BEGIN:VCALENDAR
VERSION:2.0
PRODID:-//The Meditation Center - ECPv6.15.20//NONSGML v1.0//EN
CALSCALE:GREGORIAN
METHOD:PUBLISH
X-ORIGINAL-URL:https://themeditationcenter.org
X-WR-CALDESC:Events for The Meditation Center
REFRESH-INTERVAL;VALUE=DURATION:PT1H
X-Robots-Tag:noindex
X-PUBLISHED-TTL:PT1H
BEGIN:VTIMEZONE
TZID:America/Chicago
BEGIN:DAYLIGHT
TZOFFSETFROM:-0600
TZOFFSETTO:-0500
TZNAME:CDT
DTSTART:20240310T080000
END:DAYLIGHT
BEGIN:STANDARD
TZOFFSETFROM:-0500
TZOFFSETTO:-0600
TZNAME:CST
DTSTART:20241103T070000
END:STANDARD
BEGIN:DAYLIGHT
TZOFFSETFROM:-0600
TZOFFSETTO:-0500
TZNAME:CDT
DTSTART:20250309T080000
END:DAYLIGHT
BEGIN:STANDARD
TZOFFSETFROM:-0500
TZOFFSETTO:-0600
TZNAME:CST
DTSTART:20251102T070000
END:STANDARD
BEGIN:DAYLIGHT
TZOFFSETFROM:-0600
TZOFFSETTO:-0500
TZNAME:CDT
DTSTART:20260308T080000
END:DAYLIGHT
BEGIN:STANDARD
TZOFFSETFROM:-0500
TZOFFSETTO:-0600
TZNAME:CST
DTSTART:20261101T070000
END:STANDARD
END:VTIMEZONE
BEGIN:VEVENT
DTSTART;TZID=America/Chicago:20250208T103000
DTEND;TZID=America/Chicago:20250208T120000
DTSTAMP:20260419T234433
CREATED:20250202T184921Z
LAST-MODIFIED:20250203T155746Z
UID:22145-1739010600-1739016000@themeditationcenter.org
SUMMARY:"Manas Chakra and the Samāya Path" with Dr. Dale Buegel - February 8\, 2025\,  10:30 a.m. - 12:30 p.m
DESCRIPTION:“Manas Chakra and the Samāya Path”\nwith Dr. Dale Buegel\nSaturday: February 8\, 2025\n10:30 a.m. 12:30 p.m.\nCost: $30.00 \nRegister here\nAs we face the many lessons of life\, samskāras can develop. Their continuing influence on both a conscious as well as an unconscious level contribute to our karmic pool until the prāṇan associated with those samskāras becomes null. Manas cakra plays a role in handling those samskāras and their associated karmas. In this workshop we will look at ways to work with those samskāras with practices from the samāya path. \nThis class is being offered both in-person in Milwaukee and via Zoom.\nA link to the Zoom recording will be sent the day after the event to all who register. \nDr. Buegel\, E-RYT 500\, was initiated by Swami Rama in 1974 and has practiced and taught hatha yoga and meditation with the guidance of the Himalayan tradition for 46 years in multiple settings\, including as a lead trainer in teacher training programs as well as in health care settings. He is the author of Practical Yoga Sutras and Practical Samaya Tantra and his expertise in the fine points of yoga techniques and the use of simple\, sequential steps for mastering advanced yoga practices have earned him the respect and appreciation of students in the U.S. and abroad.
URL:https://themeditationcenter.org/class/manas-cakra-and-the-samaya-path-with-dr-dale-buegel-february-8-2025-1030-a-m-1230-p-m/
CATEGORIES:Workshops
ATTACH;FMTTYPE=image/jpeg:https://themeditationcenter.org/wp-content/uploads/2024/09/TMC_27Sept2024_JCM.006-e1738522126564.jpeg
END:VEVENT
END:VCALENDAR