BEGIN:VCALENDAR
VERSION:2.0
PRODID:-//The Meditation Center - ECPv6.15.20//NONSGML v1.0//EN
CALSCALE:GREGORIAN
METHOD:PUBLISH
X-WR-CALNAME:The Meditation Center
X-ORIGINAL-URL:https://themeditationcenter.org
X-WR-CALDESC:Events for The Meditation Center
REFRESH-INTERVAL;VALUE=DURATION:PT1H
X-Robots-Tag:noindex
X-PUBLISHED-TTL:PT1H
BEGIN:VTIMEZONE
TZID:America/Chicago
BEGIN:DAYLIGHT
TZOFFSETFROM:-0600
TZOFFSETTO:-0500
TZNAME:CDT
DTSTART:20240310T080000
END:DAYLIGHT
BEGIN:STANDARD
TZOFFSETFROM:-0500
TZOFFSETTO:-0600
TZNAME:CST
DTSTART:20241103T070000
END:STANDARD
BEGIN:DAYLIGHT
TZOFFSETFROM:-0600
TZOFFSETTO:-0500
TZNAME:CDT
DTSTART:20250309T080000
END:DAYLIGHT
BEGIN:STANDARD
TZOFFSETFROM:-0500
TZOFFSETTO:-0600
TZNAME:CST
DTSTART:20251102T070000
END:STANDARD
BEGIN:DAYLIGHT
TZOFFSETFROM:-0600
TZOFFSETTO:-0500
TZNAME:CDT
DTSTART:20260308T080000
END:DAYLIGHT
BEGIN:STANDARD
TZOFFSETFROM:-0500
TZOFFSETTO:-0600
TZNAME:CST
DTSTART:20261101T070000
END:STANDARD
END:VTIMEZONE
BEGIN:VEVENT
DTSTART;TZID=America/Chicago:20250213T173000
DTEND;TZID=America/Chicago:20250213T184500
DTSTAMP:20260423T042619
CREATED:20240129T220153Z
LAST-MODIFIED:20240129T220153Z
UID:21885-1739467800-1739472300@themeditationcenter.org
SUMMARY:Thursday Evening In Person:  Gentle Hatha Yoga (Drop In) 5:30-6:45 p.m. Everyone is Welcome
DESCRIPTION:Thursday Evening In Person Gentle Hatha Yoga (Drop In)\n\n\n\n\n\n\n\n\n\n\n\n\nTime:  5:30 p.m. to 6:45 p.m. \nInstructors: Varies…Chris Young\, Michael Snodgrass\, Sunita Gangopadhyay\, Susan Guthrie\, Eric Ness \nFees: $10.00/class \nThursday Evening DROP-IN HATHA CLASSES (ONGOING)\nEveryone is Welcome! These classes are for all levels. Instructors excel at leading the class in relaxation\, gentle asana (yoga positions) and pranayama (breath). Relieve stress\, achy joints\, improve balance at all levels and increase your sense of well being. No registration necessary\, just show up.
URL:https://themeditationcenter.org/class/thursday-evening-in-person-gentle-hatha-yoga-drop-in-530-645-p-m-everyone-is-welcome/2025-02-13/
CATEGORIES:Classes,Hatha Yoga
ATTACH;FMTTYPE=image/jpeg:https://themeditationcenter.org/wp-content/uploads/2023/06/Yoga_Intl_Day_2023_Students_in_postures.jpg
END:VEVENT
BEGIN:VEVENT
DTSTART;TZID=America/Chicago:20250213T190000
DTEND;TZID=America/Chicago:20250213T203000
DTSTAMP:20260423T042619
CREATED:20250112T213704Z
LAST-MODIFIED:20250212T191456Z
UID:22032-1739473200-1739478600@themeditationcenter.org
SUMMARY:Thursday Satsang Via Zoom and In-Person Zoom Viewing at TMC: "Contemplations of the Heart" with Cynthia Gran - February 13\, 2025
DESCRIPTION:Thursday Satsang Via Zoom and In-Person Zoom Viewing at TMC – February 13\, 2025\n   “Contemplations of the Heart” with Cynthia Gran DAy\, E-RYT 500\, YACEP\n7:00-8:30 p.m.\n\n	\n\n\n5:30-6:45 p.m.: Gentle Hatha Yoga with Michael Snodgrass\n7:00-7:30 p.m. Guided Meditation with Swami Ma  Radha Bharati\n7:30-8:30 p.m. “Comtemplations of the Heart” with Cynthia Gran\n8:30 p.m.: Evening Prayers \nMuch has been said and written about love. Swami Rama said\, “Love is the most ancient traveler.” He also said\, “I involve myself in endless deception if I try to name love…I have come to the conclusion that one should simply cherish that love is the voice from the unknown to the known and then to the unknown again.” \nLet us cherish some inspirational voices. Join us for an evening of spiritually uplifting poetry\, prayers and heartfelt readings. \nCynthia Gran\, DAy\, E-RYT 500\, YACEP\,  has been treading the Himalayan path since the late 1970s. Cynthia and her husband\, Gary\, DAy. CYT\, first attended the old Glenview Center in Illinois where they met and have served the tradition in various capacities over the years. They are both certified yoga teachers and Ayurvedic educators. They have published more than eighty articles on yoga\, meditation and Ayurveda.  They are currently in Minnesota for the summer  teaching at The Meditation Center. They enjoy desert gardening\, cooking and hiking at their home in Tucson\, Arizona.
URL:https://themeditationcenter.org/class/thursday-satsang-via-zoom-and-in-person-zoom-viewing-at-tmc-contemplations-of-the-heart-with-cynthia-gran-february-13-2025/
CATEGORIES:Thursday Satsangs
ATTACH;FMTTYPE=image/jpeg:https://themeditationcenter.org/wp-content/uploads/2023/05/Cynthia_and_Gary_Gran-2.jpeg
END:VEVENT
END:VCALENDAR