BEGIN:VCALENDAR
VERSION:2.0
PRODID:-//The Meditation Center - ECPv6.15.20//NONSGML v1.0//EN
CALSCALE:GREGORIAN
METHOD:PUBLISH
X-ORIGINAL-URL:https://themeditationcenter.org
X-WR-CALDESC:Events for The Meditation Center
REFRESH-INTERVAL;VALUE=DURATION:PT1H
X-Robots-Tag:noindex
X-PUBLISHED-TTL:PT1H
BEGIN:VTIMEZONE
TZID:America/Chicago
BEGIN:DAYLIGHT
TZOFFSETFROM:-0600
TZOFFSETTO:-0500
TZNAME:CDT
DTSTART:20240310T080000
END:DAYLIGHT
BEGIN:STANDARD
TZOFFSETFROM:-0500
TZOFFSETTO:-0600
TZNAME:CST
DTSTART:20241103T070000
END:STANDARD
BEGIN:DAYLIGHT
TZOFFSETFROM:-0600
TZOFFSETTO:-0500
TZNAME:CDT
DTSTART:20250309T080000
END:DAYLIGHT
BEGIN:STANDARD
TZOFFSETFROM:-0500
TZOFFSETTO:-0600
TZNAME:CST
DTSTART:20251102T070000
END:STANDARD
BEGIN:DAYLIGHT
TZOFFSETFROM:-0600
TZOFFSETTO:-0500
TZNAME:CDT
DTSTART:20260308T080000
END:DAYLIGHT
BEGIN:STANDARD
TZOFFSETFROM:-0500
TZOFFSETTO:-0600
TZNAME:CST
DTSTART:20261101T070000
END:STANDARD
END:VTIMEZONE
BEGIN:VEVENT
DTSTART;TZID=America/Chicago:20250220T173000
DTEND;TZID=America/Chicago:20250220T184500
DTSTAMP:20260420T201814
CREATED:20240129T220153Z
LAST-MODIFIED:20240129T220153Z
UID:21886-1740072600-1740077100@themeditationcenter.org
SUMMARY:Thursday Evening In Person:  Gentle Hatha Yoga (Drop In) 5:30-6:45 p.m. Everyone is Welcome
DESCRIPTION:Thursday Evening In Person Gentle Hatha Yoga (Drop In)\n\n\n\n\n\n\n\n\n\n\n\n\nTime:  5:30 p.m. to 6:45 p.m. \nInstructors: Varies…Chris Young\, Michael Snodgrass\, Sunita Gangopadhyay\, Susan Guthrie\, Eric Ness \nFees: $10.00/class \nThursday Evening DROP-IN HATHA CLASSES (ONGOING)\nEveryone is Welcome! These classes are for all levels. Instructors excel at leading the class in relaxation\, gentle asana (yoga positions) and pranayama (breath). Relieve stress\, achy joints\, improve balance at all levels and increase your sense of well being. No registration necessary\, just show up.
URL:https://themeditationcenter.org/class/thursday-evening-in-person-gentle-hatha-yoga-drop-in-530-645-p-m-everyone-is-welcome/2025-02-20/
CATEGORIES:Classes,Hatha Yoga
ATTACH;FMTTYPE=image/jpeg:https://themeditationcenter.org/wp-content/uploads/2023/06/Yoga_Intl_Day_2023_Students_in_postures.jpg
END:VEVENT
BEGIN:VEVENT
DTSTART;TZID=America/Chicago:20250220T190000
DTEND;TZID=America/Chicago:20250220T203000
DTSTAMP:20260420T201814
CREATED:20250211T224523Z
LAST-MODIFIED:20250211T224906Z
UID:22171-1740078000-1740083400@themeditationcenter.org
SUMMARY:Thursday Satsang Via Zoom and In-Person Viewing at TMC: Kirtan with "Shakti and Bhakti" led by Riley Slate and Ranjani Powers - February 20\, 2025
DESCRIPTION:Thursday Satsang Via Zoom and In-Person Viewing of Zoom at TMC\nKirtan with “Shakti and Bhakti” led by Riley Slate and Ranjani Powers\nFebruary 20\, 2025\n7:00-8:30 p.m.\n\n	\n\n\n5:30-6:45 p.m.: Gentle Hatha Yoga\n7:00-7:30 p.m: Guided Meditation\n7:30-8:30 p.m.: Kirtan with “Shakti and Bhakti”  led by Riley Slate and Ranjani Powers\n8:30 p.m.: Evening Prayers\n\n	\n\n\nJoin “Shakti and Bhakt”i with Ranjani and Riley for an evening of devotional singing and chanting. \nShakti & Bhakti is an Ohio-based kirtan group that leads gatherings in Dayton and surrounding areas. Comprised of passionate yoga practitioners\, the band seeks to share their deep love for chant with fellow kirtan enthusiasts\, spiritual seekers\, and music lovers. Kirtans are more than just call-and-response chanting from India; they embody the essence of satsang\, the company of truth. Together\, we sing the name of God with love and devotion. We aim to have our kirtans serve as gatherings that nourish the mind and lift the spirit\, fostering unity through sound and bhakti (love & devotion). The name “Shakti & Bhakti” captures our mission: Shakti symbolizes the power to be and become\, while Bhakti signifies the path of intense love and devotion. Through this journey\, we cultivate a profound love for God (our Inner Dweller and the Inner Dweller of all)\, leading to a beautiful unity that transcends diversity. Our music beautifully blends traditional bhajans\, call-and-response chants\, and original compositions\, weaving Sanskrit mantras into meditative soundscapes. Each kirtan begins with a moment of silence\, inviting us to unite as one voice in harmony and devotion. \nRiley Slate was born in Cleveland\, Ohio\, but moved to Dayton at a young age. He was introduced to music by his grandfather and father\, which inspired him to play the guitar\, bass\, and piano. At 16\, he began his first paying gig as a musician\, passionately pursuing this path\, although he did have a brief four-hour stint in construction. Riley holds a performance degree from Wright State University and a jazz performance degree from the University of North Texas. Seven years ago\, he faced uncertainty and dissatisfaction in his life until he reconnected with his childhood friend\, Ranjani. This reconnection sparked positive changes in his life and eventually led him back to yoga\, initiating his journey toward self-love and compassion for others. He reflects\, “When I finally let go of all I was holding on to\, everything began to fall into place.” Although Riley only learned the term “kirtan” five years ago\, he has embraced it wholeheartedly. He loves knowing that this music has the potential to create a space for healing for himself and others. \nRanjani Powers has dedicated her life to yoga but never anticipated incorporating kirtan into her journey. Although she has always enjoyed singing—mainly at home and occasionally while gardening—joining a “kirtan band” was not part of her plans. Over the past three years\, the Universe has presented her with life-changing decisions\, and despite the challenges\, she has embraced them. This shift has transformed her understanding of how she serves the tradition\, leading to personal growth she never imagined. Throughout difficult times\, Ranjani has always felt guided and protected. Rejecting this new phase would feel like dismissing a precious gift and an opportunity to serve in a way she never envisioned. Integrating kirtan into her yoga practice has become a highlight\, and she loves collaborating with Riley on new chants. While this journey was unexpected\, she fully embraces it and is committed to giving her best.
URL:https://themeditationcenter.org/class/thursday-satsang-via-zoom-and-in-person-viewing-at-tmc-kirtan-with-shakti-and-bhakti-led-by-riley-slate-and-ranjani-powers-february-20-2025/
CATEGORIES:Thursday Satsangs
ATTACH;FMTTYPE=image/jpeg:https://themeditationcenter.org/wp-content/uploads/2025/02/StockCake-Ancient-Music-Collection_1739313763-e1739313882883.jpg
END:VEVENT
END:VCALENDAR