BEGIN:VCALENDAR
VERSION:2.0
PRODID:-//The Meditation Center - ECPv6.15.20//NONSGML v1.0//EN
CALSCALE:GREGORIAN
METHOD:PUBLISH
X-WR-CALNAME:The Meditation Center
X-ORIGINAL-URL:https://themeditationcenter.org
X-WR-CALDESC:Events for The Meditation Center
REFRESH-INTERVAL;VALUE=DURATION:PT1H
X-Robots-Tag:noindex
X-PUBLISHED-TTL:PT1H
BEGIN:VTIMEZONE
TZID:America/Chicago
BEGIN:DAYLIGHT
TZOFFSETFROM:-0600
TZOFFSETTO:-0500
TZNAME:CDT
DTSTART:20240310T080000
END:DAYLIGHT
BEGIN:STANDARD
TZOFFSETFROM:-0500
TZOFFSETTO:-0600
TZNAME:CST
DTSTART:20241103T070000
END:STANDARD
BEGIN:DAYLIGHT
TZOFFSETFROM:-0600
TZOFFSETTO:-0500
TZNAME:CDT
DTSTART:20250309T080000
END:DAYLIGHT
BEGIN:STANDARD
TZOFFSETFROM:-0500
TZOFFSETTO:-0600
TZNAME:CST
DTSTART:20251102T070000
END:STANDARD
BEGIN:DAYLIGHT
TZOFFSETFROM:-0600
TZOFFSETTO:-0500
TZNAME:CDT
DTSTART:20260308T080000
END:DAYLIGHT
BEGIN:STANDARD
TZOFFSETFROM:-0500
TZOFFSETTO:-0600
TZNAME:CST
DTSTART:20261101T070000
END:STANDARD
END:VTIMEZONE
BEGIN:VEVENT
DTSTART;TZID=America/Chicago:20250323T060000
DTEND;TZID=America/Chicago:20250323T201500
DTSTAMP:20260423T165605
CREATED:20250226T222645Z
LAST-MODIFIED:20250226T222645Z
UID:22262-1742709600-1742760900@themeditationcenter.org
SUMMARY:In-Person Wudang Mountain Tai Chi and Five Element Healing for Health and Longevity- Sunday Morning at The Meditation Center
DESCRIPTION:Sunday Morning at The Meditation Center\nMarch 23\, 2025\n6:00-7:00 a.m.: In-Person Silent Meditation at TMC\n7:00-8:15 a.m.: In-Person Tai Chi with Nikki Strong at TMC\n  \nWudang Mountain Tai Chi and  Five Element Healing for Health and Longevity\nSundays:  March 23\,  April 6\, May 4\, 2025 – in person at TMC\nApril 27\, 2025 – via Zoom\n7:00 am – 8:15 am\nThis a “no fee” event\nWe will explore the graceful healing movements of Wudang Tai Chi and nourishing longevity promoting practices to balance and strengthen the 5 Elements of the human body\, helping preparing our bodies for the transition from the end of Wintery cold… to the beginnings of Summery warmth. \nAs an extra bonus… at the very end of class we will engage in a subtle body relaxation exercise to help us integrate into our bodies the healing work we have done and to relax into focused awareness in order to best greet the new day… rested and renewed. \nThis class is open to all. \nNo previous experience necessary
URL:https://themeditationcenter.org/class/in-person-wudang-mountain-tai-chi-and-five-element-healing-for-health-and-longevity-sunday-morning-at-the-meditation-center-3/
CATEGORIES:Classes,Other
ATTACH;FMTTYPE=image/jpeg:https://themeditationcenter.org/wp-content/uploads/2023/11/TortoiseQigong-e1740608466143.jpeg
END:VEVENT
BEGIN:VEVENT
DTSTART;TZID=America/Chicago:20250323T082000
DTEND;TZID=America/Chicago:20250323T093000
DTSTAMP:20260423T165605
CREATED:20240109T172542Z
LAST-MODIFIED:20260203T223851Z
UID:22040-1742718000-1742722200@themeditationcenter.org
SUMMARY:Via Zoom – Sunday Morning Guided Meditation with Swami Radha Bharati
DESCRIPTION: Via Zoom – Sunday Morning Guided Meditation\nwith Swami Radha Bharati\n8:20 A.M. – 9:15 A.M.\nJoin for Morning Prayers: 8:20-8:30 a.m.\nSunday Morning Meditation: 8:30-9:15 a.m.\n\nJoin Swami Radha Bharati on Zoom for a guided meditation on Sunday from 8:20 a.m. – 9:15 a.m.
URL:https://themeditationcenter.org/class/via-zoom-sunday-morning-guided-meditation-with-swami-radha-bharati-2-2024-06-02/2025-03-23/
CATEGORIES:Sunday Morning Meditation
ATTACH;FMTTYPE=image/jpeg:https://themeditationcenter.org/wp-content/uploads/2019/08/Swami_Radha_2_2018_wp-300x217.jpg
END:VEVENT
BEGIN:VEVENT
DTSTART;TZID=America/Chicago:20250323T100000
DTEND;TZID=America/Chicago:20250323T113000
DTSTAMP:20260423T165605
CREATED:20240110T003849Z
LAST-MODIFIED:20250220T002619Z
UID:22110-1742724000-1742729400@themeditationcenter.org
SUMMARY:Sunday Book Study Group Via Zoom with Swami Ma Radha Bharati\, Michael Smith\, and Emilio Bettaglio
DESCRIPTION:Sunday Book Study Group Via Zoom\nwith Swami Ma Radha Bharati\, Michael Smith\, and Emilio Bettaglio\n10:00 a.m. – 11:30 a.m.\nTime:  10:00 a.m. – 11:30 a.m. \nSwami Radha\,  Emilio\, and Michael will continue the study of spiritual topics in 2025 The Book Study Group is reading “A Call to Humanity” (old title) or “Spirituality: Transformation Within and Without” (new title)  by Swami Rama.  Join us for very interesting discussions. Everyone is welcome. \n  \n 
URL:https://themeditationcenter.org/class/sunday-book-study-group-satsang-via-zoom-with-swami-ma-radha-bharati-michael-smith-and-jim-nelson-2024-02-25-2025-03-23/
CATEGORIES:Sunday Satsangs
ATTACH;FMTTYPE=image/jpeg:https://themeditationcenter.org/wp-content/uploads/2017/07/Swami_Veda_and_Swami_Rama_wp-1-1.jpg
END:VEVENT
BEGIN:VEVENT
DTSTART;TZID=America/Chicago:20250323T143000
DTEND;TZID=America/Chicago:20250323T160000
DTSTAMP:20260423T165605
CREATED:20250225T223634Z
LAST-MODIFIED:20250305T180927Z
UID:22275-1742740200-1742745600@themeditationcenter.org
SUMMARY:In-Person Meditation III: Mantra: The Key to Deeper Meditation (Prereq:  Meditation II and Meditation I) with Jennifer Manion
DESCRIPTION:In-Person Meditation III\n“Mantra: The Key to Deeper Meditation”\nwith Jennifer Manion\n(Prereq:  Meditation II and Meditation I)\n  \nSundays: March 9\, 16\, 23\, 30 and April 6\, 2025\n(6th session will be determined later )\n2:30 p.m. – 4:00 p.m\nInstructor: Jennifer Manion\nFee: $85\nMeditation III fee includes an 11 CD or mp3 files series \nRegister here.\nLearn the science of mantra in meditation and how it is a tool to help focus your mind and move through blocks to a deeper meditative experience. \nThis class opens the opportunity for the student to receive a personal mantra. We will also cover the use of a mala\, japa practice and akandajapa\, as well as what to expect during mantra initiation. The cost of the class includes the CDs/mp3 files of Swami Veda’s “Mantra and Meditation” lectures. \nJennifer found the Meditation Center in 2007 and was initiated into the Himalayan tradition in 2008 by Pandit Hari Shankar Dabral. She has taught hatha as well as Meditation I\, II and III at the center and in studios in the Twin Cities\, and is continuing on with the 600-hr teacher training program of the Association of Himalayan Yoga Meditation Societies International. She has served on the center’s board. \nJennifer earned her MA and PhD at the Johns Hopkins University\, and has taught philosophy and women’s studies to college students in Minnesota and the East Coast. She has a particular interest in mantra practice and science\, as well as the metaphysics\, epistemology\, and philosophy of language underlying ancient Yogic texts.
URL:https://themeditationcenter.org/class/in-person-meditation-iii-mantra-the-key-to-deeper-meditation-prereq-meditation-ii-and-meditation-i-with-jennifer-manion/2025-03-23/
CATEGORIES:Classes,Meditation
ATTACH;FMTTYPE=image/jpeg:https://themeditationcenter.org/wp-content/uploads/2016/07/mala-stone-large-1-1.jpg
END:VEVENT
END:VCALENDAR