BEGIN:VCALENDAR
VERSION:2.0
PRODID:-//The Meditation Center - ECPv6.15.20//NONSGML v1.0//EN
CALSCALE:GREGORIAN
METHOD:PUBLISH
X-WR-CALNAME:The Meditation Center
X-ORIGINAL-URL:https://themeditationcenter.org
X-WR-CALDESC:Events for The Meditation Center
REFRESH-INTERVAL;VALUE=DURATION:PT1H
X-Robots-Tag:noindex
X-PUBLISHED-TTL:PT1H
BEGIN:VTIMEZONE
TZID:America/Chicago
BEGIN:DAYLIGHT
TZOFFSETFROM:-0600
TZOFFSETTO:-0500
TZNAME:CDT
DTSTART:20240310T080000
END:DAYLIGHT
BEGIN:STANDARD
TZOFFSETFROM:-0500
TZOFFSETTO:-0600
TZNAME:CST
DTSTART:20241103T070000
END:STANDARD
BEGIN:DAYLIGHT
TZOFFSETFROM:-0600
TZOFFSETTO:-0500
TZNAME:CDT
DTSTART:20250309T080000
END:DAYLIGHT
BEGIN:STANDARD
TZOFFSETFROM:-0500
TZOFFSETTO:-0600
TZNAME:CST
DTSTART:20251102T070000
END:STANDARD
BEGIN:DAYLIGHT
TZOFFSETFROM:-0600
TZOFFSETTO:-0500
TZNAME:CDT
DTSTART:20260308T080000
END:DAYLIGHT
BEGIN:STANDARD
TZOFFSETFROM:-0500
TZOFFSETTO:-0600
TZNAME:CST
DTSTART:20261101T070000
END:STANDARD
END:VTIMEZONE
BEGIN:VEVENT
DTSTART;TZID=America/Chicago:20250517T100000
DTEND;TZID=America/Chicago:20250517T123000
DTSTAMP:20260420T120413
CREATED:20250501T223055Z
LAST-MODIFIED:20250501T223055Z
UID:22360-1747476000-1747485000@themeditationcenter.org
SUMMARY:"Bountiful Bouquets of Love Contemplations" Spring Fundraiser 2025  Saturday: May 17\, 2025\, 10:00 a.m - 12:30 p.m.
DESCRIPTION:Mark Your Calendars…\n\n“Bountiful Bouquets of Love Contemplations” Spring Fundraiser 2025\nPlease join your Meditation Community on Saturday\, May 17\, 10:00 a.m – 12:30 p.m.\nfor the Center’s Spring Open House!\nOur goal this spring is $ 75\,000!!!\nThe weekend will be full of wonderful opportunities to celebrate Spring season.\nFundraiser Schedule\nMeditation with Swami Radha – 10:00 a.m.\nChildren’s Hatha Yoga with Radhya and Soma Means – 10:30-11:00 a.m.\nHatha Yoga with Cynthia Gran – 10:30 a.m.- Noon\nBook sale! \nDelicious lunch and snacks!\nCome to TMC and stop by the Northeast Farmers Market  across the street at St. Boniface’s parking lot or visit the Art-A-Whirl events throughout the NE Minneapolis’ Art District. \nHatha Yoga    Music    Stories     Book Sale  \n      Meditation  & Merriment! \n   Tea and  Community!\n\n\nEveryone is Welcome!  \nBring Family and Fiends \nLove Serve Remember\nDonate Here to TMC!\nOr donate through PayPal.
URL:https://themeditationcenter.org/class/bountiful-bouquets-of-love-contemplations-spring-fundraiser-2025-saturday-may-17-2025-1000-a-m-1230-p-m/
CATEGORIES:Special Events
ATTACH;FMTTYPE=image/jpeg:https://themeditationcenter.org/wp-content/uploads/2025/05/StockCake-Butterflies-in-Bloom_1746021070-e1746138638850.jpg
END:VEVENT
BEGIN:VEVENT
DTSTART;TZID=America/Chicago:20250517T103000
DTEND;TZID=America/Chicago:20250517T114500
DTSTAMP:20260420T120413
CREATED:20241118T193017Z
LAST-MODIFIED:20250501T223649Z
UID:22096-1747477800-1747482300@themeditationcenter.org
SUMMARY:As part of the Spring Fundraiser... Join Cynthia Gran In Person at The Meditation Center (TMC) for Transformative Himalayan Yoga Classes
DESCRIPTION:Participate as part of TMC’s Spring Fundraiser…\nJoin Cynthia Gran In Person at The Meditation Center (TMC) for Transformative Himalayan Yoga Classes\nDrop in on any Saturday for class. \nExperience the Unique Power of Himalayan Yoga \nAs taught by the yogis from the Himalayas— Himalayan Yoga combines gentle postures\, breathwork\, and mindful relaxation techniques to connect body\, mind\, and spirit resulting in healing from within. Whether you’re new or experienced\, this practice will leave you feeling relaxed\, focused\, and rejuvenated. \nBenefits of Himalayan Yoga: \n\n🌿 Enhanced flexibility\, balance\, and holistic strength\n🌿 Tools/Techniques to cope with stress\, anxiety and bring mental clarity\n🌿 Energizing breathwork to uplift and restore overall health\n\n🕒 Class Schedule: Every Saturday | 10:30 – 11:45 AM. Starting November 23\, 2024. \n💲 Pricing: Heartfelt donations ($10 suggested or pay what your heart desires and what you can…). All donations will go to support The Meditation Center. \n📍 Location\, parking & other essentials: The Meditation Center (TMC)\, 631 University Avenue NE\, Minneapolis\, MN 55413. Free parking is available across the street from TMC in the Church’s parking lot. Bring a water bottle. Yoga mat\, pillows and blankets provided. Please arrive 5 minutes early and get comfortable in “the Hall of Tradition” on the main floor. No registration needed. \nNo prior experience needed – “Come as you are\, and discover the calm within”
URL:https://themeditationcenter.org/class/starting-november-23rd-join-sunita-bhardwaj-gangopadhyay-in-person-at-the-meditation-center-tmc-for-transformative-himalayan-yoga-classes-2025-05-17/
CATEGORIES:Classes,Hatha Yoga
ATTACH;FMTTYPE=image/jpeg:https://themeditationcenter.org/wp-content/uploads/2023/05/Cynthia_and_Gary_Gran-2.jpeg
END:VEVENT
END:VCALENDAR