BEGIN:VCALENDAR
VERSION:2.0
PRODID:-//The Meditation Center - ECPv6.15.20//NONSGML v1.0//EN
CALSCALE:GREGORIAN
METHOD:PUBLISH
X-ORIGINAL-URL:https://themeditationcenter.org
X-WR-CALDESC:Events for The Meditation Center
REFRESH-INTERVAL;VALUE=DURATION:PT1H
X-Robots-Tag:noindex
X-PUBLISHED-TTL:PT1H
BEGIN:VTIMEZONE
TZID:America/Chicago
BEGIN:DAYLIGHT
TZOFFSETFROM:-0600
TZOFFSETTO:-0500
TZNAME:CDT
DTSTART:20240310T080000
END:DAYLIGHT
BEGIN:STANDARD
TZOFFSETFROM:-0500
TZOFFSETTO:-0600
TZNAME:CST
DTSTART:20241103T070000
END:STANDARD
BEGIN:DAYLIGHT
TZOFFSETFROM:-0600
TZOFFSETTO:-0500
TZNAME:CDT
DTSTART:20250309T080000
END:DAYLIGHT
BEGIN:STANDARD
TZOFFSETFROM:-0500
TZOFFSETTO:-0600
TZNAME:CST
DTSTART:20251102T070000
END:STANDARD
BEGIN:DAYLIGHT
TZOFFSETFROM:-0600
TZOFFSETTO:-0500
TZNAME:CDT
DTSTART:20260308T080000
END:DAYLIGHT
BEGIN:STANDARD
TZOFFSETFROM:-0500
TZOFFSETTO:-0600
TZNAME:CST
DTSTART:20261101T070000
END:STANDARD
END:VTIMEZONE
BEGIN:VEVENT
DTSTART;TZID=America/Chicago:20250622T080000
DTEND;TZID=America/Chicago:20250622T233000
DTSTAMP:20260423T230743
CREATED:20250527T183143Z
LAST-MODIFIED:20250527T183143Z
UID:22450-1750579200-1750635000@themeditationcenter.org
SUMMARY:40-Day Spiritual Festival 2025 from June 1- July 10 (Guru Purnima)\, 2025
DESCRIPTION:40-Day Spiritual Festival 2025 from June 1- July 10 (Guru Purnima)\, 2025\nRead here “42nd Annual 40-Days Spiritual Festival\, June 1-July 10\, 2025″ courtesy of AHYMSIN.org. \nThe festival is 40-days of purification of all aspects of our being through chosen practices. \nSome options for practices are : \nBegin or increase the Sangha “Akhanda-mandala mantra” japa to honor Gurudev Swami Rama \nBegin or increase the Sangha Ganesha mantra japa…practice embodying Ganesha in stillness\, in his stillness. \nDecrease screen time\, especially in the evening; put down the phone\, turn off the computer. \nFind ways to honor Earth Mother: walk in silence in the woods\, feed the wild animals\, nourish the ants\, pick up trash in nature\, contemplate one of the five elements in nature. \nFast one day a week\, could be partial fasting or simply eliminating one preferred food item. \nContemplate that which helps you be still. \nDo self-study and journal your experiences. \nStudy “Sutra 1.33\,” the Brahma Viharas\, especially Upeksha (equanimity in the face of evil.
URL:https://themeditationcenter.org/class/40-day-spiritual-festival-2025-from-june-1-july-10-guru-purnima-2025/2025-06-22/
CATEGORIES:Special Events
ATTACH;FMTTYPE=image/jpeg:https://themeditationcenter.org/wp-content/uploads/2015/04/monk-feet-rosepetals-1-1.jpg
END:VEVENT
BEGIN:VEVENT
DTSTART;TZID=America/Chicago:20250622T082000
DTEND;TZID=America/Chicago:20250622T093000
DTSTAMP:20260423T230743
CREATED:20240109T172542Z
LAST-MODIFIED:20240109T172542Z
UID:22053-1750580400-1750584600@themeditationcenter.org
SUMMARY:Via Zoom – Sunday Morning Guided Meditation with Swami Radha Bharati
DESCRIPTION: Via Zoom – Sunday Morning Guided Meditation\nwith Swami Radha Bharati\n8:20 A.M. – 9:15 A.M.\nJoin for Morning Prayers: 8:20-8:30 a.m.\nSunday Morning Meditation: 8:30-9:15 a.m.\n\nJoin Swami Radha Bharati on Zoom for a guided meditation on Sunday from 8:20 a.m. – 9:15 a.m.
URL:https://themeditationcenter.org/class/via-zoom-sunday-morning-guided-meditation-with-swami-radha-bharati-2-2024-06-02/2025-06-22/
CATEGORIES:Sunday Morning Meditation
ATTACH;FMTTYPE=image/jpeg:https://themeditationcenter.org/wp-content/uploads/2019/08/Swami_Radha_2_2018_wp-300x217.jpg
END:VEVENT
BEGIN:VEVENT
DTSTART;TZID=America/Chicago:20250622T100000
DTEND;TZID=America/Chicago:20250622T113000
DTSTAMP:20260423T230743
CREATED:20250527T140453Z
LAST-MODIFIED:20250626T195610Z
UID:22407-1750586400-1750591800@themeditationcenter.org
SUMMARY:Postponed - Special Sunday Book Club Study Group Session via Zoom : A Book Report with Susana Matos Allongo - "Cave in the Snow"by Tenzin Palmo  - June 22\, 2025
DESCRIPTION:Postponed …stay tuned for the new date.\nSpecial Sunday Book Club\nStudy Group Session via Zoom with Susana Matos Allongo\nJune 22\, 2025\n10:00-11:30 a.m.\nSusana will present a book report on “Cave in the Snow” by Tenzin Palmo (1998)\n  \n\n\n\n\n\n\n\n\n\n\n\n\n\n\n\n\n\n\n\n\nThis is the incredible story of Tenzin Palmo\, a remarkable woman who spent 12 years alone in a cave 13\,000 feet up in the Himalayas. \nAt the age of 20\, Diane Perry\, looking to fill a void in her life\, entered a monastery in India — the only woman amongst hundreds of monks — and began her battle against the prejudice that had excluded women from enlightenment for thousands of years. \nThirteen years later\, Diane Perry a.k.a. Tenzin Palmo secluded herself in a remote cave 13\,000 feet up in the Himalayas\, where she stayed for twelve years. In her mountain retreat\, she faced unimaginable cold\, wild animals\, floods\, snow and rockfalls\, grew her own food and slept in a traditional wooden meditation box\, three feet square. She never laid down. \nTenzin emerged from the cave with a determination to build a convent in northern India to revive the Togdenma lineage\, a long-forgotten female spiritual elite. \nShe traveled around the world to find support for her cause\, meeting with spiritual leaders from the Pope to Desmond Tutu. \nShe agreed to tell her story only to Vicky Mackenzie and a portion of the royalties from this book went to help the completion of her convent. (Synopsis of book written by Michael Smith)
URL:https://themeditationcenter.org/class/on-summer-break-the-sunday-morning-book-study-group-with-swami-ma-radha-michael-smith-and-emilio-bettaglio-2025-06-22/
CATEGORIES:Sunday Satsangs
ATTACH;FMTTYPE=image/jpeg:https://themeditationcenter.org/wp-content/uploads/2025/05/71vi3Rg5BGS._AC_UL348_SR348348_.jpg
END:VEVENT
END:VCALENDAR