BEGIN:VCALENDAR
VERSION:2.0
PRODID:-//The Meditation Center - ECPv6.15.20//NONSGML v1.0//EN
CALSCALE:GREGORIAN
METHOD:PUBLISH
X-ORIGINAL-URL:https://themeditationcenter.org
X-WR-CALDESC:Events for The Meditation Center
REFRESH-INTERVAL;VALUE=DURATION:PT1H
X-Robots-Tag:noindex
X-PUBLISHED-TTL:PT1H
BEGIN:VTIMEZONE
TZID:America/Chicago
BEGIN:DAYLIGHT
TZOFFSETFROM:-0600
TZOFFSETTO:-0500
TZNAME:CDT
DTSTART:20250309T080000
END:DAYLIGHT
BEGIN:STANDARD
TZOFFSETFROM:-0500
TZOFFSETTO:-0600
TZNAME:CST
DTSTART:20251102T070000
END:STANDARD
BEGIN:DAYLIGHT
TZOFFSETFROM:-0600
TZOFFSETTO:-0500
TZNAME:CDT
DTSTART:20260308T080000
END:DAYLIGHT
BEGIN:STANDARD
TZOFFSETFROM:-0500
TZOFFSETTO:-0600
TZNAME:CST
DTSTART:20261101T070000
END:STANDARD
BEGIN:DAYLIGHT
TZOFFSETFROM:-0600
TZOFFSETTO:-0500
TZNAME:CDT
DTSTART:20270314T080000
END:DAYLIGHT
BEGIN:STANDARD
TZOFFSETFROM:-0500
TZOFFSETTO:-0600
TZNAME:CST
DTSTART:20271107T070000
END:STANDARD
END:VTIMEZONE
BEGIN:VEVENT
DTSTART;TZID=America/Chicago:20260219T113000
DTEND;TZID=America/Chicago:20260219T140000
DTSTAMP:20260421T050612
CREATED:20260210T231745Z
LAST-MODIFIED:20260212T021123Z
UID:23063-1771500600-1771509600@themeditationcenter.org
SUMMARY:A Special Memorial Service for Jim Nelson Will Be Held at TMC on Thursday\, February 19\, 2026 at 11:30 a.m.  The service will also be Zoomed.
DESCRIPTION:[vc_row][vc_column][vc_column_text css=””] \nJim Nelson\, Beloved  Teacher and Friend\nWith immense gratitude for all that he offered the Himalayan Tradition and the Meditation Center  we note the passing of Jim on February 6\, 2026.  May Jim’s sacred journey be guided by the radiance and brilliance of the Divine Light. \nEveryone is invited to participate in offering the Gayatri mantra for Jim on his sacred journey home. Through February 18th\, recite as many repetitions of the Gayatri mantra as you wish. \n\n	\n\n\nA special Memorial Service will be held at TMC on Thursday\, February 19\, 2026.\nEveryone is lovingly invited\n\n	\n\n\n11:30 a.m. Memorial Service in Hall of The Tradition.\n1:00 p.m. Catered Vegetarian Lunch in Dining Room \nand Hall of The Tradition.\n\n	\n\n\nJim held Masters degrees in Education and Counseling Psychology. He worked as a consulting psychologist and therapist for Family Life Mental Health Center in Coon Rapids\, MN for almost fifteen years\, while teaching psychology at Blaine High School. Jim received the Medtronic Outstanding Teacher Award in 1997 and was selected to the “Who’s Who” of American teachers. He served five terms on Blaine City Council championing environmental causes\, and served on the Anoka County Mental Health Advisory Board for several years. He was in private practice and worked until his retirement\, at “Transition Plus “as a psychologist\, serving students with learning disabilities and mental health issues.  For almost 20 years he was on the Meditation Center’s Board of Directors serving as President or Chairman of the Board for most of that time. Jim taught yoga and meditation at the Meditation Center for over 25 years. He served as Vice-President of AHYMS-A and was on the executive committee of AHYMSIN—the International organization dedicated to spreading the teachings of Swami Rama and the Himalayan Tradition. He traveled broadly in North America speaking at conferences on a variety of psychological and philosophical topics. He wrote a book—”Running on Empty”–an assessment of the destructive changes and challenges that have eroded the well being of adolescents and young adults. \nYou are invited to a Zoom meeting. \nWhen: Feb 19\, 2026 11:30 AM Central Time (US and Canada) \nRegister in advance for this meeting: \nhttps://us02web.zoom.us/meeting/register/n7sVT8I0QNqKlGnHu9NIMQ \nAfter registering\, you will receive a confirmation email containing information about joining the meeting.[/vc_column_text][/vc_column][/vc_row][vc_row][vc_column][vc_column_text css=””][/vc_column_text][/vc_column][/vc_row][vc_row][vc_column][vc_column_text css=””] \nGayatri Mantra with Translation\nॐ तत्सवितुर्वरेण्यं भर्गो देवस्य धीमहि\nधियो यो नः प्रचोदयात्\nOm Bhūr Bhuvaḥ Svaḥ; Tat savitur vareṇyam\nBhargo devasya dhīmahi; Dhiyo yo naḥ prachodayāt\n  \nOm. In Earth\, Sky and Heaven\, I do meditate on\, and sustain in myself\, the beautiful brilliance of God who shines in the splendor of the sun. (Swami Veda) \nOm. Thou Supreme Lord\, the Source of Existence\, Intelligence and Bliss! The creator of the Universe! May we prove worthy of Thy choice and acceptance! May we meet Thy glorious grace! May Thou vouchsafe an unerring guidance to our intellects and may we follow Thy lead unto Righteousness. (Swami Rama’s plaque) \n[/vc_column_text][/vc_column][/vc_row]
URL:https://themeditationcenter.org/class/a-special-memorial-service-for-jim-nelson-will-be-held-at-tmc-on-thursday-february-19-2026/
CATEGORIES:Special Events
ATTACH;FMTTYPE=image/jpeg:https://themeditationcenter.org/wp-content/uploads/2026/02/JimNelson2.jpg
END:VEVENT
BEGIN:VEVENT
DTSTART;TZID=America/Chicago:20260219T173000
DTEND;TZID=America/Chicago:20260219T184500
DTSTAMP:20260421T050612
CREATED:20260102T231204Z
LAST-MODIFIED:20260312T154043Z
UID:22979-1771522200-1771526700@themeditationcenter.org
SUMMARY:Thursday Evening In Person: Gentle Hatha Yoga (Drop In) 5:30-6:45 p.m. Everyone is Welcome
DESCRIPTION:[vc_row][vc_column][vc_column_text css=””] \n\nThursday Evening In Person Gentle Hatha Yoga (Drop In)\n\n\n\n\n\n\n\n\n\n\n\n\nTime:  5:30 p.m. to 6:45 p.m. \nInstructors: Varies…Chris Young\, Michael Snodgrass\, Sunita Gangopadhyay\, Susan Guthrie\, Eric Ness \nFees: $10.00/class \nThursday Evening DROP-IN HATHA CLASSES (ONGOING)\nEveryone is Welcome! These classes are for all levels. Instructors excel at leading the class in relaxation\, gentle asana (yoga positions) and pranayama (breath). Relieve stress\, achy joints\, improve balance at all levels and increase your sense of well being. No registration necessary\, just show up. \n\n\n\n\n\n\n[/vc_column_text][/vc_column][/vc_row]
URL:https://themeditationcenter.org/class/thursday-evening-in-person-gentle-hatha-yoga-drop-in-530-645-p-m-everyone-is-welcome-5/2026-02-19/
CATEGORIES:Classes,Hatha Yoga
ATTACH;FMTTYPE=image/jpeg:https://themeditationcenter.org/wp-content/uploads/2023/06/Yoga_Intl_Day_2023_Students_in_postures.jpg
END:VEVENT
END:VCALENDAR